BEGIN:VCALENDAR
VERSION:2.0
PRODID:-//Königstein - Erleben - ECPv6.15.19//NONSGML v1.0//EN
CALSCALE:GREGORIAN
METHOD:PUBLISH
X-WR-CALNAME:Königstein - Erleben
X-ORIGINAL-URL:https://xn--knigstein-erleben-zzb.de
X-WR-CALDESC:Veranstaltungen für Königstein - Erleben
REFRESH-INTERVAL;VALUE=DURATION:PT1H
X-Robots-Tag:noindex
X-PUBLISHED-TTL:PT1H
BEGIN:VTIMEZONE
TZID:Europe/Berlin
BEGIN:DAYLIGHT
TZOFFSETFROM:+0100
TZOFFSETTO:+0200
TZNAME:CEST
DTSTART:20230326T010000
END:DAYLIGHT
BEGIN:STANDARD
TZOFFSETFROM:+0200
TZOFFSETTO:+0100
TZNAME:CET
DTSTART:20231029T010000
END:STANDARD
BEGIN:DAYLIGHT
TZOFFSETFROM:+0100
TZOFFSETTO:+0200
TZNAME:CEST
DTSTART:20240331T010000
END:DAYLIGHT
BEGIN:STANDARD
TZOFFSETFROM:+0200
TZOFFSETTO:+0100
TZNAME:CET
DTSTART:20241027T010000
END:STANDARD
BEGIN:DAYLIGHT
TZOFFSETFROM:+0100
TZOFFSETTO:+0200
TZNAME:CEST
DTSTART:20250330T010000
END:DAYLIGHT
BEGIN:STANDARD
TZOFFSETFROM:+0200
TZOFFSETTO:+0100
TZNAME:CET
DTSTART:20251026T010000
END:STANDARD
END:VTIMEZONE
BEGIN:VEVENT
DTSTART;VALUE=DATE:20240306
DTEND;VALUE=DATE:20240307
DTSTAMP:20260425T233654
CREATED:20240220T133458Z
LAST-MODIFIED:20240301T113659Z
UID:10000295-1709683200-1709769599@xn--knigstein-erleben-zzb.de
SUMMARY:Oster-Sammelaktion von Reinhild Fassler
DESCRIPTION:Wie jedes Jahr sammelt Reinhild Fassler für die Armen\, Obdachlosen und Ausgegrenzten in unserer Region und im Franziskustreff / Frankfurt (Bruder Michael\, Einrichtungsleitung\, und Bruder Paulus\, Stiftungsvorstand). \nHierfür werden Ostereier\, Süßigkeiten\, Gebäck und Schokoladen–Osterhasen benötigt. Wir freuen uns auch über Kaffee! \nBitte geben Sie Ihre Gaben bis Samstag\, 30. März 2024\, ab bei: \n\nReinhild Fassler\, Gerichtstraße 17\, Königstein\, Telefon: 06174-62137\nKonditorei Kreiner\, Fußgängerzone Königstein\, Herr Kiefer\n\nAbgabeschluss Dienstag\, 19. März 2024:  \n\nKath. Kirchort St. Vitus\, Oberhöchstadt\, Telefon: 06174 – 25 50 544\, Frau Raczek Di 10 – 12 Uhr\n\nAbgabeschluss Freitag\, 22. März 2024: \n\nKath. Pfarrei Maria Himmelfahrt im Taunus\, Zentrales Pfarrbüro\, Königstein\, Georg-Pingler-Str. 26\,\nTelefon: 06174 – 25 50 50 Mo\, Di\, Do\, Fr 9.00 – 12.00 Uhr\, Mi 14.00 – 17.00 Uhr\n\nAbgabeschluss Mittwoch\, 27. März 2024:  \n\nEv. Markus-Gemeinde Schönberg\, Friedrichstraße 50\, Kronberg\, Telefon: 06173-79421\, Frau Lind\nDi\, Do 9.00 – 11.00 Uhr\, Mi 13.00 – 15.00 Uhr\nPhysiotherapeutische Praxis Färber\, Stresemannstraße 2\, Königstein\, 06174-7269\nMaria Louise Rieken\, Grabenstraße 3 (Eingang rechts unten)\, 61479 Schloßborn\,06174 – 96 13 939\n\n  \nVielen Dank \nReinhild Fassler
URL:https://xn--knigstein-erleben-zzb.de/event/oster-sammelaktion-von-reinhild-fassler/2024-03-06/
LOCATION:Hessen
ATTACH;FMTTYPE=image/jpeg:https://xn--knigstein-erleben-zzb.de/wp-content/uploads/2024/02/Ostern-FasslerJPG.jpg
END:VEVENT
BEGIN:VEVENT
DTSTART;TZID=Europe/Berlin:20240306T103000
DTEND;TZID=Europe/Berlin:20240306T160000
DTSTAMP:20260425T233654
CREATED:20240131T122454Z
LAST-MODIFIED:20240131T122454Z
UID:10000167-1709721000-1709740800@xn--knigstein-erleben-zzb.de
SUMMARY:Kurzwanderung ins Kronthal mit dem Taunusklub Königstein
DESCRIPTION:Abfahrt Stadtmitte Königstein um 10:54 Uhr mit Bus 85\, Wanderung ab Schafhof durchs Sauerbornbachtal – Viergötterstein – Kronthal; Einkehr Fattoria Kronthal ca. 12:30 Uhr; Rückfahrt mit Bus 85 Haltestelle Kronthal 14:39 Uhr \nAnmeldung: Christel Ernst Tel. 06174/3868
URL:https://xn--knigstein-erleben-zzb.de/event/kurzwanderung-ins-kronthal-mit-dem-taunusklub-koenigstein/
LOCATION:Bushaltestellen Stadtmitte\, Georg-Pingler-Straße\, Königstein im Taunus\, Hessen\, 61462\, Germany
CATEGORIES:Allgemein
ATTACH;FMTTYPE=image/jpeg:https://xn--knigstein-erleben-zzb.de/wp-content/uploads/2024/01/IMG_9461-scaled.jpeg
GEO:50.1837581;8.4677721
X-APPLE-STRUCTURED-LOCATION;VALUE=URI;X-ADDRESS=Bushaltestellen Stadtmitte Georg-Pingler-Straße Königstein im Taunus Hessen 61462 Germany;X-APPLE-RADIUS=500;X-TITLE=Georg-Pingler-Straße:geo:8.4677721,50.1837581
END:VEVENT
BEGIN:VEVENT
DTSTART;TZID=Europe/Berlin:20240306T103000
DTEND;TZID=Europe/Berlin:20240306T170000
DTSTAMP:20260425T233654
CREATED:20240131T122454Z
LAST-MODIFIED:20240131T122454Z
UID:10000166-1709721000-1709744400@xn--knigstein-erleben-zzb.de
SUMMARY:Mittwochswanderung nach Schmitten mit dem Taunusklub Königstein
DESCRIPTION:Wanderung vom Roten Kreuz nach Schmitten: Abfahrt Königstein Stadtmitte um 10:43 Uhr mit Bus 57 bis Rotes Kreuz; Wanderung über Hünerweg bis Kittelhütte\, nach Seelenberg – Schmitten (Einkehr); Rückfahrt mit Bus 60 um 15.51 Uhr ab Philosophenweg oder Bus 80 um 16.51 Uhr ab Kirche \nAnmeldung: Hedwig Groß 06174/5641
URL:https://xn--knigstein-erleben-zzb.de/event/mittwochswanderung-nach-schmitten-mit-dem-taunusklub-koenigstein/
LOCATION:Bushaltestellen Stadtmitte\, Georg-Pingler-Straße\, Königstein im Taunus\, Hessen\, 61462\, Germany
CATEGORIES:Allgemein
ATTACH;FMTTYPE=image/jpeg:https://xn--knigstein-erleben-zzb.de/wp-content/uploads/2024/01/IMG_0260-scaled.jpeg
GEO:50.1837581;8.4677721
X-APPLE-STRUCTURED-LOCATION;VALUE=URI;X-ADDRESS=Bushaltestellen Stadtmitte Georg-Pingler-Straße Königstein im Taunus Hessen 61462 Germany;X-APPLE-RADIUS=500;X-TITLE=Georg-Pingler-Straße:geo:8.4677721,50.1837581
END:VEVENT
END:VCALENDAR