BEGIN:VCALENDAR
VERSION:2.0
PRODID:-//Königstein - Erleben - ECPv6.15.19//NONSGML v1.0//EN
CALSCALE:GREGORIAN
METHOD:PUBLISH
X-WR-CALNAME:Königstein - Erleben
X-ORIGINAL-URL:https://xn--knigstein-erleben-zzb.de
X-WR-CALDESC:Veranstaltungen für Königstein - Erleben
REFRESH-INTERVAL;VALUE=DURATION:PT1H
X-Robots-Tag:noindex
X-PUBLISHED-TTL:PT1H
BEGIN:VTIMEZONE
TZID:Europe/Berlin
BEGIN:DAYLIGHT
TZOFFSETFROM:+0100
TZOFFSETTO:+0200
TZNAME:CEST
DTSTART:20230326T010000
END:DAYLIGHT
BEGIN:STANDARD
TZOFFSETFROM:+0200
TZOFFSETTO:+0100
TZNAME:CET
DTSTART:20231029T010000
END:STANDARD
BEGIN:DAYLIGHT
TZOFFSETFROM:+0100
TZOFFSETTO:+0200
TZNAME:CEST
DTSTART:20240331T010000
END:DAYLIGHT
BEGIN:STANDARD
TZOFFSETFROM:+0200
TZOFFSETTO:+0100
TZNAME:CET
DTSTART:20241027T010000
END:STANDARD
BEGIN:DAYLIGHT
TZOFFSETFROM:+0100
TZOFFSETTO:+0200
TZNAME:CEST
DTSTART:20250330T010000
END:DAYLIGHT
BEGIN:STANDARD
TZOFFSETFROM:+0200
TZOFFSETTO:+0100
TZNAME:CET
DTSTART:20251026T010000
END:STANDARD
END:VTIMEZONE
BEGIN:VEVENT
DTSTART;VALUE=DATE:20240901
DTEND;VALUE=DATE:20240922
DTSTAMP:20260420T012143
CREATED:20240826T093323Z
LAST-MODIFIED:20240826T131949Z
UID:10001561-1725148800-1726963199@xn--knigstein-erleben-zzb.de
SUMMARY:Stadtradeln in Königstein
DESCRIPTION:Königstein stadtradelt wieder!\nIn der Zeit vom 1. bis 21. September 2024 beteiligen sich Königstein im Taunus und alle anderen Kommunen im Hochtaunuskreis wieder an der Kampagne des Klima-Bündnis\, um den Radverkehr zu fördern\, das Klima zu schonen und auch der eigenen Gesundheit etwas Gutes zu tun. Königstein ist bereits zum siebten Mal dabei. \nMitmachen \nkönnen alle\, die in Königstein wohnen\, arbeiten\, zur Schule gehen oder einem Verein angehören. \nRegistrieren \nist fix erledigt unter: http://stadtradeln.de/koenigstein. Dort ein Team aussuchen und diesem beitreten – oder selbst eines gründen! \n\nWeitere Auskünfte gibt gerne die städtische Stadtradeln-Koordination unter: stadtradeln@koenigstein.de
URL:https://xn--knigstein-erleben-zzb.de/event/stadtradeln-in-koenigstein/
LOCATION:Königstein im Taunus\, Königstein im Taunus\, Hessen\, 61462\, Germany
CATEGORIES:Allgemein,Heilklima,Klimaschutz,Radeln,Sport
ATTACH;FMTTYPE=image/jpeg:https://xn--knigstein-erleben-zzb.de/wp-content/uploads/2024/08/Stadtradeln-Logo-pur.jpg
ORGANIZER;CN="Kur- und Stadtinformation K%C3%B6nigstein":MAILTO:info@koenigstein.de
GEO:50.18333;8.4675
END:VEVENT
BEGIN:VEVENT
DTSTART;TZID=Europe/Berlin:20240908T100000
DTEND;TZID=Europe/Berlin:20240908T170000
DTSTAMP:20260420T012143
CREATED:20240826T091656Z
LAST-MODIFIED:20240826T092004Z
UID:10001556-1725789600-1725814800@xn--knigstein-erleben-zzb.de
SUMMARY:Tag der offenen Tür im St.-Josef-Krankenhaus
DESCRIPTION:Foto: St.-Josef-Krankenhaus \n\nHessens kleinste Klinik kommt ganz groß raus: Das St.-Josef-Krankenhaus in Königstein öffnet seine Tore und lädt alle Interessierten zum Tag der offenen Tür ein.\nBesucher:innen haben die Möglichkeit\, ihre Gesundheit checken lassen\, sich über medizinische und pflegerische Angebote zu informieren\, Spannendes zur Historie des traditionsreichen Hauses am Fuße der Königsteiner Burg zu erfahren oder einfach im schattigen Garten genießen und Spaß haben. \nFangen wir bei der Gesundheit an \n\n\n\nWer testen möchte\, wieviel Power in den Händen steckt\, kann dies am Stand der Handchirurgie tun\, die neben Untersuchungen der Hand auch Kraftmessungen anbietet. Außerdem können sich Interessierte beispielsweise den Blutdruck messen lassen\, die Niere oder Halsschlagader per Ultraschall untersuchen lassen oder ihr Diabetes-Risiko testen.\nBei Führungen durch die Geriatrie bekommen die Gäste einen hautnahen Einblick in die medizinische und pflegerische Bandbreite dieser Fachabteilung.\nSpannende medizinische Infos stehen im Mittelpunkt des Vortragsprogramms\, das um 10.30 Uhr in der Therapieküche des Krankenhauses beginnt.\nSelbstverständlich gibt es den ganzen Tag über Gelegenheit\, mit den Pflegenden\, Ärzt:innen\, Physio- und Ergotherapeuten\, Logopädinnen sowie dem Team des Sozialdienstes ins Gespräch zu kommen.\n\n\n\nVersteht sich\, dass auch die allerkleinsten Besucher auf ihre Kosten kommen: \n\n\n\nZum Beispiel auf dem „Dinolinchen“\, einer putzigen Hüpfburg\, die zum Toben und Spielen einlädt.\nMini-Fußballer können sich beim Torkicken vergnügen\,\noder sie begeben sich zusammen mit ihren Eltern auf Stempelschnitzeljagd durchs Haus.\nFantasievoll geht’s beim Kinderschminken zu\, bei dem sich die Kids in kleine Katzen oder Feen verwandeln lassen können.\n\n\n\n  \nSo viel Action macht natürlich hungrig. Kein Problem:  \n\n\n\nBei deftigen und veganen Spezialitäten vom Grill werden alle satt. Am Grill wird das Küchenteam von St. Josef übrigens von einem prominenten Überraschungsgast unterstützt.\nUnd natürlich kommen Naschkatzen ebenfalls nicht zu kurz: Die Grünen Damen servieren frischen Kaffee und leckeren Kuchen.
URL:https://xn--knigstein-erleben-zzb.de/event/tag-der-offenen-tuer-im-st-josef-krankenhaus/
LOCATION:St. Josef Krankenhaus Königstein\, Woogtalstraße 7\, Königstein im Taunus\, Hessen\, 61462\, Germany
CATEGORIES:Allgemein,Beratung,Informationsveranstaltung
ATTACH;FMTTYPE=image/jpeg:https://xn--knigstein-erleben-zzb.de/wp-content/uploads/2024/08/St.-Josef-KH.jpg
GEO:50.1839794;8.4622985
X-APPLE-STRUCTURED-LOCATION;VALUE=URI;X-ADDRESS=St. Josef Krankenhaus Königstein Woogtalstraße 7 Königstein im Taunus Hessen 61462 Germany;X-APPLE-RADIUS=500;X-TITLE=Woogtalstraße 7:geo:8.4622985,50.1839794
END:VEVENT
BEGIN:VEVENT
DTSTART;TZID=Europe/Berlin:20240908T110000
DTEND;TZID=Europe/Berlin:20240908T110000
DTSTAMP:20260420T012143
CREATED:20240903T165319Z
LAST-MODIFIED:20240903T165319Z
UID:10001588-1725793200-1725793200@xn--knigstein-erleben-zzb.de
SUMMARY:Tag des offenen Denkmals: "Wahr-Zeichen. Zeitzeugen der Geschichte"
DESCRIPTION:Foto: Florian Trykowski | \n\nDer Zustand unserer Burgruine ist nicht der allerbeste – viele Sicherungsmaßnahmen auf der Burg und die Sperrung des Weges drumherum weisen anschaulich darauf hin. Und aus diesem guten Grunde steht sie zur Sanierung an. \nAm „Tag des offenen Denkmals“ gibt es die Gelegenheit mit den beratenden Ingenieuren Lars Eisenhuth und Katrin Kahler\, die die Sanierung begleiten\, während eines Spaziergangs über die Burgruine\, mehr vom aktuellen Zustand der Burg und von den zu erwartenden Maßnahmen zu erfahren. \nTermine\nDie erste Führung startet um 11.00 Uhr\, die zweite Führung um 13.30 Uhr. \nTeilnahme\nDie Teilnahme an der Führung ist kostenlos\, aber die Anzahl an Teilnahmeplätze ist begrenzt.\nUm Anmeldung wir daher gebeten: (0 61 74) 202 251 oder info@koenigstein.de \n  \nEine weitere Führung gibt es um 13.30 Uhr
URL:https://xn--knigstein-erleben-zzb.de/event/tag-des-offenen-denkmals-wahr-zeichen-zeitzeugen-der-geschichte-2/
LOCATION:Treffpunkt: Eingangstor Burgruine Königstein\, Burgweg\, Königstein im Taunus\, Hessen\, 61462\, Germany
ATTACH;FMTTYPE=image/jpeg:https://xn--knigstein-erleben-zzb.de/wp-content/uploads/2024/09/2024-TdoD.jpg
ORGANIZER;CN="Kur- und Stadtinformation K%C3%B6nigstein":MAILTO:info@koenigstein.de
GEO:50.1820056;8.4629289
X-APPLE-STRUCTURED-LOCATION;VALUE=URI;X-ADDRESS=Treffpunkt: Eingangstor Burgruine Königstein Burgweg Königstein im Taunus Hessen 61462 Germany;X-APPLE-RADIUS=500;X-TITLE=Burgweg:geo:8.4629289,50.1820056
END:VEVENT
BEGIN:VEVENT
DTSTART;TZID=Europe/Berlin:20240908T120000
DTEND;TZID=Europe/Berlin:20240908T160000
DTSTAMP:20260420T012143
CREATED:20240902T151726Z
LAST-MODIFIED:20240902T151810Z
UID:10001550-1725796800-1725811200@xn--knigstein-erleben-zzb.de
SUMMARY:Ein Treffen mit den Rittern von Königstein
DESCRIPTION:Foto: Ritter von Königstein e.V. | \n\nMit den Rittern von Königstein können die Besucher der Burgruine zu Königstein eine Zeitreise in das Mittelalter erleben. Mit mittelalterlicher Musik\, mittelalterlichen Holzspielen\, dem damit verbundenen Flair und weiteren Aktivitäten\, tauchen Sie ein in die Welt des Mittelalters. \nWer also schon immer einmal die Gelegenheit nutzen wollte\, die Ritter persönlich auf der Burg zu treffen\, darf uns gerne an unserem „Zwinger“ besuchen. Wir freuen uns auf Groß und Klein! \nHinweis: Bei sehr schlechtem Wetter findet die „Burgbelebung“ leider nicht statt.
URL:https://xn--knigstein-erleben-zzb.de/event/ein-treffen-mit-den-rittern-von-koenigstein-2/
LOCATION:Burgruine Königstein
CATEGORIES:Allgemein,Familienfest,Geschichte,Kultur
ATTACH;FMTTYPE=image/jpeg:https://xn--knigstein-erleben-zzb.de/wp-content/uploads/2024/08/Ritter-von-Koenigstein.jpg
ORGANIZER;CN="Ritter von K%C3%B6nigstein e.V.":MAILTO:vorstand@rittervonkoenigstein.de
END:VEVENT
BEGIN:VEVENT
DTSTART;TZID=Europe/Berlin:20240908T133000
DTEND;TZID=Europe/Berlin:20240908T133000
DTSTAMP:20260420T012143
CREATED:20240902T162726Z
LAST-MODIFIED:20240902T163616Z
UID:10001589-1725802200-1725802200@xn--knigstein-erleben-zzb.de
SUMMARY:Tag des offenen Denkmals: "Wahr-Zeichen. Zeitzeugen der Geschichte"
DESCRIPTION:Foto: Florian Trykowski | \n\nDer Zustand unserer Burgruine ist nicht der allerbeste – viele Sicherungsmaßnahmen auf der Burg und die Sperrung des Weges drumherum weisen anschaulich darauf hin. Und aus diesem guten Grunde steht sie zur Sanierung an. \nAm „Tag des offenen Denkmals“ gibt es die Gelegenheit mit den beratenden Ingenieuren Lars Eisenhuth und Katrin Kahler\, die die Sanierung begleiten\, während eines Spaziergangs über die Burgruine\, mehr vom aktuellen Zustand der Burg und von den zu erwartenden Maßnahmen zu erfahren. \nTermine\nDie erste Führung startet um 11.00 Uhr\, die zweite Führung um 13.30 Uhr. \nTeilnahme\nDie Teilnahme an der Führung ist kostenlos\, aber die Anzahl an Teilnahmeplätze ist begrenzt.\nUm Anmeldung wir daher gebeten: (0 61 74) 202 251 oder info@koenigstein.de
URL:https://xn--knigstein-erleben-zzb.de/event/tag-des-offenen-denkmals-wahr-zeichen-zeitzeugen-der-geschichte/
LOCATION:Treffpunkt: Eingangstor Burgruine Königstein\, Burgweg\, Königstein im Taunus\, Hessen\, 61462\, Germany
ATTACH;FMTTYPE=image/jpeg:https://xn--knigstein-erleben-zzb.de/wp-content/uploads/2024/09/2024-TdoD.jpg
ORGANIZER;CN="Kur- und Stadtinformation K%C3%B6nigstein":MAILTO:info@koenigstein.de
GEO:50.1820056;8.4629289
X-APPLE-STRUCTURED-LOCATION;VALUE=URI;X-ADDRESS=Treffpunkt: Eingangstor Burgruine Königstein Burgweg Königstein im Taunus Hessen 61462 Germany;X-APPLE-RADIUS=500;X-TITLE=Burgweg:geo:8.4629289,50.1820056
END:VEVENT
BEGIN:VEVENT
DTSTART;TZID=Europe/Berlin:20240908T170000
DTEND;TZID=Europe/Berlin:20240908T220000
DTSTAMP:20260420T012143
CREATED:20240531T103913Z
LAST-MODIFIED:20241008T133031Z
UID:10000824-1725814800-1725832800@xn--knigstein-erleben-zzb.de
SUMMARY:OECHSLE - Die Weinbar
DESCRIPTION:Foto: Wines & Pearls | \n\nAb dem 13.06. 2024 freut sich das Team der °Oechsle Weinbar auf Ihren Besuch und hat jede Woche von Donnerstag bis Sonntag in der Zeit von 17.00 bis 22.00 Uhr geöffnet. \nDie Oechsle Weinbar steht für deutsche Weine und Sekte der Generation Jungwinzer – jeder Wein und Sekt mit seiner ganz persönlichen Geschichte. Bei gutem Wetter haben Sie hier die Gelegenheit\, eine Auswahl des Sortiments kennenzulernen\, abzuschalten und dabei die schöne Atmosphäre der Anlage zu genießen. Darüber hinaus bietet der Betreiber erstmals alkoholfreie Weine an. \nFür die kleinen Gäste gibt es Traubensäfte\, Wasser und Softdrinks und für den kleinen Hunger verschiedene Flammkuchen\, Käse- und Wurstspezialitäten\, Spundekäs und andere Köstlichkeiten im Wechsel. \nWährend der Öffnungszeiten wird es Weintastings\, Afterworks und andere Angebote geben. \nWer gerne seinen Stammtisch oder einen Geburtstag an der Weinbar ausrichten möchte\, kann gerne vorab per Mail info@winesandpearls.de Kontakt aufnehmen. \nHinweis: Bei schlechtem Wetter bleibt die °OECHSLE – Weinbar geschlossen!
URL:https://xn--knigstein-erleben-zzb.de/event/oechsle-die-weinbar-2/2024-09-08/
LOCATION:Konrad-Adenauer-Anlage\, Klosterstraße\, Königstein im Taunus\, Hessen\, 61462\, Germany
CATEGORIES:Allgemein
ATTACH;FMTTYPE=image/jpeg:https://xn--knigstein-erleben-zzb.de/wp-content/uploads/2024/05/2024-Oechsle.jpg
GEO:50.1836003;8.4676372
X-APPLE-STRUCTURED-LOCATION;VALUE=URI;X-ADDRESS=Konrad-Adenauer-Anlage Klosterstraße Königstein im Taunus Hessen 61462 Germany;X-APPLE-RADIUS=500;X-TITLE=Klosterstraße:geo:8.4676372,50.1836003
END:VEVENT
BEGIN:VEVENT
DTSTART;TZID=Europe/Berlin:20240908T193000
DTEND;TZID=Europe/Berlin:20240908T203000
DTSTAMP:20260420T012143
CREATED:20240823T120436Z
LAST-MODIFIED:20240823T121228Z
UID:10001554-1725823800-1725827400@xn--knigstein-erleben-zzb.de
SUMMARY:Achtsamkeitsbasierte Stressreduktion
DESCRIPTION:Foto bereitgestellt von: Heide Fischer | \n\nMehr Gelassenheit durch Achtsamkeit (Informationsabend) \nIn der heutigen Zeit wird durch große Anforderungen und Belastungen privat und beruflich ein Strudel erzeugt\, dem man sich schwer entziehen kann. Dieser verursacht oft Stress und kann auf Dauer zu gesundheitlichen Problemen führen. Achtsamkeit durch Meditation (Mindfulness Based Stress Reduction von Prof. Jon Kabat-Zinn) ist ein wirksames Mittel dagegen und fördert die eigene Resilienz. \nAchtsamkeit ist die fortwährende Praxis\, jeden Alltagsmoment tief zu berühren. Achtsam sein bedeutet\, körperlich und geistig anwesend zu sein\, Harmonie in unsere Absichten und Handlungen zu bringen und in Einklang mit den uns umgebenden Menschen zu sein. (Thich Nhat Hanh) \nSie erwartet unter anderem eine Vorstellung von Achtsamkeitsbasierter Stressreduktion (MBSR) nach Prof. Jon Kabat-Zinn\, praktische Übungen\, Raum für Fragen\, konkrete einfache Anregungen für den Alltag. \nDie Teilnahme ist kostenlos.\nUm Anmeldung wird gebeten an: heidefischer@outlook.de\n \n  \nIch freue mich auf Ihre Teilnahme!\nHeide Fischer MBSR-Trainerin\, Wirtschaftspsychologin
URL:https://xn--knigstein-erleben-zzb.de/event/achtsamkeitsbasierte-stressreduktion/
CATEGORIES:Informationsveranstaltung
ATTACH;FMTTYPE=image/jpeg:https://xn--knigstein-erleben-zzb.de/wp-content/uploads/2024/08/IMG_3690-scaled.jpg
END:VEVENT
END:VCALENDAR