BEGIN:VCALENDAR
VERSION:2.0
PRODID:-//Königstein - Erleben - ECPv6.15.19//NONSGML v1.0//EN
CALSCALE:GREGORIAN
METHOD:PUBLISH
X-WR-CALNAME:Königstein - Erleben
X-ORIGINAL-URL:https://xn--knigstein-erleben-zzb.de
X-WR-CALDESC:Veranstaltungen für Königstein - Erleben
REFRESH-INTERVAL;VALUE=DURATION:PT1H
X-Robots-Tag:noindex
X-PUBLISHED-TTL:PT1H
BEGIN:VTIMEZONE
TZID:Europe/Berlin
BEGIN:DAYLIGHT
TZOFFSETFROM:+0100
TZOFFSETTO:+0200
TZNAME:CEST
DTSTART:20230326T010000
END:DAYLIGHT
BEGIN:STANDARD
TZOFFSETFROM:+0200
TZOFFSETTO:+0100
TZNAME:CET
DTSTART:20231029T010000
END:STANDARD
BEGIN:DAYLIGHT
TZOFFSETFROM:+0100
TZOFFSETTO:+0200
TZNAME:CEST
DTSTART:20240331T010000
END:DAYLIGHT
BEGIN:STANDARD
TZOFFSETFROM:+0200
TZOFFSETTO:+0100
TZNAME:CET
DTSTART:20241027T010000
END:STANDARD
BEGIN:DAYLIGHT
TZOFFSETFROM:+0100
TZOFFSETTO:+0200
TZNAME:CEST
DTSTART:20250330T010000
END:DAYLIGHT
BEGIN:STANDARD
TZOFFSETFROM:+0200
TZOFFSETTO:+0100
TZNAME:CET
DTSTART:20251026T010000
END:STANDARD
END:VTIMEZONE
BEGIN:VEVENT
DTSTART;VALUE=DATE:20240901
DTEND;VALUE=DATE:20240922
DTSTAMP:20260419T234725
CREATED:20240826T093323Z
LAST-MODIFIED:20240826T131949Z
UID:10001561-1725148800-1726963199@xn--knigstein-erleben-zzb.de
SUMMARY:Stadtradeln in Königstein
DESCRIPTION:Königstein stadtradelt wieder!\nIn der Zeit vom 1. bis 21. September 2024 beteiligen sich Königstein im Taunus und alle anderen Kommunen im Hochtaunuskreis wieder an der Kampagne des Klima-Bündnis\, um den Radverkehr zu fördern\, das Klima zu schonen und auch der eigenen Gesundheit etwas Gutes zu tun. Königstein ist bereits zum siebten Mal dabei. \nMitmachen \nkönnen alle\, die in Königstein wohnen\, arbeiten\, zur Schule gehen oder einem Verein angehören. \nRegistrieren \nist fix erledigt unter: http://stadtradeln.de/koenigstein. Dort ein Team aussuchen und diesem beitreten – oder selbst eines gründen! \n\nWeitere Auskünfte gibt gerne die städtische Stadtradeln-Koordination unter: stadtradeln@koenigstein.de
URL:https://xn--knigstein-erleben-zzb.de/event/stadtradeln-in-koenigstein/
LOCATION:Königstein im Taunus\, Königstein im Taunus\, Hessen\, 61462\, Germany
CATEGORIES:Allgemein,Heilklima,Klimaschutz,Radeln,Sport
ATTACH;FMTTYPE=image/jpeg:https://xn--knigstein-erleben-zzb.de/wp-content/uploads/2024/08/Stadtradeln-Logo-pur.jpg
ORGANIZER;CN="Kur- und Stadtinformation K%C3%B6nigstein":MAILTO:info@koenigstein.de
GEO:50.18333;8.4675
END:VEVENT
BEGIN:VEVENT
DTSTART;TZID=Europe/Berlin:20240919T170000
DTEND;TZID=Europe/Berlin:20240919T220000
DTSTAMP:20260419T234725
CREATED:20240531T103913Z
LAST-MODIFIED:20241008T133031Z
UID:10000829-1726765200-1726783200@xn--knigstein-erleben-zzb.de
SUMMARY:OECHSLE - Die Weinbar
DESCRIPTION:Foto: Wines & Pearls | \n\nAb dem 13.06. 2024 freut sich das Team der °Oechsle Weinbar auf Ihren Besuch und hat jede Woche von Donnerstag bis Sonntag in der Zeit von 17.00 bis 22.00 Uhr geöffnet. \nDie Oechsle Weinbar steht für deutsche Weine und Sekte der Generation Jungwinzer – jeder Wein und Sekt mit seiner ganz persönlichen Geschichte. Bei gutem Wetter haben Sie hier die Gelegenheit\, eine Auswahl des Sortiments kennenzulernen\, abzuschalten und dabei die schöne Atmosphäre der Anlage zu genießen. Darüber hinaus bietet der Betreiber erstmals alkoholfreie Weine an. \nFür die kleinen Gäste gibt es Traubensäfte\, Wasser und Softdrinks und für den kleinen Hunger verschiedene Flammkuchen\, Käse- und Wurstspezialitäten\, Spundekäs und andere Köstlichkeiten im Wechsel. \nWährend der Öffnungszeiten wird es Weintastings\, Afterworks und andere Angebote geben. \nWer gerne seinen Stammtisch oder einen Geburtstag an der Weinbar ausrichten möchte\, kann gerne vorab per Mail info@winesandpearls.de Kontakt aufnehmen. \nHinweis: Bei schlechtem Wetter bleibt die °OECHSLE – Weinbar geschlossen!
URL:https://xn--knigstein-erleben-zzb.de/event/oechsle-die-weinbar-2/2024-09-19/
LOCATION:Konrad-Adenauer-Anlage\, Klosterstraße\, Königstein im Taunus\, Hessen\, 61462\, Germany
CATEGORIES:Allgemein
ATTACH;FMTTYPE=image/jpeg:https://xn--knigstein-erleben-zzb.de/wp-content/uploads/2024/05/2024-Oechsle.jpg
GEO:50.1836003;8.4676372
X-APPLE-STRUCTURED-LOCATION;VALUE=URI;X-ADDRESS=Konrad-Adenauer-Anlage Klosterstraße Königstein im Taunus Hessen 61462 Germany;X-APPLE-RADIUS=500;X-TITLE=Klosterstraße:geo:8.4676372,50.1836003
END:VEVENT
BEGIN:VEVENT
DTSTART;TZID=Europe/Berlin:20240919T180000
DTEND;TZID=Europe/Berlin:20240919T180000
DTSTAMP:20260419T234725
CREATED:20240424T134839Z
LAST-MODIFIED:20240828T081057Z
UID:10000713-1726768800-1726768800@xn--knigstein-erleben-zzb.de
SUMMARY:Königsteiner Abendspaziergang: Königsteins Kasernen-Quartier
DESCRIPTION:Foto: Stadtarchiv Königstein | \n\nGeführter Spaziergang mit Stadtarchivarin Dr. Alexandra König \nSchick wohnen\, fleißig lernen oder Tagen kann man heute in dem Areal\, das ebenso für Flüchtlingshilfe\, Priesterseminar und Militär steht. Vor 100 Jahren\, 1924\, wurden die Bauten als Kaserne fertiggestellt und von den Besatzungstruppen bezogen. Heute sind hinter historischen Kasernenmauern moderne Wohnungen entstanden. Die wechselvolle Geschichte des Areals wird in der Führung rekapituliert und die Architektur der Gebäude gewürdigt. \nTeilnahme\n5 Euro\, mit Kur- oder Gästekarte: 2\,50 Euro \nAnmeldung\nTelefon: (0 61 74) 202 251\nE-Mail:  info@koenigstein.de
URL:https://xn--knigstein-erleben-zzb.de/event/koenigsteiner-abendspaziergang-koenigsteins-kasernen-quartier/
LOCATION:Treffpunkt: Haus der Begegnung\, Bischof-Kaller-Straße 3\, Königstein im Taunus\, Hessen\, 61462\, Germany
ATTACH;FMTTYPE=image/jpeg:https://xn--knigstein-erleben-zzb.de/wp-content/uploads/2024/04/Kasernen.jpg
GEO:50.1784427;8.4734345
X-APPLE-STRUCTURED-LOCATION;VALUE=URI;X-ADDRESS=Treffpunkt: Haus der Begegnung Bischof-Kaller-Straße 3 Königstein im Taunus Hessen 61462 Germany;X-APPLE-RADIUS=500;X-TITLE=Bischof-Kaller-Straße 3:geo:8.4734345,50.1784427
END:VEVENT
END:VCALENDAR