BEGIN:VCALENDAR
VERSION:2.0
PRODID:-//Königstein - Erleben - ECPv6.15.19//NONSGML v1.0//EN
CALSCALE:GREGORIAN
METHOD:PUBLISH
X-ORIGINAL-URL:https://xn--knigstein-erleben-zzb.de
X-WR-CALDESC:Veranstaltungen für Königstein - Erleben
REFRESH-INTERVAL;VALUE=DURATION:PT1H
X-Robots-Tag:noindex
X-PUBLISHED-TTL:PT1H
BEGIN:VTIMEZONE
TZID:Europe/Berlin
BEGIN:DAYLIGHT
TZOFFSETFROM:+0100
TZOFFSETTO:+0200
TZNAME:CEST
DTSTART:20240331T010000
END:DAYLIGHT
BEGIN:STANDARD
TZOFFSETFROM:+0200
TZOFFSETTO:+0100
TZNAME:CET
DTSTART:20241027T010000
END:STANDARD
BEGIN:DAYLIGHT
TZOFFSETFROM:+0100
TZOFFSETTO:+0200
TZNAME:CEST
DTSTART:20250330T010000
END:DAYLIGHT
BEGIN:STANDARD
TZOFFSETFROM:+0200
TZOFFSETTO:+0100
TZNAME:CET
DTSTART:20251026T010000
END:STANDARD
BEGIN:DAYLIGHT
TZOFFSETFROM:+0100
TZOFFSETTO:+0200
TZNAME:CEST
DTSTART:20260329T010000
END:DAYLIGHT
BEGIN:STANDARD
TZOFFSETFROM:+0200
TZOFFSETTO:+0100
TZNAME:CET
DTSTART:20261025T010000
END:STANDARD
END:VTIMEZONE
BEGIN:VEVENT
DTSTART;TZID=Europe/Berlin:20250704T080000
DTEND;TZID=Europe/Berlin:20250711T140000
DTSTAMP:20260420T072006
CREATED:20250407T165149Z
LAST-MODIFIED:20251204T141836Z
UID:10006373-1751616000-1752242400@xn--knigstein-erleben-zzb.de
SUMMARY:Königsteiner Wochenmarkt
DESCRIPTION:Qualität und Frische sind unser Anspruch!\nZwischen 8.00 und 14.00 Uhr bieten regionale Händler und auch Erzeuger an ihren Ständen Obst\, Gemüse\, Blumen\, Fleisch\, Fisch\, Geflügel\, Backwaren und weitere saisonale Produkte an. \nBesuchen Sie unseren Wochenmarkt\, Sie werden begeistert sein. Mehr Infos zu den Angeboten finden Sie hier…\nIhre Händler des Königsteiner Wochenmarktes. \n \nFoto: Stadt Königstein im Taunus\, Agentur GEP Nicole Falkus \n 
URL:https://xn--knigstein-erleben-zzb.de/event/koenigsteiner-wochenmarkt/2025-07-04/
LOCATION:Kapuzinerplatz\, Stadtmitte\, Georg-Pingler-Straße\, Königstein im Taunus\, Hessen\, 61462\, Germany
CATEGORIES:Allgemein,Genuss
ATTACH;FMTTYPE=image/jpeg:https://xn--knigstein-erleben-zzb.de/wp-content/uploads/2023/09/KSWochenmarkt.jpg
GEO:50.182567;8.4669365
X-APPLE-STRUCTURED-LOCATION;VALUE=URI;X-ADDRESS=Kapuzinerplatz Stadtmitte Georg-Pingler-Straße Königstein im Taunus Hessen 61462 Germany;X-APPLE-RADIUS=500;X-TITLE=Georg-Pingler-Straße:geo:8.4669365,50.182567
END:VEVENT
BEGIN:VEVENT
DTSTART;TZID=Europe/Berlin:20250708T160000
DTEND;TZID=Europe/Berlin:20250708T160000
DTSTAMP:20260420T072006
CREATED:20250625T081715Z
LAST-MODIFIED:20250625T081715Z
UID:10012418-1751990400-1751990400@xn--knigstein-erleben-zzb.de
SUMMARY:Vorlesestunde für Kinder in der Stadtbibliothek
DESCRIPTION:Alle Kinder ab 3 Jahren sind herzlich zur Vorlesestunde eingeladen. Dienstag um 16.00 Uhr – Eintritt frei
URL:https://xn--knigstein-erleben-zzb.de/event/vorlesestunde-fuer-kinder-in-der-stadtbibliothek-2/2025-07-08/
LOCATION:Stadtbibliothek Königstein\, Wiesbadener Straße 6\, Königstein im Taunus\, Hessen\, 61462\, Germany
ATTACH;FMTTYPE=image/jpeg:https://xn--knigstein-erleben-zzb.de/wp-content/uploads/2025/06/Vorlesestunde_Bild.jpg
ORGANIZER;CN="Stadtbibliothek K%C3%B6nigstein":MAILTO:stadtbibliothek@koenigstein.de
GEO:50.1813842;8.4679301
X-APPLE-STRUCTURED-LOCATION;VALUE=URI;X-ADDRESS=Stadtbibliothek Königstein Wiesbadener Straße 6 Königstein im Taunus Hessen 61462 Germany;X-APPLE-RADIUS=500;X-TITLE=Wiesbadener Straße 6:geo:8.4679301,50.1813842
END:VEVENT
BEGIN:VEVENT
DTSTART;TZID=Europe/Berlin:20250708T180000
DTEND;TZID=Europe/Berlin:20250708T200000
DTSTAMP:20260420T072006
CREATED:20250701T150123Z
LAST-MODIFIED:20250701T151518Z
UID:10012448-1751997600-1752004800@xn--knigstein-erleben-zzb.de
SUMMARY:KÖNIGSTEINER EVENT SOMMER | Yoga im Park - Yogakalypse
DESCRIPTION:Interaktives Yoga mit Annamaria Szabo\nHier macht Yoga Spaß! Fühlst du dich ungelenkig\, unsportlich oder kraftlos? Dann ist jetzt der Moment\, es zu ändern! Hier kannst du lachen\, Fragen stellen und einfach du selbst sein. \nTeilnahme kostenlos! \n \nFoto: Zur Verfügung gestellt von Annamaria Szabo
URL:https://xn--knigstein-erleben-zzb.de/event/koenigsteiner-event-sommer-yoga-im-park-vogakalypse/
LOCATION:Konrad-Adenauer-Anlage\, Klosterstraße\, Königstein im Taunus\, Hessen\, 61462\, Germany
CATEGORIES:Allgemein,Event Sommer,Gesundheit
ATTACH;FMTTYPE=image/jpeg:https://xn--knigstein-erleben-zzb.de/wp-content/uploads/2025/07/Yoga-Annamaria-Szabot.jpg
GEO:50.1836003;8.4676372
X-APPLE-STRUCTURED-LOCATION;VALUE=URI;X-ADDRESS=Konrad-Adenauer-Anlage Klosterstraße Königstein im Taunus Hessen 61462 Germany;X-APPLE-RADIUS=500;X-TITLE=Klosterstraße:geo:8.4676372,50.1836003
END:VEVENT
END:VCALENDAR