BEGIN:VCALENDAR
VERSION:2.0
PRODID:-//Königstein - Erleben - ECPv6.15.19//NONSGML v1.0//EN
CALSCALE:GREGORIAN
METHOD:PUBLISH
X-ORIGINAL-URL:https://xn--knigstein-erleben-zzb.de
X-WR-CALDESC:Veranstaltungen für Königstein - Erleben
REFRESH-INTERVAL;VALUE=DURATION:PT1H
X-Robots-Tag:noindex
X-PUBLISHED-TTL:PT1H
BEGIN:VTIMEZONE
TZID:Europe/Berlin
BEGIN:DAYLIGHT
TZOFFSETFROM:+0100
TZOFFSETTO:+0200
TZNAME:CEST
DTSTART:20240331T010000
END:DAYLIGHT
BEGIN:STANDARD
TZOFFSETFROM:+0200
TZOFFSETTO:+0100
TZNAME:CET
DTSTART:20241027T010000
END:STANDARD
BEGIN:DAYLIGHT
TZOFFSETFROM:+0100
TZOFFSETTO:+0200
TZNAME:CEST
DTSTART:20250330T010000
END:DAYLIGHT
BEGIN:STANDARD
TZOFFSETFROM:+0200
TZOFFSETTO:+0100
TZNAME:CET
DTSTART:20251026T010000
END:STANDARD
BEGIN:DAYLIGHT
TZOFFSETFROM:+0100
TZOFFSETTO:+0200
TZNAME:CEST
DTSTART:20260329T010000
END:DAYLIGHT
BEGIN:STANDARD
TZOFFSETFROM:+0200
TZOFFSETTO:+0100
TZNAME:CET
DTSTART:20261025T010000
END:STANDARD
END:VTIMEZONE
BEGIN:VEVENT
DTSTART;TZID=Europe/Berlin:20250718T080000
DTEND;TZID=Europe/Berlin:20250725T140000
DTSTAMP:20260422T185144
CREATED:20250407T165149Z
LAST-MODIFIED:20251204T141836Z
UID:10006375-1752825600-1753452000@xn--knigstein-erleben-zzb.de
SUMMARY:Königsteiner Wochenmarkt
DESCRIPTION:Qualität und Frische sind unser Anspruch!\nZwischen 8.00 und 14.00 Uhr bieten regionale Händler und auch Erzeuger an ihren Ständen Obst\, Gemüse\, Blumen\, Fleisch\, Fisch\, Geflügel\, Backwaren und weitere saisonale Produkte an. \nBesuchen Sie unseren Wochenmarkt\, Sie werden begeistert sein. Mehr Infos zu den Angeboten finden Sie hier…\nIhre Händler des Königsteiner Wochenmarktes. \n \nFoto: Stadt Königstein im Taunus\, Agentur GEP Nicole Falkus \n 
URL:https://xn--knigstein-erleben-zzb.de/event/koenigsteiner-wochenmarkt/2025-07-18/
LOCATION:Kapuzinerplatz\, Stadtmitte\, Georg-Pingler-Straße\, Königstein im Taunus\, Hessen\, 61462\, Germany
CATEGORIES:Allgemein,Genuss
ATTACH;FMTTYPE=image/jpeg:https://xn--knigstein-erleben-zzb.de/wp-content/uploads/2023/09/KSWochenmarkt.jpg
GEO:50.182567;8.4669365
X-APPLE-STRUCTURED-LOCATION;VALUE=URI;X-ADDRESS=Kapuzinerplatz Stadtmitte Georg-Pingler-Straße Königstein im Taunus Hessen 61462 Germany;X-APPLE-RADIUS=500;X-TITLE=Georg-Pingler-Straße:geo:8.4669365,50.182567
END:VEVENT
BEGIN:VEVENT
DTSTART;TZID=Europe/Berlin:20250720T104500
DTEND;TZID=Europe/Berlin:20250720T104500
DTSTAMP:20260422T185144
CREATED:20250430T174028Z
LAST-MODIFIED:20250502T074910Z
UID:10008460-1753008300-1753008300@xn--knigstein-erleben-zzb.de
SUMMARY:Stolpersteine putzen – gegen das Vergessen
DESCRIPTION:Stolpersteine putzen – gegen das Vergessen\n42 Stolpersteine gibt es in Königstein. Die kleinen quadratischen Steine aus Messing erinnern an die Opfer des Nationalsozialismus\, Menschen\, die in der NS-Zeit verfolgt\, ermordet\, deportiert\, vertrieben oder in den Suizid getrieben wurden. Die Stolpersteine sind ein Projekt des Künstlers Gunter Demnig\, das im Jahr 1992 begonnen hat. \nDie Initiative „Stuart4Kids-SKYLINERS“ (www.stuart4kids.de) des in Königstein lebenden Gründers Stuart Truppner ruft in Zusammenarbeit mit der Stadt Königstein zu einer Putzaktion am heutigen Sonntag\,  20. Juli 2025 ab 10.45 Uhr auf. Mit der Aktion wollen wir das Andenken an die NS-Opfer erhalten – gemeinsam in Königstein gegen das Vergessen. \nGeplant ist\, in Kleingruppen die verschiedenen Standorte aufzusuchen und die 2013 bzw. 2015 verlegten und mittlerweile deutlich verdreckten Stolpersteine wieder auf Hochglanz zu polieren. Geeignete Putzmittel\, Blumen etc. werden vom Veranstalter bereitgestellt. \nInteressenten können sich per E-Mail anmelden unter stuarttruppner@icloud.com \nDiese Veranstaltung wird mehrmals im Jahr durchgeführt – der nächste Termin wird wieder veröffentlicht! \n \nFoto: Katja Weinig
URL:https://xn--knigstein-erleben-zzb.de/event/stolpersteine-putzen-gegen-das-vergessen/
LOCATION:Treffpunkt:  auf dem Vorplatz des Königsteiner Rathauses\, Burgweg 5\, Königstein im Taunus\, 61462
CATEGORIES:Allgemein
ATTACH;FMTTYPE=image/jpeg:https://xn--knigstein-erleben-zzb.de/wp-content/uploads/2025/04/2025-07-20-Stolpersteine-_-Foto-Katja-Weinig-1.jpg
GEO:50.1819615;8.4646567
X-APPLE-STRUCTURED-LOCATION;VALUE=URI;X-ADDRESS=Treffpunkt:  auf dem Vorplatz des Königsteiner Rathauses Burgweg 5 Königstein im Taunus 61462;X-APPLE-RADIUS=500;X-TITLE=Burgweg 5:geo:8.4646567,50.1819615
END:VEVENT
BEGIN:VEVENT
DTSTART;TZID=Europe/Berlin:20250720T150000
DTEND;TZID=Europe/Berlin:20250720T150000
DTSTAMP:20260422T185144
CREATED:20250623T120221Z
LAST-MODIFIED:20250623T120544Z
UID:10012402-1753023600-1753023600@xn--knigstein-erleben-zzb.de
SUMMARY:Vom Herzog-Adolph-Denkmal zum Hildablick
DESCRIPTION:Geführter Spaziergang zu den früheren „Kuranlagen“ Königsteins von und mit Stadtarchivarin Dr. Alexandra König\nHeute erscheint es verwunderlich\, dass ein Wetterhäuschen an der Herzog-Adolph-Anlage die Kurgäste über den aktuellen Luftdruck und die Temperarturen informieren soll. Vom Kurpark rings um die Villa Borgnis ist es doch recht weit entfernt. \nWarum der Kurverein das Modell „Tourist“ im Jahr 1910 ausgerechnet an dieser Position aufstellte und wie die Vorstellungen zur Entwicklung des Kurbetriebs zu dieser Zeit waren\, das erläutert Stadtarchivarin Alexandra König bei einem Spaziergang\, der über das Kurbad hinaus in den „Kurpark Falkensteiner Hain“ bis zum „Hildablick“ führt. \nTeilnahme\nDie Teilnahme kostet 5 Euro\, Besitzer der Königsteiner Kur- oder Gästekarte zahlen 2\,50 Euro \nAnmeldung\nDie Anzahl an Teilnahmeplätzen ist begrenzt\, daher wird um Anmeldung gebeten:\nTelefon: (0 61 74) 202 300 oder\nE-Mail: anmeldung@koenigstein.de \n \nFoto: Christian Bandy
URL:https://xn--knigstein-erleben-zzb.de/event/vom-herzog-adolph-denkmal-zum-hildablick/
LOCATION:Treffpunkt: Am Wetterhäuschen\, Herzog-Adolph-Anlage\, Herzog-Adolph-Straße\, Königstein im Taunus\, Hessen\, 61462\, Germany
CATEGORIES:Allgemein,Führung,Geschichte,Heilklima,Kultur
ATTACH;FMTTYPE=image/jpeg:https://xn--knigstein-erleben-zzb.de/wp-content/uploads/2025/06/Wetterstation-Herzog-Adolph-Anlage-CBandy.Beschnitt-scaled.jpg
ORGANIZER;CN="Stadtarchiv K%C3%B6nigstein in Kooperation mit der Kur- und Stadtinformation":MAILTO:info@koenigstein.de
GEO:50.18511;8.465459
X-APPLE-STRUCTURED-LOCATION;VALUE=URI;X-ADDRESS=Treffpunkt: Am Wetterhäuschen Herzog-Adolph-Anlage Herzog-Adolph-Straße Königstein im Taunus Hessen 61462 Germany;X-APPLE-RADIUS=500;X-TITLE=Herzog-Adolph-Straße:geo:8.465459,50.18511
END:VEVENT
BEGIN:VEVENT
DTSTART;TZID=Europe/Berlin:20250720T150000
DTEND;TZID=Europe/Berlin:20250720T180000
DTSTAMP:20260422T185144
CREATED:20250507T181144Z
LAST-MODIFIED:20250625T091430Z
UID:10012182-1753023600-1753034400@xn--knigstein-erleben-zzb.de
SUMMARY:KÖNIGSTEINER EVENT SOMMER | Mandolinen Orchester Falkenstein
DESCRIPTION:  \nMandolinen-Club e.V. Falkenstein im Taunus\nDer Mandolinen-Club Falkenstein wurde 1925 gegründet und ist durch vielerlei Konzertveranstaltungen im In- und Ausland\, die erfolgreiche Teilnahme an Wettstreiten und Festivals sowie Auftritte in Rundfunk und Fernsehen bekannt. Als musikalische Botschafter Königsteins waren die Mandoliner maßgeblich an der Begründung der Städtepartnerschaften mit Le Mêle sur Sarthe in der französischen Normandie und dem polnischen Kornik beteiligt.\nDiverse CD-Produktionen bezeugen die Leistungsfähigkeit des sich aktuell aus über 20 MusikerInnen zu-sammensetzenden und unter der Leitung von Natalia Alencova stehenden Orchesters. Mit abwechslungs-reicher und zeitgenössisch moderner Literatur\, die man von einem Zupforchester nicht unbedingt erwartet\, begeistert das Orchester immer wieder seine Zuhörer.\nDer Verein feiert in diesem Jahr sein 100-jähriges Bestehen. Würdiger Höhepunkt des Jubliäumsjahres wird am 29. November das große Festkonzert im Casals Forum Kronberg sein.\nOrchesterproben finden jeden Dienstag um 20 Uhr im Bürgerhaus Falkenstein statt. Interessierte Musike-rInnen\, gerne auch Quer- und/oder Wiedereinsteiger\, sind jederzeit herzlich willkommen. \nEintritt frei!! \n \nFoto: Zur Verfügung gestellt vom Manodlinen Club Falkenstein |
URL:https://xn--knigstein-erleben-zzb.de/event/koenigsteiner-event-sommer-mandolinen-orchester-falkenstein/
LOCATION:Konrad-Adenauer-Anlage\, Klosterstraße\, Königstein im Taunus\, Hessen\, 61462\, Germany
CATEGORIES:Allgemein,Event Sommer,Konzert
ATTACH;FMTTYPE=image/jpeg:https://xn--knigstein-erleben-zzb.de/wp-content/uploads/2025/05/Orchesterfoto-EventSommer-scaled.jpg
GEO:50.1836003;8.4676372
X-APPLE-STRUCTURED-LOCATION;VALUE=URI;X-ADDRESS=Konrad-Adenauer-Anlage Klosterstraße Königstein im Taunus Hessen 61462 Germany;X-APPLE-RADIUS=500;X-TITLE=Klosterstraße:geo:8.4676372,50.1836003
END:VEVENT
END:VCALENDAR