BEGIN:VCALENDAR
VERSION:2.0
PRODID:-//Königstein - Erleben - ECPv6.15.19//NONSGML v1.0//EN
CALSCALE:GREGORIAN
METHOD:PUBLISH
X-WR-CALNAME:Königstein - Erleben
X-ORIGINAL-URL:https://xn--knigstein-erleben-zzb.de
X-WR-CALDESC:Veranstaltungen für Königstein - Erleben
REFRESH-INTERVAL;VALUE=DURATION:PT1H
X-Robots-Tag:noindex
X-PUBLISHED-TTL:PT1H
BEGIN:VTIMEZONE
TZID:Europe/Berlin
BEGIN:DAYLIGHT
TZOFFSETFROM:+0100
TZOFFSETTO:+0200
TZNAME:CEST
DTSTART:20240331T010000
END:DAYLIGHT
BEGIN:STANDARD
TZOFFSETFROM:+0200
TZOFFSETTO:+0100
TZNAME:CET
DTSTART:20241027T010000
END:STANDARD
BEGIN:DAYLIGHT
TZOFFSETFROM:+0100
TZOFFSETTO:+0200
TZNAME:CEST
DTSTART:20250330T010000
END:DAYLIGHT
BEGIN:STANDARD
TZOFFSETFROM:+0200
TZOFFSETTO:+0100
TZNAME:CET
DTSTART:20251026T010000
END:STANDARD
BEGIN:DAYLIGHT
TZOFFSETFROM:+0100
TZOFFSETTO:+0200
TZNAME:CEST
DTSTART:20260329T010000
END:DAYLIGHT
BEGIN:STANDARD
TZOFFSETFROM:+0200
TZOFFSETTO:+0100
TZNAME:CET
DTSTART:20261025T010000
END:STANDARD
END:VTIMEZONE
BEGIN:VEVENT
DTSTART;VALUE=DATE:20250818
DTEND;VALUE=DATE:20250905
DTSTAMP:20260426T032135
CREATED:20250807T174024Z
LAST-MODIFIED:20250807T174053Z
UID:10017229-1755475200-1757030399@xn--knigstein-erleben-zzb.de
SUMMARY:Spenden für Taschenbörse gesucht - jede Tasche zählt!
DESCRIPTION:Spenden für Taschenbörse gesucht\nDie Fundraisinggruppe des Vereins Frauen helfen Frauen Hochtaunuskreis richten auch in diesem Jahr die beliebte Taschenbörse im Rathaus Oberursel aus. Der gesamte Erlös des Verkaufs kommt von Gewalt betroffenen Frauen und Kindern im Frauenhaus sowie der Beratungsstelle in Oberursel zugute. \nAuch die Königsteinerinnen und Königsteiner sind wieder gefragt. Unterstützen Sie mit Ihrer Spende ein wichtiges Hilfsangebot im Hochtaunuskreis – und machen Sie anderen mit Ihrer ausrangierten Tasche eine Freude! \n  \nGesammelt werden:\n• Taschen und Rucksäcke für Frauen\, Männer und Kinder\n• Portemonnaies\, Kulturbeutel\n• Accessoires wie Gürtel und schöne Tücher\n• Gut verpackter Schmuck\nBitte nur saubere und gut erhaltene Stücke spenden! \nSammelzeitraum:\nAb Montag\, 18. August 2025 bis Donnerstag\, 4. September 2025 \nAbgabeort & Öffnungszeiten:\nKur- und Stadtinformation Königstein\nHauptstraße 13a – 61462 Königstein im Taunus:\n• Mo\, Di\, Do\, Fr: 9:00–17:00 Uhr\n• Sa & So: 10:00–15:00 Uhr \nSchmuckspenden können auch direkt bei der Beratungs- und Interventionsstelle in Oberursel (Oberhöchstadter Straße 3) abgegeben oder in den Briefkasten eingeworfen werden. Für persönliche Abgaben bitte vorher telefonisch anmelden:\n📞 (06171) 51768\nDie Taschenbörse findet am 20. und 21. September 2025 statt – passend zum traditionel-len Herbsttreiben in Oberursel. „An beiden Tagen werden die Türen des Rathauses weit geöffnet sein für den Zustrom von Neugierigen und Kauflustigen\, wenn es heißt: Leute\, kauft Taschen!“\, heißt es vom Verein. \nUnterstützen Sie mit Ihrer Spende ein wichtiges Hilfsangebot im Hochtaunuskreis – und machen Sie anderen mit Ihrer ausrangierten Tasche eine Freude! \n  \n \nPlakat: Frauenhaus Oberursel
URL:https://xn--knigstein-erleben-zzb.de/event/spenden-fuer-taschenboerse-gesucht-jede-tasche-zaehlt/
LOCATION:Kur- und Stadtinformation Königstein\, Hauptstraße 13a\, Königstein im Taunus\, Hessen\, 61462\, Germany
CATEGORIES:Allgemein
ATTACH;FMTTYPE=application/pdf:https://xn--knigstein-erleben-zzb.de/wp-content/uploads/2025/08/FREMD_2025-08-18-bis-09.04-Taschensammelaktion.pdf
GEO:50.1820975;8.4668501
X-APPLE-STRUCTURED-LOCATION;VALUE=URI;X-ADDRESS=Kur- und Stadtinformation Königstein Hauptstraße 13a Königstein im Taunus Hessen 61462 Germany;X-APPLE-RADIUS=500;X-TITLE=Hauptstraße 13a:geo:8.4668501,50.1820975
END:VEVENT
BEGIN:VEVENT
DTSTART;TZID=Europe/Berlin:20250829T080000
DTEND;TZID=Europe/Berlin:20250905T140000
DTSTAMP:20260426T032135
CREATED:20250407T165149Z
LAST-MODIFIED:20251204T141836Z
UID:10006381-1756454400-1757080800@xn--knigstein-erleben-zzb.de
SUMMARY:Königsteiner Wochenmarkt
DESCRIPTION:Qualität und Frische sind unser Anspruch!\nZwischen 8.00 und 14.00 Uhr bieten regionale Händler und auch Erzeuger an ihren Ständen Obst\, Gemüse\, Blumen\, Fleisch\, Fisch\, Geflügel\, Backwaren und weitere saisonale Produkte an. \nBesuchen Sie unseren Wochenmarkt\, Sie werden begeistert sein. Mehr Infos zu den Angeboten finden Sie hier…\nIhre Händler des Königsteiner Wochenmarktes. \n \nFoto: Stadt Königstein im Taunus\, Agentur GEP Nicole Falkus \n 
URL:https://xn--knigstein-erleben-zzb.de/event/koenigsteiner-wochenmarkt/2025-08-29/
LOCATION:Kapuzinerplatz\, Stadtmitte\, Georg-Pingler-Straße\, Königstein im Taunus\, Hessen\, 61462\, Germany
CATEGORIES:Allgemein,Genuss
ATTACH;FMTTYPE=image/jpeg:https://xn--knigstein-erleben-zzb.de/wp-content/uploads/2023/09/KSWochenmarkt.jpg
GEO:50.182567;8.4669365
X-APPLE-STRUCTURED-LOCATION;VALUE=URI;X-ADDRESS=Kapuzinerplatz Stadtmitte Georg-Pingler-Straße Königstein im Taunus Hessen 61462 Germany;X-APPLE-RADIUS=500;X-TITLE=Georg-Pingler-Straße:geo:8.4669365,50.182567
END:VEVENT
END:VCALENDAR