BEGIN:VCALENDAR
VERSION:2.0
PRODID:-//Königstein - Erleben - ECPv6.15.19//NONSGML v1.0//EN
CALSCALE:GREGORIAN
METHOD:PUBLISH
X-ORIGINAL-URL:https://xn--knigstein-erleben-zzb.de
X-WR-CALDESC:Veranstaltungen für Königstein - Erleben
REFRESH-INTERVAL;VALUE=DURATION:PT1H
X-Robots-Tag:noindex
X-PUBLISHED-TTL:PT1H
BEGIN:VTIMEZONE
TZID:Europe/Berlin
BEGIN:DAYLIGHT
TZOFFSETFROM:+0100
TZOFFSETTO:+0200
TZNAME:CEST
DTSTART:20240331T010000
END:DAYLIGHT
BEGIN:STANDARD
TZOFFSETFROM:+0200
TZOFFSETTO:+0100
TZNAME:CET
DTSTART:20241027T010000
END:STANDARD
BEGIN:DAYLIGHT
TZOFFSETFROM:+0100
TZOFFSETTO:+0200
TZNAME:CEST
DTSTART:20250330T010000
END:DAYLIGHT
BEGIN:STANDARD
TZOFFSETFROM:+0200
TZOFFSETTO:+0100
TZNAME:CET
DTSTART:20251026T010000
END:STANDARD
BEGIN:DAYLIGHT
TZOFFSETFROM:+0100
TZOFFSETTO:+0200
TZNAME:CEST
DTSTART:20260329T010000
END:DAYLIGHT
BEGIN:STANDARD
TZOFFSETFROM:+0200
TZOFFSETTO:+0100
TZNAME:CET
DTSTART:20261025T010000
END:STANDARD
END:VTIMEZONE
BEGIN:VEVENT
DTSTART;TZID=Europe/Berlin:20250905T080000
DTEND;TZID=Europe/Berlin:20250912T140000
DTSTAMP:20260425T192752
CREATED:20250407T165149Z
LAST-MODIFIED:20251204T141836Z
UID:10006382-1757059200-1757685600@xn--knigstein-erleben-zzb.de
SUMMARY:Königsteiner Wochenmarkt
DESCRIPTION:Qualität und Frische sind unser Anspruch!\nZwischen 8.00 und 14.00 Uhr bieten regionale Händler und auch Erzeuger an ihren Ständen Obst\, Gemüse\, Blumen\, Fleisch\, Fisch\, Geflügel\, Backwaren und weitere saisonale Produkte an. \nBesuchen Sie unseren Wochenmarkt\, Sie werden begeistert sein. Mehr Infos zu den Angeboten finden Sie hier…\nIhre Händler des Königsteiner Wochenmarktes. \n \nFoto: Stadt Königstein im Taunus\, Agentur GEP Nicole Falkus \n 
URL:https://xn--knigstein-erleben-zzb.de/event/koenigsteiner-wochenmarkt/2025-09-05/
LOCATION:Kapuzinerplatz\, Stadtmitte\, Georg-Pingler-Straße\, Königstein im Taunus\, Hessen\, 61462\, Germany
CATEGORIES:Allgemein,Genuss
ATTACH;FMTTYPE=image/jpeg:https://xn--knigstein-erleben-zzb.de/wp-content/uploads/2023/09/KSWochenmarkt.jpg
GEO:50.182567;8.4669365
X-APPLE-STRUCTURED-LOCATION;VALUE=URI;X-ADDRESS=Kapuzinerplatz Stadtmitte Georg-Pingler-Straße Königstein im Taunus Hessen 61462 Germany;X-APPLE-RADIUS=500;X-TITLE=Georg-Pingler-Straße:geo:8.4669365,50.182567
END:VEVENT
BEGIN:VEVENT
DTSTART;VALUE=DATE:20250907
DTEND;VALUE=DATE:20250928
DTSTAMP:20260425T192752
CREATED:20250819T150312Z
LAST-MODIFIED:20250819T150416Z
UID:10017245-1757203200-1759017599@xn--knigstein-erleben-zzb.de
SUMMARY:Stadtradeln in Königstein
DESCRIPTION:Die Kampagne des Klima Bündnis geht in die achte Runde!\nStadtradeln ist eine Kampagne für mehr Radförderung\, Klimaschutz und Lebensqualität. Stadtradeln fühlt sich an\, wie ein Wettbewerb\, bei dem 21 Tage lang möglichst viele Alltagswege klimafreundlich mit dem Fahrrad zurückzulegen sind – egal ob beruflich oder privat. \nSchulradeln?\nSchulradeln ist ein „Wettbewerb im Wettbewerb“ und richtet sich speziell an Schülerinnen und Schüler\, um eine nachhaltige\, gesunde sowie selbst-/eigenständige Mobilität anzuregen. Eltern und Lehrer sollen das natürlich unterstützen. \nWorauf kommt es an?\nWie häufig geradelt wird und welche Strecken zurückgelegt werden\, ist beinahe nebensächlich – auf das Mitmachen kommt es an\, denn: Jeder Kilometer zählt. \n  \nWer kann mitmachen?\nMitmachen können alle\, die in Königstein leben\, arbeiten\, zur Schule gehen oder einem Verein angehören. \nWo und wie melde ich mich an?\nAuf stadtradeln.de/koenigstein  -> „Jetzt Mitmachen“ -> „Registrierung“ -> Bundesland und Kommune auswählen -> Team auswählen (oder ein eigenes Team/Unterteam gründen) -> registrieren \nWie trage ich erradelte Kilometer ein?\nMit der Stadtradeln-App lassen sich die Kilometer gleich beim Radeln erfassen. Alternativ können diese online nachgetragen oder per Formular in der Kur- und Stadtinformation zum Eintragen eingereicht werden. \n  \n \nStadtradeln-Eröffnungstour-Team 2024; Foto Christian Bandy
URL:https://xn--knigstein-erleben-zzb.de/event/stadtradeln-in-koenigstein-2/
LOCATION:Königstein im Taunus\, Königstein im Taunus\, Hessen\, 61462\, Germany
CATEGORIES:Allgemein,Gesundheit,Heilklima,Klimaschutz,Radeln,Sport
ATTACH;FMTTYPE=image/jpeg:https://xn--knigstein-erleben-zzb.de/wp-content/uploads/2024/08/Stadtradeln-Logo-pur.jpg
GEO:50.18333;8.4675
END:VEVENT
BEGIN:VEVENT
DTSTART;TZID=Europe/Berlin:20250911T180000
DTEND;TZID=Europe/Berlin:20250911T180000
DTSTAMP:20260425T192752
CREATED:20250321T132929Z
LAST-MODIFIED:20251114T155654Z
UID:10006030-1757613600-1757613600@xn--knigstein-erleben-zzb.de
SUMMARY:Donnerstags DJ Beats 
DESCRIPTION:Fast Wochenende. Aber eben nur fast. Oder doch schon?\nBesuchen Sie die Tizians Bar in der Villa Rothschild immer donnerstags\nund freuen Sie sich auf ein paar chillige Beats. \nGute Drinks\, gute Snacks\, gute Leute … und natürlich gute Beats. Voilà! \nReservierung übrigens nicht notwendig. Aufgelegt wird ab 18 Uhr. Vorbeischauen\, reinkommen\, ankommen\, genießen. Wir hören uns! \n \nFoto bereitgestellt von der Broermann Health & Heritage Hotels GmbH
URL:https://xn--knigstein-erleben-zzb.de/event/donnerstags-dj-beats/2025-09-11/
LOCATION:Tizians Bar in der Villa Rothschild\, Im Rothschildpark 1\, Königstein im Taunus\, Hessen\, 61462\, Germany
ATTACH;FMTTYPE=image/jpeg:https://xn--knigstein-erleben-zzb.de/wp-content/uploads/2025/03/VR-Donnerstags-DJ-Beats-e1742564926506.jpg
GEO:50.1832832;8.4718445
X-APPLE-STRUCTURED-LOCATION;VALUE=URI;X-ADDRESS=Tizians Bar in der Villa Rothschild Im Rothschildpark 1 Königstein im Taunus Hessen 61462 Germany;X-APPLE-RADIUS=500;X-TITLE=Im Rothschildpark 1:geo:8.4718445,50.1832832
END:VEVENT
END:VCALENDAR