BEGIN:VCALENDAR
VERSION:2.0
PRODID:-//Königstein - Erleben - ECPv6.15.19//NONSGML v1.0//EN
CALSCALE:GREGORIAN
METHOD:PUBLISH
X-WR-CALNAME:Königstein - Erleben
X-ORIGINAL-URL:https://xn--knigstein-erleben-zzb.de
X-WR-CALDESC:Veranstaltungen für Königstein - Erleben
REFRESH-INTERVAL;VALUE=DURATION:PT1H
X-Robots-Tag:noindex
X-PUBLISHED-TTL:PT1H
BEGIN:VTIMEZONE
TZID:Europe/Berlin
BEGIN:DAYLIGHT
TZOFFSETFROM:+0100
TZOFFSETTO:+0200
TZNAME:CEST
DTSTART:20240331T010000
END:DAYLIGHT
BEGIN:STANDARD
TZOFFSETFROM:+0200
TZOFFSETTO:+0100
TZNAME:CET
DTSTART:20241027T010000
END:STANDARD
BEGIN:DAYLIGHT
TZOFFSETFROM:+0100
TZOFFSETTO:+0200
TZNAME:CEST
DTSTART:20250330T010000
END:DAYLIGHT
BEGIN:STANDARD
TZOFFSETFROM:+0200
TZOFFSETTO:+0100
TZNAME:CET
DTSTART:20251026T010000
END:STANDARD
BEGIN:DAYLIGHT
TZOFFSETFROM:+0100
TZOFFSETTO:+0200
TZNAME:CEST
DTSTART:20260329T010000
END:DAYLIGHT
BEGIN:STANDARD
TZOFFSETFROM:+0200
TZOFFSETTO:+0100
TZNAME:CET
DTSTART:20261025T010000
END:STANDARD
END:VTIMEZONE
BEGIN:VEVENT
DTSTART;VALUE=DATE:20250907
DTEND;VALUE=DATE:20250928
DTSTAMP:20260425T233606
CREATED:20250819T150312Z
LAST-MODIFIED:20250819T150416Z
UID:10017245-1757203200-1759017599@xn--knigstein-erleben-zzb.de
SUMMARY:Stadtradeln in Königstein
DESCRIPTION:Die Kampagne des Klima Bündnis geht in die achte Runde!\nStadtradeln ist eine Kampagne für mehr Radförderung\, Klimaschutz und Lebensqualität. Stadtradeln fühlt sich an\, wie ein Wettbewerb\, bei dem 21 Tage lang möglichst viele Alltagswege klimafreundlich mit dem Fahrrad zurückzulegen sind – egal ob beruflich oder privat. \nSchulradeln?\nSchulradeln ist ein „Wettbewerb im Wettbewerb“ und richtet sich speziell an Schülerinnen und Schüler\, um eine nachhaltige\, gesunde sowie selbst-/eigenständige Mobilität anzuregen. Eltern und Lehrer sollen das natürlich unterstützen. \nWorauf kommt es an?\nWie häufig geradelt wird und welche Strecken zurückgelegt werden\, ist beinahe nebensächlich – auf das Mitmachen kommt es an\, denn: Jeder Kilometer zählt. \n  \nWer kann mitmachen?\nMitmachen können alle\, die in Königstein leben\, arbeiten\, zur Schule gehen oder einem Verein angehören. \nWo und wie melde ich mich an?\nAuf stadtradeln.de/koenigstein  -> „Jetzt Mitmachen“ -> „Registrierung“ -> Bundesland und Kommune auswählen -> Team auswählen (oder ein eigenes Team/Unterteam gründen) -> registrieren \nWie trage ich erradelte Kilometer ein?\nMit der Stadtradeln-App lassen sich die Kilometer gleich beim Radeln erfassen. Alternativ können diese online nachgetragen oder per Formular in der Kur- und Stadtinformation zum Eintragen eingereicht werden. \n  \n \nStadtradeln-Eröffnungstour-Team 2024; Foto Christian Bandy
URL:https://xn--knigstein-erleben-zzb.de/event/stadtradeln-in-koenigstein-2/
LOCATION:Königstein im Taunus\, Königstein im Taunus\, Hessen\, 61462\, Germany
CATEGORIES:Allgemein,Gesundheit,Heilklima,Klimaschutz,Radeln,Sport
ATTACH;FMTTYPE=image/jpeg:https://xn--knigstein-erleben-zzb.de/wp-content/uploads/2024/08/Stadtradeln-Logo-pur.jpg
GEO:50.18333;8.4675
END:VEVENT
BEGIN:VEVENT
DTSTART;TZID=Europe/Berlin:20250912T080000
DTEND;TZID=Europe/Berlin:20250919T140000
DTSTAMP:20260425T233606
CREATED:20250407T165149Z
LAST-MODIFIED:20251204T141836Z
UID:10006383-1757664000-1758290400@xn--knigstein-erleben-zzb.de
SUMMARY:Königsteiner Wochenmarkt
DESCRIPTION:Qualität und Frische sind unser Anspruch!\nZwischen 8.00 und 14.00 Uhr bieten regionale Händler und auch Erzeuger an ihren Ständen Obst\, Gemüse\, Blumen\, Fleisch\, Fisch\, Geflügel\, Backwaren und weitere saisonale Produkte an. \nBesuchen Sie unseren Wochenmarkt\, Sie werden begeistert sein. Mehr Infos zu den Angeboten finden Sie hier…\nIhre Händler des Königsteiner Wochenmarktes. \n \nFoto: Stadt Königstein im Taunus\, Agentur GEP Nicole Falkus \n 
URL:https://xn--knigstein-erleben-zzb.de/event/koenigsteiner-wochenmarkt/2025-09-12/
LOCATION:Kapuzinerplatz\, Stadtmitte\, Georg-Pingler-Straße\, Königstein im Taunus\, Hessen\, 61462\, Germany
CATEGORIES:Allgemein,Genuss
ATTACH;FMTTYPE=image/jpeg:https://xn--knigstein-erleben-zzb.de/wp-content/uploads/2023/09/KSWochenmarkt.jpg
GEO:50.182567;8.4669365
X-APPLE-STRUCTURED-LOCATION;VALUE=URI;X-ADDRESS=Kapuzinerplatz Stadtmitte Georg-Pingler-Straße Königstein im Taunus Hessen 61462 Germany;X-APPLE-RADIUS=500;X-TITLE=Georg-Pingler-Straße:geo:8.4669365,50.182567
END:VEVENT
BEGIN:VEVENT
DTSTART;TZID=Europe/Berlin:20250917T100000
DTEND;TZID=Europe/Berlin:20250917T153000
DTSTAMP:20260425T233606
CREATED:20250826T144029Z
LAST-MODIFIED:20250826T144053Z
UID:10017261-1758103200-1758123000@xn--knigstein-erleben-zzb.de
SUMMARY:Mittwochswanderung des Taunusklubs
DESCRIPTION:Neuer Limesturm in Glashütten\nMallmannstein – Dorsweg – Glashütten – Limeserlebnispfad – Castell Maisel – Aussichtsturm – Glashütten. Ca. 9 km\, Anstieg 200 m\, Abstieg 230 m \nAbfahrt Königstein Stadtmitte mit Bus 223 um 10.04 Uhr \nEinkehr: „Jägerhof“ \nRückfahrt ab Glashütten Am Brünnchen mit Bus 223 um 14.46 Uhr oder mit Bus 81/60 um 15.07 Uhr \n \nFoto: Taunusklub Königstein
URL:https://xn--knigstein-erleben-zzb.de/event/mittwochswanderung-des-taunusklubs/
LOCATION:Bushaltestellen Stadtmitte\, Georg-Pingler-Straße\, Königstein im Taunus\, Hessen\, 61462\, Germany
CATEGORIES:Allgemein,Wandern
ATTACH;FMTTYPE=image/jpeg:https://xn--knigstein-erleben-zzb.de/wp-content/uploads/2025/08/abe88829-8ace-4883-bf11-ea2c43edb357.jpeg
GEO:50.1837581;8.4677721
X-APPLE-STRUCTURED-LOCATION;VALUE=URI;X-ADDRESS=Bushaltestellen Stadtmitte Georg-Pingler-Straße Königstein im Taunus Hessen 61462 Germany;X-APPLE-RADIUS=500;X-TITLE=Georg-Pingler-Straße:geo:8.4677721,50.1837581
END:VEVENT
BEGIN:VEVENT
DTSTART;TZID=Europe/Berlin:20250917T183000
DTEND;TZID=Europe/Berlin:20250917T203000
DTSTAMP:20260425T233606
CREATED:20250408T115115Z
LAST-MODIFIED:20250408T115158Z
UID:10006357-1758133800-1758141000@xn--knigstein-erleben-zzb.de
SUMMARY:RadRunde am Abend mit dem ADFC
DESCRIPTION:Gesellige Feierabendtour rund um die Burgenstadt\nDie Routen führen über gut ausgebaute Feld- und Waldwege und manche Seitenstraßen. Geradelt wird über sanfte Taunushügel und durch Täler\, entlang von Bächen und Streuobstwiesen. Gelegentlich nutzen wir den Radelschwung zur gemütlichen Einkehr.\n\n\n\n\nBild: ADFC Hochtaunus e.V. – Ortsgruppe Königstein
URL:https://xn--knigstein-erleben-zzb.de/event/radrunde-am-abend-mit-dem-adfc-7/
LOCATION:Treffpunkt: Kur- und Stadtinformation\, Hauptstraße 13 a\, Königstein im Taunus\, Hessen\, 61462\, Germany
CATEGORIES:Allgemein,Ausflug,Radeln
ATTACH;FMTTYPE=image/jpeg:https://xn--knigstein-erleben-zzb.de/wp-content/uploads/2025/04/2023-06-04_Sitzkastanien_Mamm_ADFC_J-Hufler-10.jpg
ORGANIZER;CN="ADFC Hochtaunus e.V.%2C Ortsgruppe K%C3%B6nigstein":MAILTO:didier.hufler@adfc-hochtaunus.de
GEO:50.1820975;8.4668501
X-APPLE-STRUCTURED-LOCATION;VALUE=URI;X-ADDRESS=Treffpunkt: Kur- und Stadtinformation Hauptstraße 13 a Königstein im Taunus Hessen 61462 Germany;X-APPLE-RADIUS=500;X-TITLE=Hauptstraße 13 a:geo:8.4668501,50.1820975
END:VEVENT
END:VCALENDAR