BEGIN:VCALENDAR
VERSION:2.0
PRODID:-//Königstein - Erleben - ECPv6.15.19//NONSGML v1.0//EN
CALSCALE:GREGORIAN
METHOD:PUBLISH
X-ORIGINAL-URL:https://xn--knigstein-erleben-zzb.de
X-WR-CALDESC:Veranstaltungen für Königstein - Erleben
REFRESH-INTERVAL;VALUE=DURATION:PT1H
X-Robots-Tag:noindex
X-PUBLISHED-TTL:PT1H
BEGIN:VTIMEZONE
TZID:Europe/Berlin
BEGIN:DAYLIGHT
TZOFFSETFROM:+0100
TZOFFSETTO:+0200
TZNAME:CEST
DTSTART:20240331T010000
END:DAYLIGHT
BEGIN:STANDARD
TZOFFSETFROM:+0200
TZOFFSETTO:+0100
TZNAME:CET
DTSTART:20241027T010000
END:STANDARD
BEGIN:DAYLIGHT
TZOFFSETFROM:+0100
TZOFFSETTO:+0200
TZNAME:CEST
DTSTART:20250330T010000
END:DAYLIGHT
BEGIN:STANDARD
TZOFFSETFROM:+0200
TZOFFSETTO:+0100
TZNAME:CET
DTSTART:20251026T010000
END:STANDARD
BEGIN:DAYLIGHT
TZOFFSETFROM:+0100
TZOFFSETTO:+0200
TZNAME:CEST
DTSTART:20260329T010000
END:DAYLIGHT
BEGIN:STANDARD
TZOFFSETFROM:+0200
TZOFFSETTO:+0100
TZNAME:CET
DTSTART:20261025T010000
END:STANDARD
END:VTIMEZONE
BEGIN:VEVENT
DTSTART;VALUE=DATE:20250907
DTEND;VALUE=DATE:20250928
DTSTAMP:20260425T135812
CREATED:20250819T150312Z
LAST-MODIFIED:20250819T150416Z
UID:10017245-1757203200-1759017599@xn--knigstein-erleben-zzb.de
SUMMARY:Stadtradeln in Königstein
DESCRIPTION:Die Kampagne des Klima Bündnis geht in die achte Runde!\nStadtradeln ist eine Kampagne für mehr Radförderung\, Klimaschutz und Lebensqualität. Stadtradeln fühlt sich an\, wie ein Wettbewerb\, bei dem 21 Tage lang möglichst viele Alltagswege klimafreundlich mit dem Fahrrad zurückzulegen sind – egal ob beruflich oder privat. \nSchulradeln?\nSchulradeln ist ein „Wettbewerb im Wettbewerb“ und richtet sich speziell an Schülerinnen und Schüler\, um eine nachhaltige\, gesunde sowie selbst-/eigenständige Mobilität anzuregen. Eltern und Lehrer sollen das natürlich unterstützen. \nWorauf kommt es an?\nWie häufig geradelt wird und welche Strecken zurückgelegt werden\, ist beinahe nebensächlich – auf das Mitmachen kommt es an\, denn: Jeder Kilometer zählt. \n  \nWer kann mitmachen?\nMitmachen können alle\, die in Königstein leben\, arbeiten\, zur Schule gehen oder einem Verein angehören. \nWo und wie melde ich mich an?\nAuf stadtradeln.de/koenigstein  -> „Jetzt Mitmachen“ -> „Registrierung“ -> Bundesland und Kommune auswählen -> Team auswählen (oder ein eigenes Team/Unterteam gründen) -> registrieren \nWie trage ich erradelte Kilometer ein?\nMit der Stadtradeln-App lassen sich die Kilometer gleich beim Radeln erfassen. Alternativ können diese online nachgetragen oder per Formular in der Kur- und Stadtinformation zum Eintragen eingereicht werden. \n  \n \nStadtradeln-Eröffnungstour-Team 2024; Foto Christian Bandy
URL:https://xn--knigstein-erleben-zzb.de/event/stadtradeln-in-koenigstein-2/
LOCATION:Königstein im Taunus\, Königstein im Taunus\, Hessen\, 61462\, Germany
CATEGORIES:Allgemein,Gesundheit,Heilklima,Klimaschutz,Radeln,Sport
ATTACH;FMTTYPE=image/jpeg:https://xn--knigstein-erleben-zzb.de/wp-content/uploads/2024/08/Stadtradeln-Logo-pur.jpg
GEO:50.18333;8.4675
END:VEVENT
BEGIN:VEVENT
DTSTART;TZID=Europe/Berlin:20250926T080000
DTEND;TZID=Europe/Berlin:20251003T140000
DTSTAMP:20260425T135812
CREATED:20250407T165149Z
LAST-MODIFIED:20251204T141836Z
UID:10006385-1758873600-1759500000@xn--knigstein-erleben-zzb.de
SUMMARY:Königsteiner Wochenmarkt
DESCRIPTION:Qualität und Frische sind unser Anspruch!\nZwischen 8.00 und 14.00 Uhr bieten regionale Händler und auch Erzeuger an ihren Ständen Obst\, Gemüse\, Blumen\, Fleisch\, Fisch\, Geflügel\, Backwaren und weitere saisonale Produkte an. \nBesuchen Sie unseren Wochenmarkt\, Sie werden begeistert sein. Mehr Infos zu den Angeboten finden Sie hier…\nIhre Händler des Königsteiner Wochenmarktes. \n \nFoto: Stadt Königstein im Taunus\, Agentur GEP Nicole Falkus \n 
URL:https://xn--knigstein-erleben-zzb.de/event/koenigsteiner-wochenmarkt/2025-09-26/
LOCATION:Kapuzinerplatz\, Stadtmitte\, Georg-Pingler-Straße\, Königstein im Taunus\, Hessen\, 61462\, Germany
CATEGORIES:Allgemein,Genuss
ATTACH;FMTTYPE=image/jpeg:https://xn--knigstein-erleben-zzb.de/wp-content/uploads/2023/09/KSWochenmarkt.jpg
GEO:50.182567;8.4669365
X-APPLE-STRUCTURED-LOCATION;VALUE=URI;X-ADDRESS=Kapuzinerplatz Stadtmitte Georg-Pingler-Straße Königstein im Taunus Hessen 61462 Germany;X-APPLE-RADIUS=500;X-TITLE=Georg-Pingler-Straße:geo:8.4669365,50.182567
END:VEVENT
BEGIN:VEVENT
DTSTART;TZID=Europe/Berlin:20250927T110000
DTEND;TZID=Europe/Berlin:20250927T160000
DTSTAMP:20260425T135812
CREATED:20250901T081938Z
LAST-MODIFIED:20250901T083656Z
UID:10017281-1758970800-1758988800@xn--knigstein-erleben-zzb.de
SUMMARY:Tag der offenen Tür im Rathaus Königstein
DESCRIPTION:Plakat: Stadt Königstein im Taunus \nHerzliche Einladung der Stadt Königstein im Taunus zum Tag der offenen Tür im Rathaus. Besucherinnen und Besucher erhalten die Gelegenheit\, einen Blick hinter die Kulissen der Stadtverwaltung zu werfen. Auf dem Programm stehen Führungen durch das Rathaus und durch die Villa Borgnis\, in der das Standesamt untergebracht war und die jetzt renoviert wird. Es gibt einen bereiten Einblick und viele Informationen zur Arbeit der Verwaltung. Unter dem Motto „Stadtgeschichte trifft Zukunft“ werden außerdem Projekte zur nachhaltigen Mobilität vorgestellt. \nAuch Feuerwehr\, Polizei und Betriebshof sind vor Ort und präsentieren ihre Arbeit. Ergänzt wird das Angebot durch ein Kinderprogramm sowie verschiedene kulinarische Stände. Zugesagt hat auch schon der Partnerschaftsverein Le Cannet. Die Stadtverwaltung freut sich auf zahlreiche Gäste. \n  \nFahrrad-Codierung beim Tag der offenen Tür in Königstein\nWer sein Fahrrad besser vor Diebstahl schützen möchte\, hat beim Tag der offenen Tür der Stadt Königstein die Gelegenheit: Der Regionale Verkehrsdienst bietet von 11.00 bis 16.00 Uhr eine kostenlose Fahrrad-Codierung an. Dabei wird eine individuelle Nummer in den Rahmen des Fahrrads eingeschlagen. So kann die Polizei gestohlene Räder eindeutig zuordnen und die rechtmäßigen Besitzerinnen und Besitzer ermitteln. Ein zusätzlicher Aufkleber macht sichtbar\, dass das Fahrrad codiert ist – und schreckt Diebe ab. Bitte beachten Sie: Fahrräder mit Carbonrahmen oder speziellen Materialien können nicht codiert werden. Für die Codierung werden ein gültiges Ausweisdokument sowie ein Kaufbeleg oder ein anderer Eigentumsnachweis benötigt. Damit alles reibungslos klappt\, empfiehlt es sich\, vorab die Rahmennummer des Fahrrads mit der Rechnung zu vergleichen. Eine Anmeldung vorab ist erforderlich – entweder per E-Mail an ordnung@koenigstein.de oder telefonisch unter (06174) 202-212. Nach der Anmeldung erhalten Sie eine Einverständniserklärung\, die zur Codierung unterschrieben mitgebracht werden muss. Da die Plätze begrenzt sind\, gilt: Die Termine werden in der Reihenfolge der Anmeldungen vergeben. \n  \n  \n 
URL:https://xn--knigstein-erleben-zzb.de/event/tag-der-offenen-tuere-im-rathaus-koenigstein/
LOCATION:Rathaus Königstein
CATEGORIES:Allgemein,Informationsveranstaltung
ATTACH;FMTTYPE=application/pdf:https://xn--knigstein-erleben-zzb.de/wp-content/uploads/2025/09/STADT-2025-09-27-Tag-der-offenen-Tuer-Rathaus.pdf
GEO:50.1819615;8.4646567
END:VEVENT
BEGIN:VEVENT
DTSTART;TZID=Europe/Berlin:20250927T140000
DTEND;TZID=Europe/Berlin:20250927T140000
DTSTAMP:20260425T135812
CREATED:20250924T164024Z
LAST-MODIFIED:20250924T164534Z
UID:10017405-1758981600-1758981600@xn--knigstein-erleben-zzb.de
SUMMARY:ADFC-Stadtradeln-Abschlusstour(en) & großes Tour-de-Hochtaunuskreis-Finale
DESCRIPTION:Zum Auftakt des Stadtradeln-Abschlusses laden der ADFC Königstein und Kronberg zu gemütlichen Rundfahrten vor der Höhe herzlich ein.\nStadtradeln-Abschlusstour Teil 1 (mit dem ADFC-Königstein) | Kapuzinerplatz 14.00 Uhr\nDie Tour ist rund 20 km lang und verläuft wie folgt: Von Königstein über Altenhain ins Schmiebachtal zum Kelkheim Kloster\, weiter ins Braubachtal und dann geht es über Schneidhain auch schon wieder zurück nach Königstein\, … \nZwischenspiel\n… wo am Rathaus (gegen 16.00 Uhr) die Staffelstabträger der Tour de Hochtaunuskreis abgeholt und zur feierlichen Weitergabe nach Kronberg begleitet werden. In Kronberg wird der Staffelstab an Bürgermeister Christoph König übergeben und dann geht’s wieder heim nach Königstein … \nStadtradeln-Abschlusstour Teil 2 (mit dem ADFC-Kronberg) | Berliner Platz (ca.) 17.00 Uhr\n… oder man genießt noch eine Runde mit dem ADFC Kronberg\, die den zweiten Teil der Stadtradeln-Abschlusstour anbieten\, die durch die Altstadt und auf der Safari-Route zum Arboretum führt\, das Kuhkarrussel passiert und über den Figurenpark in Niederhöchstadt wieder zurück nach Kronberg führt.
URL:https://xn--knigstein-erleben-zzb.de/event/adfc-stadtradeln-abschlusstouren/
LOCATION:Treffpunkt: Kapuzinerplatz Stadtmitte\, Georg-Pingler-Straße\, Königstein im Taunus\, Hessen\, 61462\, Germany
ATTACH;FMTTYPE=image/png:https://xn--knigstein-erleben-zzb.de/wp-content/uploads/2025/09/Stadtradeln-Kind-A1-ChatGPT-scaled.png
ORGANIZER;CN="ADFC Hochtaunus e.V.%2C Ortsgruppe K%C3%B6nigstein":MAILTO:didier.hufler@adfc-hochtaunus.de
GEO:50.1837581;8.4677721
X-APPLE-STRUCTURED-LOCATION;VALUE=URI;X-ADDRESS=Treffpunkt: Kapuzinerplatz Stadtmitte Georg-Pingler-Straße Königstein im Taunus Hessen 61462 Germany;X-APPLE-RADIUS=500;X-TITLE=Georg-Pingler-Straße:geo:8.4677721,50.1837581
END:VEVENT
BEGIN:VEVENT
DTSTART;TZID=Europe/Berlin:20250927T143000
DTEND;TZID=Europe/Berlin:20250927T220000
DTSTAMP:20260425T135812
CREATED:20250826T142855Z
LAST-MODIFIED:20250826T143132Z
UID:10017264-1758983400-1759010400@xn--knigstein-erleben-zzb.de
SUMMARY:Erntedankfest des Königsteiner Kleingärtnervereins e. V.
DESCRIPTION:Erntedankfest des Königsteiner Kleingärtnervereins\nMit einem traditionellen Erntedankfest verabschieden sich die Königsteiner Kleingärtner am Samstag\, 27. September 2025 aus der Gartensaison. Wetterunabhängig im Festzelt beginnt das Fest in der Kleingartenanlage „Im stillen Hain“ (unterhalb der Burg am Bahndamm – Ende Seilerbahnweg) um 14.30 Uhr mit einem Wort-Gottesdienst. \nDa bei uns der Nachwuchs nicht zu kurz kommen soll\, können die Kleinen und Kleinsten (unter Anleitung) von 16 bis 18 Uhr an einem abwechslungsreichen Kinderprogramm teilnehmen. \nDer Festausschuss hat sich alle Mühe gegeben und einen bunten Erntedank-Altar im Festzelt errichtet. Für das leibliche Wohl ist mit einer Kuchentheke und allerlei Leckereien vom Grill und frischen Salaten gesorgt. Ab 17 Uhr werden unsere Gäste mit Live-Musik unterhalten und auf Wunsch können Interessenten an einer Gartenparzelle auch gerne an einer Führung durch die herbstlichen Gärten in der Kleingartenanlage „Im Stillen Hain“ teilnehmen und sich Tipps zum biologischen Anbau von Zierpflanzen\, Obst und Gemüse holen. \nBitte die Parkmöglichkeiten am evangelischen Kindergarten\, am Bahnhof oder in der Stadtmitte nutzen! \n  \n \nPlakat: Kleingärnerverein Königstein e.V.
URL:https://xn--knigstein-erleben-zzb.de/event/erntedankfest-des-koenigsteiner-kleingaertnervereins-e-v/
LOCATION:Im stillen Hain\, Vereinsgelände Kleingärtnerverein\, Seilerbahnweg\, Königstein im Taunus\, Hessen\, 61462\, Germany
CATEGORIES:Allgemein,Familienfest,Genuss,Kultur,Unterhaltung
ATTACH;FMTTYPE=image/jpeg:https://xn--knigstein-erleben-zzb.de/wp-content/uploads/2025/08/Plakat_Erntedankfest_2025-scaled.jpg
ORGANIZER;CN="Kleing%C3%A4rtnerverein K%C3%B6nigstein e.V.":MAILTO:lothar.vogt@yahoo.com
GEO:50.1805706;8.4654163
X-APPLE-STRUCTURED-LOCATION;VALUE=URI;X-ADDRESS=Im stillen Hain Vereinsgelände Kleingärtnerverein Seilerbahnweg Königstein im Taunus Hessen 61462 Germany;X-APPLE-RADIUS=500;X-TITLE=Seilerbahnweg:geo:8.4654163,50.1805706
END:VEVENT
END:VCALENDAR