BEGIN:VCALENDAR
VERSION:2.0
PRODID:-//Königstein - Erleben - ECPv6.15.19//NONSGML v1.0//EN
CALSCALE:GREGORIAN
METHOD:PUBLISH
X-WR-CALNAME:Königstein - Erleben
X-ORIGINAL-URL:https://xn--knigstein-erleben-zzb.de
X-WR-CALDESC:Veranstaltungen für Königstein - Erleben
REFRESH-INTERVAL;VALUE=DURATION:PT1H
X-Robots-Tag:noindex
X-PUBLISHED-TTL:PT1H
BEGIN:VTIMEZONE
TZID:Europe/Berlin
BEGIN:DAYLIGHT
TZOFFSETFROM:+0100
TZOFFSETTO:+0200
TZNAME:CEST
DTSTART:20240331T010000
END:DAYLIGHT
BEGIN:STANDARD
TZOFFSETFROM:+0200
TZOFFSETTO:+0100
TZNAME:CET
DTSTART:20241027T010000
END:STANDARD
BEGIN:DAYLIGHT
TZOFFSETFROM:+0100
TZOFFSETTO:+0200
TZNAME:CEST
DTSTART:20250330T010000
END:DAYLIGHT
BEGIN:STANDARD
TZOFFSETFROM:+0200
TZOFFSETTO:+0100
TZNAME:CET
DTSTART:20251026T010000
END:STANDARD
BEGIN:DAYLIGHT
TZOFFSETFROM:+0100
TZOFFSETTO:+0200
TZNAME:CEST
DTSTART:20260329T010000
END:DAYLIGHT
BEGIN:STANDARD
TZOFFSETFROM:+0200
TZOFFSETTO:+0100
TZNAME:CET
DTSTART:20261025T010000
END:STANDARD
END:VTIMEZONE
BEGIN:VEVENT
DTSTART;VALUE=DATE:20251003
DTEND;VALUE=DATE:20251006
DTSTAMP:20260425T153305
CREATED:20250929T133509Z
LAST-MODIFIED:20250929T133559Z
UID:10017414-1759449600-1759708799@xn--knigstein-erleben-zzb.de
SUMMARY:Mammolshainer Kerb 2025
DESCRIPTION:Plakat: Kerbeverein Mammolshain e.V.
URL:https://xn--knigstein-erleben-zzb.de/event/mammolshainer-kerb-2025/
LOCATION:Bornplatz\, Königstein im Taunus\, Hessen\, 61462\, Germany
CATEGORIES:Allgemein,Familienfest,Genuss,Geschichte,Jugend,Kinder,Kirche,Unterhaltung
ATTACH;FMTTYPE=application/pdf:https://xn--knigstein-erleben-zzb.de/wp-content/uploads/2025/09/FREMD_2025-10-3-5-Mammolshainer-Kerb.pdf
GEO:50.1700146;8.4945849
END:VEVENT
BEGIN:VEVENT
DTSTART;TZID=Europe/Berlin:20251005T150000
DTEND;TZID=Europe/Berlin:20251005T150000
DTSTAMP:20260425T153305
CREATED:20250212T144056Z
LAST-MODIFIED:20250924T130440Z
UID:10004345-1759676400-1759676400@xn--knigstein-erleben-zzb.de
SUMMARY:Königsteiner Stadt- und Burgführung
DESCRIPTION:Unterhaltsamer Spaziergang durch Altstadt\, Kurpark und Stadtmitte auf die Burg \nDie etwa 90-minütigen Führung widmet sich den Highlights der zahlreichen Königsteiner Sehenswürdigkeiten\, darunter die Villa Borgnis\, eine der ersten mondänen Sommervillen\, zurzeit zu Renovierungszwecken verhüllt. \nAuch der Verlauf der alten Reichsstraße\, die von Frankfurt nach Köln führte und Königstein durchquerte\, das Königsteiner Kurbad\, das farbenfroh im Gegenhang des Burgbergs leuchtet und die Entwicklung Königsteins als Gesundheitsstandortort und Heilklimatischen Kurort\, werden thematisiert. \nAbschließend geht es hinauf auf die Burgruine. Ihre wechselvolle Geschichte reicht von der mittelalterlichen Ritterburg über das Schloss der Renaissance bis zur Nutzung als Staatsgefängnis. Jede Epoche hat ihre Spuren hinterlassen\, die es zu entdecken gilt. \nKonditionen\nDie Teilnahme kostet 5 Euro\, mit Königsteiner Kur- oder Gästekarte 2\,50 Euro\nKinder mitlaufender Eltern sind (bis zum 18. Geburtstag) frei \nUm Anmeldung wird gebeten:\nTelefon: (0 61 74) 202 300 oder\nE-Mail: anmeldung@koenigstein.de \nVeranstalterin\nist die Kur- und Stadtinformation in Kooperation mit dem Stadtarchiv der Stadt Königstein im Taunus \n\n \nFoto: Florian Trykowski |
URL:https://xn--knigstein-erleben-zzb.de/event/koenigsteiner-stadt-und-burgfuehrung-22/
LOCATION:Treffpunkt: Kur- und Stadtinformation\, Hauptstraße 13 a\, Königstein im Taunus\, Hessen\, 61462\, Germany
CATEGORIES:Führung
ATTACH;FMTTYPE=image/jpeg:https://xn--knigstein-erleben-zzb.de/wp-content/uploads/2024/07/Burgruine-Koenigstein-Copyright-TTS.-Foto-Florian-Trykowski_2291567-scaled.jpg
ORGANIZER;CN="Kur- und Stadtinformation K%C3%B6nigstein":MAILTO:info@koenigstein.de
GEO:50.1820975;8.4668501
X-APPLE-STRUCTURED-LOCATION;VALUE=URI;X-ADDRESS=Treffpunkt: Kur- und Stadtinformation Hauptstraße 13 a Königstein im Taunus Hessen 61462 Germany;X-APPLE-RADIUS=500;X-TITLE=Hauptstraße 13 a:geo:8.4668501,50.1820975
END:VEVENT
END:VCALENDAR