BEGIN:VCALENDAR
VERSION:2.0
PRODID:-//Königstein - Erleben - ECPv6.15.19//NONSGML v1.0//EN
CALSCALE:GREGORIAN
METHOD:PUBLISH
X-WR-CALNAME:Königstein - Erleben
X-ORIGINAL-URL:https://xn--knigstein-erleben-zzb.de
X-WR-CALDESC:Veranstaltungen für Königstein - Erleben
REFRESH-INTERVAL;VALUE=DURATION:PT1H
X-Robots-Tag:noindex
X-PUBLISHED-TTL:PT1H
BEGIN:VTIMEZONE
TZID:Europe/Berlin
BEGIN:DAYLIGHT
TZOFFSETFROM:+0100
TZOFFSETTO:+0200
TZNAME:CEST
DTSTART:20240331T010000
END:DAYLIGHT
BEGIN:STANDARD
TZOFFSETFROM:+0200
TZOFFSETTO:+0100
TZNAME:CET
DTSTART:20241027T010000
END:STANDARD
BEGIN:DAYLIGHT
TZOFFSETFROM:+0100
TZOFFSETTO:+0200
TZNAME:CEST
DTSTART:20250330T010000
END:DAYLIGHT
BEGIN:STANDARD
TZOFFSETFROM:+0200
TZOFFSETTO:+0100
TZNAME:CET
DTSTART:20251026T010000
END:STANDARD
BEGIN:DAYLIGHT
TZOFFSETFROM:+0100
TZOFFSETTO:+0200
TZNAME:CEST
DTSTART:20260329T010000
END:DAYLIGHT
BEGIN:STANDARD
TZOFFSETFROM:+0200
TZOFFSETTO:+0100
TZNAME:CET
DTSTART:20261025T010000
END:STANDARD
END:VTIMEZONE
BEGIN:VEVENT
DTSTART;TZID=Europe/Berlin:20251010T080000
DTEND;TZID=Europe/Berlin:20251017T140000
DTSTAMP:20260425T215013
CREATED:20250407T165149Z
LAST-MODIFIED:20251204T141836Z
UID:10006387-1760083200-1760709600@xn--knigstein-erleben-zzb.de
SUMMARY:Königsteiner Wochenmarkt
DESCRIPTION:Qualität und Frische sind unser Anspruch!\nZwischen 8.00 und 14.00 Uhr bieten regionale Händler und auch Erzeuger an ihren Ständen Obst\, Gemüse\, Blumen\, Fleisch\, Fisch\, Geflügel\, Backwaren und weitere saisonale Produkte an. \nBesuchen Sie unseren Wochenmarkt\, Sie werden begeistert sein. Mehr Infos zu den Angeboten finden Sie hier…\nIhre Händler des Königsteiner Wochenmarktes. \n \nFoto: Stadt Königstein im Taunus\, Agentur GEP Nicole Falkus \n 
URL:https://xn--knigstein-erleben-zzb.de/event/koenigsteiner-wochenmarkt/2025-10-10/
LOCATION:Kapuzinerplatz\, Stadtmitte\, Georg-Pingler-Straße\, Königstein im Taunus\, Hessen\, 61462\, Germany
CATEGORIES:Allgemein,Genuss
ATTACH;FMTTYPE=image/jpeg:https://xn--knigstein-erleben-zzb.de/wp-content/uploads/2023/09/KSWochenmarkt.jpg
GEO:50.182567;8.4669365
X-APPLE-STRUCTURED-LOCATION;VALUE=URI;X-ADDRESS=Kapuzinerplatz Stadtmitte Georg-Pingler-Straße Königstein im Taunus Hessen 61462 Germany;X-APPLE-RADIUS=500;X-TITLE=Georg-Pingler-Straße:geo:8.4669365,50.182567
END:VEVENT
BEGIN:VEVENT
DTSTART;TZID=Europe/Berlin:20251016T160000
DTEND;TZID=Europe/Berlin:20251016T200000
DTSTAMP:20260425T215013
CREATED:20250926T150609Z
LAST-MODIFIED:20250926T150648Z
UID:10017409-1760630400-1760644800@xn--knigstein-erleben-zzb.de
SUMMARY:Herbstprogramm Jugendarbeit - Kreativtag
DESCRIPTION:Gestalte deine Herbstleinwand oder DIY – Herbstlaterne!\n  \n \nPlakat: Jugendarbeit der Stadt Königstein im Taunus
URL:https://xn--knigstein-erleben-zzb.de/event/herbstprogramm-jugendarbeit-kreativtag/
LOCATION:Jugendhaus Königstein\, Schneidhainer Straße 2\, Königstein\, 61462\, Deutschland
CATEGORIES:Allgemein,Jugend,Unterhaltung
ATTACH;FMTTYPE=application/pdf:https://xn--knigstein-erleben-zzb.de/wp-content/uploads/2025/09/FREMD_-Jugendhaus-Herbstprogramm-Flyer-12-3.pdf
ORGANIZER;CN="JuZ K%C3%B6nigstein":MAILTO:jugendarbeit@koenigstein.de
GEO:50.178767;8.4663305
X-APPLE-STRUCTURED-LOCATION;VALUE=URI;X-ADDRESS=Jugendhaus Königstein Schneidhainer Straße 2 Königstein 61462 Deutschland;X-APPLE-RADIUS=500;X-TITLE=Schneidhainer Straße 2:geo:8.4663305,50.178767
END:VEVENT
BEGIN:VEVENT
DTSTART;TZID=Europe/Berlin:20251016T180000
DTEND;TZID=Europe/Berlin:20251016T180000
DTSTAMP:20260425T215013
CREATED:20250321T132929Z
LAST-MODIFIED:20251114T155654Z
UID:10006035-1760637600-1760637600@xn--knigstein-erleben-zzb.de
SUMMARY:Donnerstags DJ Beats 
DESCRIPTION:Fast Wochenende. Aber eben nur fast. Oder doch schon?\nBesuchen Sie die Tizians Bar in der Villa Rothschild immer donnerstags\nund freuen Sie sich auf ein paar chillige Beats. \nGute Drinks\, gute Snacks\, gute Leute … und natürlich gute Beats. Voilà! \nReservierung übrigens nicht notwendig. Aufgelegt wird ab 18 Uhr. Vorbeischauen\, reinkommen\, ankommen\, genießen. Wir hören uns! \n \nFoto bereitgestellt von der Broermann Health & Heritage Hotels GmbH
URL:https://xn--knigstein-erleben-zzb.de/event/donnerstags-dj-beats/2025-10-16/
LOCATION:Tizians Bar in der Villa Rothschild\, Im Rothschildpark 1\, Königstein im Taunus\, Hessen\, 61462\, Germany
ATTACH;FMTTYPE=image/jpeg:https://xn--knigstein-erleben-zzb.de/wp-content/uploads/2025/03/VR-Donnerstags-DJ-Beats-e1742564926506.jpg
GEO:50.1832832;8.4718445
X-APPLE-STRUCTURED-LOCATION;VALUE=URI;X-ADDRESS=Tizians Bar in der Villa Rothschild Im Rothschildpark 1 Königstein im Taunus Hessen 61462 Germany;X-APPLE-RADIUS=500;X-TITLE=Im Rothschildpark 1:geo:8.4718445,50.1832832
END:VEVENT
END:VCALENDAR