BEGIN:VCALENDAR
VERSION:2.0
PRODID:-//Königstein - Erleben - ECPv6.15.19//NONSGML v1.0//EN
CALSCALE:GREGORIAN
METHOD:PUBLISH
X-ORIGINAL-URL:https://xn--knigstein-erleben-zzb.de
X-WR-CALDESC:Veranstaltungen für Königstein - Erleben
REFRESH-INTERVAL;VALUE=DURATION:PT1H
X-Robots-Tag:noindex
X-PUBLISHED-TTL:PT1H
BEGIN:VTIMEZONE
TZID:Europe/Berlin
BEGIN:DAYLIGHT
TZOFFSETFROM:+0100
TZOFFSETTO:+0200
TZNAME:CEST
DTSTART:20240331T010000
END:DAYLIGHT
BEGIN:STANDARD
TZOFFSETFROM:+0200
TZOFFSETTO:+0100
TZNAME:CET
DTSTART:20241027T010000
END:STANDARD
BEGIN:DAYLIGHT
TZOFFSETFROM:+0100
TZOFFSETTO:+0200
TZNAME:CEST
DTSTART:20250330T010000
END:DAYLIGHT
BEGIN:STANDARD
TZOFFSETFROM:+0200
TZOFFSETTO:+0100
TZNAME:CET
DTSTART:20251026T010000
END:STANDARD
BEGIN:DAYLIGHT
TZOFFSETFROM:+0100
TZOFFSETTO:+0200
TZNAME:CEST
DTSTART:20260329T010000
END:DAYLIGHT
BEGIN:STANDARD
TZOFFSETFROM:+0200
TZOFFSETTO:+0100
TZNAME:CET
DTSTART:20261025T010000
END:STANDARD
END:VTIMEZONE
BEGIN:VEVENT
DTSTART;TZID=Europe/Berlin:20251017T080000
DTEND;TZID=Europe/Berlin:20251024T140000
DTSTAMP:20260425T054116
CREATED:20250407T165149Z
LAST-MODIFIED:20251204T141836Z
UID:10006388-1760688000-1761314400@xn--knigstein-erleben-zzb.de
SUMMARY:Königsteiner Wochenmarkt
DESCRIPTION:Qualität und Frische sind unser Anspruch!\nZwischen 8.00 und 14.00 Uhr bieten regionale Händler und auch Erzeuger an ihren Ständen Obst\, Gemüse\, Blumen\, Fleisch\, Fisch\, Geflügel\, Backwaren und weitere saisonale Produkte an. \nBesuchen Sie unseren Wochenmarkt\, Sie werden begeistert sein. Mehr Infos zu den Angeboten finden Sie hier…\nIhre Händler des Königsteiner Wochenmarktes. \n \nFoto: Stadt Königstein im Taunus\, Agentur GEP Nicole Falkus \n 
URL:https://xn--knigstein-erleben-zzb.de/event/koenigsteiner-wochenmarkt/2025-10-17/
LOCATION:Kapuzinerplatz\, Stadtmitte\, Georg-Pingler-Straße\, Königstein im Taunus\, Hessen\, 61462\, Germany
CATEGORIES:Allgemein,Genuss
ATTACH;FMTTYPE=image/jpeg:https://xn--knigstein-erleben-zzb.de/wp-content/uploads/2023/09/KSWochenmarkt.jpg
GEO:50.182567;8.4669365
X-APPLE-STRUCTURED-LOCATION;VALUE=URI;X-ADDRESS=Kapuzinerplatz Stadtmitte Georg-Pingler-Straße Königstein im Taunus Hessen 61462 Germany;X-APPLE-RADIUS=500;X-TITLE=Georg-Pingler-Straße:geo:8.4669365,50.182567
END:VEVENT
BEGIN:VEVENT
DTSTART;TZID=Europe/Berlin:20251018T140000
DTEND;TZID=Europe/Berlin:20251018T180000
DTSTAMP:20260425T054116
CREATED:20251012T114636Z
LAST-MODIFIED:20251012T114847Z
UID:10017423-1760796000-1760810400@xn--knigstein-erleben-zzb.de
SUMMARY:Tag der offenen Tür im Kursana Königstein
DESCRIPTION:Herzliche Einladung zum Tag der offenen Tür im „Kursana Villa Königstein“\nMit  Hausführungen\, Gesundheitsmesse und Kaffee und Kuchen. \nMehr Informationen finden Sie hier… \n  \n  \n \nPlakat wurde von Kursana Villa Königstein zur Verfügung gestellt.
URL:https://xn--knigstein-erleben-zzb.de/event/tag-der-offenen-tuer-im-kursana-koenigstein/
LOCATION:Kursana Villa Königstein\, Bischof-Kaller-Straße 1\, Königstein im Taunus\, Hessen\, 61462\, Germany
CATEGORIES:Allgemein,Beratung,Informationsveranstaltung
ATTACH;FMTTYPE=application/pdf:https://xn--knigstein-erleben-zzb.de/wp-content/uploads/2025/10/FREMD_2025-10-18-Kursana-Tag-der-offenen-Tuer-1.pdf
GEO:50.1792414;8.4746822
X-APPLE-STRUCTURED-LOCATION;VALUE=URI;X-ADDRESS=Kursana Villa Königstein Bischof-Kaller-Straße 1 Königstein im Taunus Hessen 61462 Germany;X-APPLE-RADIUS=500;X-TITLE=Bischof-Kaller-Straße 1:geo:8.4746822,50.1792414
END:VEVENT
BEGIN:VEVENT
DTSTART;TZID=Europe/Berlin:20251018T190000
DTEND;TZID=Europe/Berlin:20251018T230000
DTSTAMP:20260425T054116
CREATED:20250127T094124Z
LAST-MODIFIED:20250127T094124Z
UID:10004295-1760814000-1760828400@xn--knigstein-erleben-zzb.de
SUMMARY:Halloween auf Burg Königstein
DESCRIPTION:Plakat: Halloween Veranstaltung GmbH\, Griesheim | \n\n„The Nightmare Returns!“ \nHalloween auf Burg Königstein! \nDeutschlands legendärste Horrorshow hält auch 2025 wieder Einzug auf der altehrwürdigen Burg Königstein. \nHalloween wartet 2025 mit einem Gruselfest der Extraklasse auf! Unter dem Motto „The nightmare returns“ versammeln sich von Mitte Oktober bis Anfang November wieder Vampire\, Zombies\, Werwölfe viele weitere Kreaturen der Finsternis auf der berühmten Burgruine im Taunus\, um Deine Alpträume Wirklichkeit werden zu lassen – größer\, schockierender und mit mehr düsteren Arealen als bisher. Ein Gang durch den Werwolf Wald? Oder durch die dystopische Endzeitwelt der „Purge“? In der Gruft mit den Vampiren oder auf Tuchfühlung mit „Murder Dolls“\, Hexen und „Horrorclowns“? Halloween Frankenstein bietet einen Parcour des Grauens\, der seinesgleichen sucht und aus gutem Grund Jahr für Jahr Fans aus aller Welt anzieht. \nNEU bei Halloween 2025: das FLEX-Ticket – Deine flexible Eintrittskarte in die Welt des Grauens! Egal\, ob Dein Halloween Wunschtermin schon „sold out“ ist\, mit dem FLEX-Ticket erhältst Du am gewünschten Tag Deiner Wahl immer Zutritt. Also: JETZT FLEX-Ticket sichern und entspannt später zum gewünschten Termin unser Halloween auf Burg Königstein besuchen! \nWir empfehlen diese Veranstaltung für Jugendliche ab 16 Jahren. \nNORMALPREIS:\n• Werde ein Teil bei Deutschlands einzigartigen Vollkontaktevent\n• Kostenloser Busshuttle und RMV-Ticket inklusive \nFLEXTICKET:\n• Ein Ticket ohne Terminbindung\n• Suche Du Dir den Tag einfach aus\n• Auch wenn „sold out“ hast Du Zutritt am gewünschten Termin \nVIP-TICKETS zusätzlich zum Normalticket:\n• Priority Bodycheck\n• Priority Check-In\n• Begrüßungsgetränk und Platzierung durch unsere Hostessen\n• Feste Sitzplätze im VIP-Zelt\n• inkl. den gängigen Getränke\n• 4-Gänge Buffet bis eine Stunden vor Ende\n• Meet & Greet mit Monstern\n• Besondere Chillout-Zone und mit bestem Blick auf die Hauptbühne\n• Der VIP-Bereich schließt eine halbe Stunde vor Ende \nNUTZE DEN ÖPNV: \nFür die Anreise mit öffentlichen Verkehrsmitteln stehen diverse Buslinien\, sowie die Regionalbahn R 12 zur Verfügung. Die Zielhaltestellen sind „Königstein (Taunus) Stadtmitte“ und „Königstein (Taunus) Bahnhof“. Der Shuttlebus fährt ca. alle 10 min. \nBahn: RB12 \nBus: Linien 253; 261; X26; 805; X27; 223; 57; 60; 80; 81; 83; 263; 803; 811; 815 \nAuto:\nBitte entnehme die P+R Anschrift auf Ihrem Ticket.\nNutzen Sie ausschließlich die ausgeschilderten Park+Ride Parkplätze \nTickets für diesen Veranstaltungstag gibt es ab 38\,00 Euro \n  \nVorverkaufsstellen: \n\nKur- und Stadtinformation Königstein\, Hauptstraße 13a\, 61462 Königstein im Taunus\nTicketportal www.reservix.de
URL:https://xn--knigstein-erleben-zzb.de/event/halloween-auf-burg-koenigstein-8/
LOCATION:Burgruine Königstein
CATEGORIES:Allgemein
ATTACH;FMTTYPE=image/jpeg:https://xn--knigstein-erleben-zzb.de/wp-content/uploads/2025/01/HW25_KS_Poster_v002-scaled.jpg
END:VEVENT
BEGIN:VEVENT
DTSTART;TZID=Europe/Berlin:20251018T193000
DTEND;TZID=Europe/Berlin:20251018T213000
DTSTAMP:20260425T054116
CREATED:20250204T101449Z
LAST-MODIFIED:20250905T091521Z
UID:10004330-1760815800-1760823000@xn--knigstein-erleben-zzb.de
SUMMARY:"Shackles and Skies"
DESCRIPTION:Eventkonzert mit Gospel Inspiration\nFreuen Sie sich auf ein ganz besonderes Musikereignis am 18.10.2025 im Haus der Begegnung\, Bischof-Kaller-Straße 3\, Königstein imTaunus. Diese außergewöhnliche Veranstaltungslocation\, mit dem besonderen\, unverwechselbaren Charme der Fünfzigerjahre ist wie gemacht für dieses Musikprogramm. Mit Shackles and Skies (zu Deutsch: Fesseln und Himmel) bespielen wir zwei Ebenen\, genau wie Himmel und Erde\, die gegensätzlicher nicht sein können. Von Oben bis Unten\, von Gefangen bis Anfangen\, von Festhalten bis Freilassen\, von Schließen bis Öffnen bietet diese Musiklinie alle Möglichkeiten der Entfaltung in der Weite und im Verständnis des Mit -und Zueinander. Sein Sie frei und fessellos in Ihrer eigenen Interpretation und lassen Sie sich übermütig und ungezügelt auf ein Hörerlebnis ein\, dass es so bisher noch nicht gegeben hat mit eigens arrangierten Liedern unseres Chorleiters Richard Swiatkowski wie Blue Skies\, Shackles\, Nobody knows\, Broken\, Down in the river to pray\, Lift me up\, Nawlins Medley\, Der Weg\, Haus am See\, Africa\, Lady Marlene und viele andere.\nMit Shackles and Skies vereinen wir die Welt von jazzigen Gospels und allem anderen\, was wir sonst noch gerne so singen. Wir singen als Gesamtchor\, mit Klavier und Schlagzeug\, Band\, a cappella\, in kleinen Gruppen solistisch aber in jedem Fall mit Liebe und Begeisterung\, mit Herz und Verstand gebunden in Harmonie. \nNoch mehr Information zu Gospel Inspiration finden Sie unter: https://www.gospelinspiration.de/ \nPreise pro Ticket: 23 Euro im Vorverkauf/ 21 Euro ermäßigt/ 25 Euro an der Abendkasse \nEinlass: 18.30 Uhr mit Bewirtung / Beginn: 19.30 Uhr \nVorverkaufsstellen:\n• Kur- und Stadtinformation\, Hauptstraße 13 a\, 61462 Königstein im Taunus\n• Buchhandlung MillenniuM\, Hauptstraße 14\, 61462 Königstein im Taunus \n  \n[ \nFoto: Veranstalter \n 
URL:https://xn--knigstein-erleben-zzb.de/event/scary-fairy/
LOCATION:Haus der Begegnung (Großer Saal)\, Bischof-Kaller-Straße 3\, Königstein im Taunus\, Hessen\, 61462\, Germany
CATEGORIES:Allgemein,HdB,Konzert
ATTACH;FMTTYPE=image/jpeg:https://xn--knigstein-erleben-zzb.de/wp-content/uploads/2025/02/Gospel-Inspiration18.10.2025-003.jpg
GEO:50.1784427;8.4734345
X-APPLE-STRUCTURED-LOCATION;VALUE=URI;X-ADDRESS=Haus der Begegnung (Großer Saal) Bischof-Kaller-Straße 3 Königstein im Taunus Hessen 61462 Germany;X-APPLE-RADIUS=500;X-TITLE=Bischof-Kaller-Straße 3:geo:8.4734345,50.1784427
END:VEVENT
END:VCALENDAR