BEGIN:VCALENDAR
VERSION:2.0
PRODID:-//Königstein - Erleben - ECPv6.15.19//NONSGML v1.0//EN
CALSCALE:GREGORIAN
METHOD:PUBLISH
X-WR-CALNAME:Königstein - Erleben
X-ORIGINAL-URL:https://xn--knigstein-erleben-zzb.de
X-WR-CALDESC:Veranstaltungen für Königstein - Erleben
REFRESH-INTERVAL;VALUE=DURATION:PT1H
X-Robots-Tag:noindex
X-PUBLISHED-TTL:PT1H
BEGIN:VTIMEZONE
TZID:Europe/Berlin
BEGIN:DAYLIGHT
TZOFFSETFROM:+0100
TZOFFSETTO:+0200
TZNAME:CEST
DTSTART:20240331T010000
END:DAYLIGHT
BEGIN:STANDARD
TZOFFSETFROM:+0200
TZOFFSETTO:+0100
TZNAME:CET
DTSTART:20241027T010000
END:STANDARD
BEGIN:DAYLIGHT
TZOFFSETFROM:+0100
TZOFFSETTO:+0200
TZNAME:CEST
DTSTART:20250330T010000
END:DAYLIGHT
BEGIN:STANDARD
TZOFFSETFROM:+0200
TZOFFSETTO:+0100
TZNAME:CET
DTSTART:20251026T010000
END:STANDARD
BEGIN:DAYLIGHT
TZOFFSETFROM:+0100
TZOFFSETTO:+0200
TZNAME:CEST
DTSTART:20260329T010000
END:DAYLIGHT
BEGIN:STANDARD
TZOFFSETFROM:+0200
TZOFFSETTO:+0100
TZNAME:CET
DTSTART:20261025T010000
END:STANDARD
END:VTIMEZONE
BEGIN:VEVENT
DTSTART;TZID=Europe/Berlin:20251107T080000
DTEND;TZID=Europe/Berlin:20251114T140000
DTSTAMP:20260425T043710
CREATED:20250407T165149Z
LAST-MODIFIED:20251204T141836Z
UID:10006391-1762502400-1763128800@xn--knigstein-erleben-zzb.de
SUMMARY:Königsteiner Wochenmarkt
DESCRIPTION:Qualität und Frische sind unser Anspruch!\nZwischen 8.00 und 14.00 Uhr bieten regionale Händler und auch Erzeuger an ihren Ständen Obst\, Gemüse\, Blumen\, Fleisch\, Fisch\, Geflügel\, Backwaren und weitere saisonale Produkte an. \nBesuchen Sie unseren Wochenmarkt\, Sie werden begeistert sein. Mehr Infos zu den Angeboten finden Sie hier…\nIhre Händler des Königsteiner Wochenmarktes. \n \nFoto: Stadt Königstein im Taunus\, Agentur GEP Nicole Falkus \n 
URL:https://xn--knigstein-erleben-zzb.de/event/koenigsteiner-wochenmarkt/2025-11-07/
LOCATION:Kapuzinerplatz\, Stadtmitte\, Georg-Pingler-Straße\, Königstein im Taunus\, Hessen\, 61462\, Germany
CATEGORIES:Allgemein,Genuss
ATTACH;FMTTYPE=image/jpeg:https://xn--knigstein-erleben-zzb.de/wp-content/uploads/2023/09/KSWochenmarkt.jpg
GEO:50.182567;8.4669365
X-APPLE-STRUCTURED-LOCATION;VALUE=URI;X-ADDRESS=Kapuzinerplatz Stadtmitte Georg-Pingler-Straße Königstein im Taunus Hessen 61462 Germany;X-APPLE-RADIUS=500;X-TITLE=Georg-Pingler-Straße:geo:8.4669365,50.182567
END:VEVENT
BEGIN:VEVENT
DTSTART;TZID=Europe/Berlin:20251112T093000
DTEND;TZID=Europe/Berlin:20251112T163000
DTSTAMP:20260425T043710
CREATED:20251027T134720Z
LAST-MODIFIED:20251027T134742Z
UID:10017443-1762939800-1762965000@xn--knigstein-erleben-zzb.de
SUMMARY:Mittwochswanderung des Taunusklub Königstein
DESCRIPTION:Wanderstrecke: Niederjosbach – Strandweg – Josbachfurt – Oberjosbach – Panoramaweg – Eppstein; 10 km \nAbfahrt: Königstein Stadtmitte Bus X26 um 09.38 Uhr nach Hofheim\, Umstieg S2 nach Niederjosbach; Abmarsch 10.25 Uhr \nEinkehr: Wunderbar Weite Welt\, Eppstein\, ca. 13.30 Uhr \nRückfahrt: mit Bus 805 nach Königstein oder S2 Richtung Frankfurt \n \nFoto: Taunusklub Königstein \n 
URL:https://xn--knigstein-erleben-zzb.de/event/mittwochswanderung-des-taunusklub-koenigstein-19/
LOCATION:Treffpunkt & Abfahrt: Bushaltestellen Stadtmitte\, Georg-Pingler-Straße\, Königstein im Taunus\, Hessen\, 61462\, Germany
CATEGORIES:Allgemein,Wandern
ATTACH;FMTTYPE=image/jpeg:https://xn--knigstein-erleben-zzb.de/wp-content/uploads/2025/10/IMG_4486-scaled.jpeg
GEO:50.1837581;8.4677721
X-APPLE-STRUCTURED-LOCATION;VALUE=URI;X-ADDRESS=Treffpunkt & Abfahrt: Bushaltestellen Stadtmitte Georg-Pingler-Straße Königstein im Taunus Hessen 61462 Germany;X-APPLE-RADIUS=500;X-TITLE=Georg-Pingler-Straße:geo:8.4677721,50.1837581
END:VEVENT
BEGIN:VEVENT
DTSTART;TZID=Europe/Berlin:20251112T160000
DTEND;TZID=Europe/Berlin:20251112T170000
DTSTAMP:20260425T043710
CREATED:20250818T115229Z
LAST-MODIFIED:20250818T115229Z
UID:10017233-1762963200-1762966800@xn--knigstein-erleben-zzb.de
SUMMARY:Rätselnachmittag in der Stadtbibliothek
DESCRIPTION:Alle Krimi- und Rätselbegeisterten ab 14 Jahren sind herzlich zum Rätsel-Nachmittag in der Stadtbibliothek eingeladen. \nIn einer Welt voller mysteriösern Tode\, unerklärlicher Vorfälle und düsterer Geheimnisse geht es darum\, knifflige Kriminalfälle zu lösen. Gemeinsam werden Fragen gestellt\, Hinweise kombiniert und Schritt für Schritt der Wahrheit nähergekommen.\nEin Nachmittag voller Spannung – ideal für alle\, die gerne knobeln\, Rätsel und schwarzen Humor mögen. \nWir bitten vorab um Anmeldung in der Bibliothek.\nTelefon: 06174 932370\nMail: stadtbibliothek@koenigstein.de
URL:https://xn--knigstein-erleben-zzb.de/event/raetselnachmittag-in-der-stadtbibliothek-3/
LOCATION:Hessen
ATTACH;FMTTYPE=application/pdf:https://xn--knigstein-erleben-zzb.de/wp-content/uploads/2025/08/Raetselnachmittag-in-der-Stadtbibliothek-1.pdf
ORGANIZER;CN="Stadtbibliothek K%C3%B6nigstein":MAILTO:stadtbibliothek@koenigstein.de
END:VEVENT
BEGIN:VEVENT
DTSTART;TZID=Europe/Berlin:20251112T200000
DTEND;TZID=Europe/Berlin:20251112T210000
DTSTAMP:20260425T043710
CREATED:20251024T144225Z
LAST-MODIFIED:20251024T144225Z
UID:10017440-1762977600-1762981200@xn--knigstein-erleben-zzb.de
SUMMARY:Königsteiner Tafelrunde: Das Spiel der Könige - Kulturelle Aspekte des Schachs
DESCRIPTION:In der nächsten „Königsteiner Tafelrunde“ der CDU Königstein wird  gemeinsam der Geschichte und den kulturellen Aspekten des Schachs auf den Grund gegangen. Dr. Thomas Thomsen\, der sich seit Jahrzehnten auch in Königstein der Erforschung der Ursprünge des Schachs widmet und Ehrenpräsident von Chess Collectors International (CCI) ist\, wird in seinem Vortrag „Das Spiel der Könige – Kulturelle Aspekte des Schachs“ interessante Zusammenhänge zwischen dem Spiel\, Kunsthandwerk und der Geistesgeschichte aufzeigen. \nIm Anschluss besteht die Gelegenheit\, einzelne Aspekte bei einem gemütlichen Zusammensein zu vertiefen. \nAnmeldung erforderlich unter: christoph.scharr@cdu-koenigstein.de \n \nFoto: pixabay – wurde vom Veranstalter zur Verfügung gestellt.
URL:https://xn--knigstein-erleben-zzb.de/event/koenigsteiner-tafelrunde-das-spiel-der-koenige-kulturelle-aspekte-des-schachs/
LOCATION:Bürgerhaus Falkenstein – Kleiner Saal\, Scharderhohlweg 1\, Königstein im Taunus\, Hessen\, 61462\, Germany
CATEGORIES:Geschichte,Kultur,Unterhaltung,Vortrag
ATTACH;FMTTYPE=image/jpeg:https://xn--knigstein-erleben-zzb.de/wp-content/uploads/2025/10/chess-5100865_1280.jpg
ORGANIZER;CN="CDU K%C3%B6nigstein im Taunus":MAILTO:christoph.scharr@cdu-koenigstein.de
GEO:50.1949817;8.4795695
X-APPLE-STRUCTURED-LOCATION;VALUE=URI;X-ADDRESS=Bürgerhaus Falkenstein – Kleiner Saal Scharderhohlweg 1 Königstein im Taunus Hessen 61462 Germany;X-APPLE-RADIUS=500;X-TITLE=Scharderhohlweg 1:geo:8.4795695,50.1949817
END:VEVENT
END:VCALENDAR