BEGIN:VCALENDAR
VERSION:2.0
PRODID:-//Königstein - Erleben - ECPv6.15.19//NONSGML v1.0//EN
CALSCALE:GREGORIAN
METHOD:PUBLISH
X-ORIGINAL-URL:https://xn--knigstein-erleben-zzb.de
X-WR-CALDESC:Veranstaltungen für Königstein - Erleben
REFRESH-INTERVAL;VALUE=DURATION:PT1H
X-Robots-Tag:noindex
X-PUBLISHED-TTL:PT1H
BEGIN:VTIMEZONE
TZID:Europe/Berlin
BEGIN:DAYLIGHT
TZOFFSETFROM:+0100
TZOFFSETTO:+0200
TZNAME:CEST
DTSTART:20240331T010000
END:DAYLIGHT
BEGIN:STANDARD
TZOFFSETFROM:+0200
TZOFFSETTO:+0100
TZNAME:CET
DTSTART:20241027T010000
END:STANDARD
BEGIN:DAYLIGHT
TZOFFSETFROM:+0100
TZOFFSETTO:+0200
TZNAME:CEST
DTSTART:20250330T010000
END:DAYLIGHT
BEGIN:STANDARD
TZOFFSETFROM:+0200
TZOFFSETTO:+0100
TZNAME:CET
DTSTART:20251026T010000
END:STANDARD
BEGIN:DAYLIGHT
TZOFFSETFROM:+0100
TZOFFSETTO:+0200
TZNAME:CEST
DTSTART:20260329T010000
END:DAYLIGHT
BEGIN:STANDARD
TZOFFSETFROM:+0200
TZOFFSETTO:+0100
TZNAME:CET
DTSTART:20261025T010000
END:STANDARD
END:VTIMEZONE
BEGIN:VEVENT
DTSTART;TZID=Europe/Berlin:20251114T080000
DTEND;TZID=Europe/Berlin:20251121T140000
DTSTAMP:20260425T192845
CREATED:20250407T165149Z
LAST-MODIFIED:20251204T141836Z
UID:10006392-1763107200-1763733600@xn--knigstein-erleben-zzb.de
SUMMARY:Königsteiner Wochenmarkt
DESCRIPTION:Qualität und Frische sind unser Anspruch!\nZwischen 8.00 und 14.00 Uhr bieten regionale Händler und auch Erzeuger an ihren Ständen Obst\, Gemüse\, Blumen\, Fleisch\, Fisch\, Geflügel\, Backwaren und weitere saisonale Produkte an. \nBesuchen Sie unseren Wochenmarkt\, Sie werden begeistert sein. Mehr Infos zu den Angeboten finden Sie hier…\nIhre Händler des Königsteiner Wochenmarktes. \n \nFoto: Stadt Königstein im Taunus\, Agentur GEP Nicole Falkus \n 
URL:https://xn--knigstein-erleben-zzb.de/event/koenigsteiner-wochenmarkt/2025-11-14/
LOCATION:Kapuzinerplatz\, Stadtmitte\, Georg-Pingler-Straße\, Königstein im Taunus\, Hessen\, 61462\, Germany
CATEGORIES:Allgemein,Genuss
ATTACH;FMTTYPE=image/jpeg:https://xn--knigstein-erleben-zzb.de/wp-content/uploads/2023/09/KSWochenmarkt.jpg
GEO:50.182567;8.4669365
X-APPLE-STRUCTURED-LOCATION;VALUE=URI;X-ADDRESS=Kapuzinerplatz Stadtmitte Georg-Pingler-Straße Königstein im Taunus Hessen 61462 Germany;X-APPLE-RADIUS=500;X-TITLE=Georg-Pingler-Straße:geo:8.4669365,50.182567
END:VEVENT
BEGIN:VEVENT
DTSTART;TZID=Europe/Berlin:20251115T130000
DTEND;TZID=Europe/Berlin:20251115T150000
DTSTAMP:20260425T192845
CREATED:20251014T082951Z
LAST-MODIFIED:20251014T092927Z
UID:10017428-1763211600-1763218800@xn--knigstein-erleben-zzb.de
SUMMARY:Adventszauber im Café Breilecker in Königstein
DESCRIPTION:Adventszauber im Café Breilecker in Königstein\n  \nHerzliche Einladung der Fachberaterin für Ernährung\, Danijela Mertel\, zum Adventszauber im Café Breilecker.✨ \n\nZum Ablauf:\n\nEs ist ein Event für Kinder ab 6 Jahren.\nJeder erhält einen „Lebkuchen Bausatz“ und Zuckerguss. Wir unterstützen alle Kinder gerne beim Bau.\nEs steht eine große Auswahl an verschiedenen Leckereien für die Dekoration zur Verfügung.\nFür den Lebkuchenteig verwenden wir qualitative Produkte aus der Region. Das Haus ist zum Verzehr sehr empfohlen.\n*Bitte kontaktiert mich als Veranstalterin\, falls euer Kind Allergien hat. Eine Teilnahme (je nach Allergie) ist möglich.\n\n\nDas Café hat auch geöffnet. ☕️\n\nTermine im November 2025:\n1.11.\, 8.11.\, 15.11.\, 22.11.\, 29.11.\n\nTermine im Dezember 2025:\n13.12. (bereits ausgebucht)\, 20.12.\n\n\nCopyright: Danijela Mertel
URL:https://xn--knigstein-erleben-zzb.de/event/adventszauber-im-cafe-breilecker-in-koenigstein/2025-11-15/
LOCATION:Café Breilecker\, Hauptstraße 3\, Königstein im Taunus\, Hessen\, 61462\, Germany
CATEGORIES:Allgemein,Kinder,Weihnachten
ATTACH;FMTTYPE=application/pdf:https://xn--knigstein-erleben-zzb.de/wp-content/uploads/2025/10/2025-Advventszauber.pdf
ORGANIZER;CN="Danijela Mertel Fachberaterin f%C3%BCr Ern%C3%A4hrung":MAILTO:info@danijela.de
GEO:50.1820984;8.4675779
X-APPLE-STRUCTURED-LOCATION;VALUE=URI;X-ADDRESS=Café Breilecker Hauptstraße 3 Königstein im Taunus Hessen 61462 Germany;X-APPLE-RADIUS=500;X-TITLE=Hauptstraße 3:geo:8.4675779,50.1820984
END:VEVENT
END:VCALENDAR