BEGIN:VCALENDAR
VERSION:2.0
PRODID:-//Königstein - Erleben - ECPv6.15.19//NONSGML v1.0//EN
CALSCALE:GREGORIAN
METHOD:PUBLISH
X-ORIGINAL-URL:https://xn--knigstein-erleben-zzb.de
X-WR-CALDESC:Veranstaltungen für Königstein - Erleben
REFRESH-INTERVAL;VALUE=DURATION:PT1H
X-Robots-Tag:noindex
X-PUBLISHED-TTL:PT1H
BEGIN:VTIMEZONE
TZID:Europe/Berlin
BEGIN:DAYLIGHT
TZOFFSETFROM:+0100
TZOFFSETTO:+0200
TZNAME:CEST
DTSTART:20240331T010000
END:DAYLIGHT
BEGIN:STANDARD
TZOFFSETFROM:+0200
TZOFFSETTO:+0100
TZNAME:CET
DTSTART:20241027T010000
END:STANDARD
BEGIN:DAYLIGHT
TZOFFSETFROM:+0100
TZOFFSETTO:+0200
TZNAME:CEST
DTSTART:20250330T010000
END:DAYLIGHT
BEGIN:STANDARD
TZOFFSETFROM:+0200
TZOFFSETTO:+0100
TZNAME:CET
DTSTART:20251026T010000
END:STANDARD
BEGIN:DAYLIGHT
TZOFFSETFROM:+0100
TZOFFSETTO:+0200
TZNAME:CEST
DTSTART:20260329T010000
END:DAYLIGHT
BEGIN:STANDARD
TZOFFSETFROM:+0200
TZOFFSETTO:+0100
TZNAME:CET
DTSTART:20261025T010000
END:STANDARD
END:VTIMEZONE
BEGIN:VEVENT
DTSTART;TZID=Europe/Berlin:20251114T080000
DTEND;TZID=Europe/Berlin:20251121T140000
DTSTAMP:20260425T015419
CREATED:20250407T165149Z
LAST-MODIFIED:20251204T141836Z
UID:10006392-1763107200-1763733600@xn--knigstein-erleben-zzb.de
SUMMARY:Königsteiner Wochenmarkt
DESCRIPTION:Qualität und Frische sind unser Anspruch!\nZwischen 8.00 und 14.00 Uhr bieten regionale Händler und auch Erzeuger an ihren Ständen Obst\, Gemüse\, Blumen\, Fleisch\, Fisch\, Geflügel\, Backwaren und weitere saisonale Produkte an. \nBesuchen Sie unseren Wochenmarkt\, Sie werden begeistert sein. Mehr Infos zu den Angeboten finden Sie hier…\nIhre Händler des Königsteiner Wochenmarktes. \n \nFoto: Stadt Königstein im Taunus\, Agentur GEP Nicole Falkus \n 
URL:https://xn--knigstein-erleben-zzb.de/event/koenigsteiner-wochenmarkt/2025-11-14/
LOCATION:Kapuzinerplatz\, Stadtmitte\, Georg-Pingler-Straße\, Königstein im Taunus\, Hessen\, 61462\, Germany
CATEGORIES:Allgemein,Genuss
ATTACH;FMTTYPE=image/jpeg:https://xn--knigstein-erleben-zzb.de/wp-content/uploads/2023/09/KSWochenmarkt.jpg
GEO:50.182567;8.4669365
X-APPLE-STRUCTURED-LOCATION;VALUE=URI;X-ADDRESS=Kapuzinerplatz Stadtmitte Georg-Pingler-Straße Königstein im Taunus Hessen 61462 Germany;X-APPLE-RADIUS=500;X-TITLE=Georg-Pingler-Straße:geo:8.4669365,50.182567
END:VEVENT
BEGIN:VEVENT
DTSTART;TZID=Europe/Berlin:20251117T190000
DTEND;TZID=Europe/Berlin:20251117T210000
DTSTAMP:20260425T015419
CREATED:20251031T084113Z
LAST-MODIFIED:20251031T084113Z
UID:10017470-1763406000-1763413200@xn--knigstein-erleben-zzb.de
SUMMARY:Lesung: "Keine Panik“ – Erinnerung an Douglas Adams
DESCRIPTION:Der Partnerschaftsverein Königstein / Faringdon und die Stadtbibliothek Königstein laden herzlich zu dem Vortrag „Keine Panik“ – Erinnerung an Douglas Adams über den britischen Schriftsteller Douglas Adams ein. An dem Abend wird sich zeigen\, ob die Menschheit mit Adams satirischem Augenzwinkern mit „größtenteil harmlos“ ausreichend und zutreffend beschrieben ist und „42“ wirklich die Antwort auf das Leben\, das Universum und den ganzen Rest sein kann. Der Vortrag von Dr. Michael Hesse erinnert nicht nur an die Zusammenarbeit des britischen Schriftstellers mit der Komiker-Truppe „Monty Python“\, sondern auch an Douglas Adams‘ Reisen zu bedrohten Tierarten im Pazifikraum. Und natürlich darf auch eine Würdigung seines bekanntesten Werkes „Per Anhalter durch die Galaxis“ nicht fehlen. Passend zum Abend gibt es eine kleine kulinarische Begleitung aus England. Der Eintritt ist frei. Da die Plätze begrenzt sind\, wird um vorherige Anmeldung per Email unter stadtbibliothek@koenigstein.de gebeten. \n \nFoto: pixabay
URL:https://xn--knigstein-erleben-zzb.de/event/lesung-keine-panik-erinnerung-an-douglas-adams/
LOCATION:Stadtbibliothek Königstein\, Wiesbadener Straße 6\, Königstein im Taunus\, Hessen\, 61462\, Germany
CATEGORIES:Allgemein,Jugend,Kultur,Lesung,Stadtbibliothek,Unterhaltung,Vortrag
ATTACH;FMTTYPE=image/jpeg:https://xn--knigstein-erleben-zzb.de/wp-content/uploads/2025/10/douglas-1277140_1280.jpg
ORGANIZER;CN="F%C3%B6rderverein der deutsch-englischen Partnerschaft K%C3%B6nigstein im Taunus - Faringdon e.V.":MAILTO:christoph.scharr@koenigstein-faringdon.eu
GEO:50.1813842;8.4679301
X-APPLE-STRUCTURED-LOCATION;VALUE=URI;X-ADDRESS=Stadtbibliothek Königstein Wiesbadener Straße 6 Königstein im Taunus Hessen 61462 Germany;X-APPLE-RADIUS=500;X-TITLE=Wiesbadener Straße 6:geo:8.4679301,50.1813842
END:VEVENT
BEGIN:VEVENT
DTSTART;TZID=Europe/Berlin:20251117T200000
DTEND;TZID=Europe/Berlin:20251117T220000
DTSTAMP:20260425T015419
CREATED:20251114T112412Z
LAST-MODIFIED:20251114T112419Z
UID:10017504-1763409600-1763416800@xn--knigstein-erleben-zzb.de
SUMMARY:Königsteiner Forum
DESCRIPTION:Die genetische Geschichte der Europäer: Migration und Anpassung in der Vorgeschichte\nNachholtermin – Prof. Dr. Johannes Krause\, Max-Planck-Institut für evolutionäre Anthropologie\, Leipzig \nAnmeldungen werden gerne in der Kur- und Stadtinformation Telefon 06174-202 251 oder unter info@koenigstein.de entgegengenommen. \n \nLogo: Königsteiner Forum
URL:https://xn--knigstein-erleben-zzb.de/event/koenigsteiner-forum-3/
LOCATION:Haus der Begegnung (Großer Saal)\, Bischof-Kaller-Straße 3\, Königstein im Taunus\, Hessen\, 61462\, Germany
CATEGORIES:Allgemein,HdB,Königsteiner Forum,Kultur,Vortrag
ATTACH;FMTTYPE=image/jpeg:https://xn--knigstein-erleben-zzb.de/wp-content/uploads/2024/12/Logo2012-3.jpg
ORGANIZER;CN="K%C3%B6nigsteiner Forum":MAILTO:koenigsteiner-forum@koenigstein.de
GEO:50.1784427;8.4734345
X-APPLE-STRUCTURED-LOCATION;VALUE=URI;X-ADDRESS=Haus der Begegnung (Großer Saal) Bischof-Kaller-Straße 3 Königstein im Taunus Hessen 61462 Germany;X-APPLE-RADIUS=500;X-TITLE=Bischof-Kaller-Straße 3:geo:8.4734345,50.1784427
END:VEVENT
END:VCALENDAR