BEGIN:VCALENDAR
VERSION:2.0
PRODID:-//Königstein - Erleben - ECPv6.15.19//NONSGML v1.0//EN
CALSCALE:GREGORIAN
METHOD:PUBLISH
X-ORIGINAL-URL:https://xn--knigstein-erleben-zzb.de
X-WR-CALDESC:Veranstaltungen für Königstein - Erleben
REFRESH-INTERVAL;VALUE=DURATION:PT1H
X-Robots-Tag:noindex
X-PUBLISHED-TTL:PT1H
BEGIN:VTIMEZONE
TZID:Europe/Berlin
BEGIN:DAYLIGHT
TZOFFSETFROM:+0100
TZOFFSETTO:+0200
TZNAME:CEST
DTSTART:20240331T010000
END:DAYLIGHT
BEGIN:STANDARD
TZOFFSETFROM:+0200
TZOFFSETTO:+0100
TZNAME:CET
DTSTART:20241027T010000
END:STANDARD
BEGIN:DAYLIGHT
TZOFFSETFROM:+0100
TZOFFSETTO:+0200
TZNAME:CEST
DTSTART:20250330T010000
END:DAYLIGHT
BEGIN:STANDARD
TZOFFSETFROM:+0200
TZOFFSETTO:+0100
TZNAME:CET
DTSTART:20251026T010000
END:STANDARD
BEGIN:DAYLIGHT
TZOFFSETFROM:+0100
TZOFFSETTO:+0200
TZNAME:CEST
DTSTART:20260329T010000
END:DAYLIGHT
BEGIN:STANDARD
TZOFFSETFROM:+0200
TZOFFSETTO:+0100
TZNAME:CET
DTSTART:20261025T010000
END:STANDARD
END:VTIMEZONE
BEGIN:VEVENT
DTSTART;TZID=Europe/Berlin:20251121T080000
DTEND;TZID=Europe/Berlin:20251128T140000
DTSTAMP:20260425T204222
CREATED:20251204T142159Z
LAST-MODIFIED:20251204T142159Z
UID:10006393-1763712000-1764338400@xn--knigstein-erleben-zzb.de
SUMMARY:Königsteiner Wochenmarkt
DESCRIPTION:Qualität und Frische sind unser Anspruch!\nZwischen 8.00 und 14.00 Uhr bieten regionale Händler und auch Erzeuger an ihren Ständen Obst\, Gemüse\, Blumen\, Fleisch\, Fisch\, Geflügel\, Backwaren und weitere saisonale Produkte an. \nBesuchen Sie unseren Wochenmarkt\, Sie werden begeistert sein. Mehr Infos zu den Angeboten finden Sie hier…\nIhre Händler des Königsteiner Wochenmarktes. \n \nFoto: Stadt Königstein im Taunus\, Agentur GEP Nicole Falkus \n 
URL:https://xn--knigstein-erleben-zzb.de/event/koenigsteiner-wochenmarkt-2/
LOCATION:Kapuzinerplatz\, Stadtmitte\, Georg-Pingler-Straße\, Königstein im Taunus\, Hessen\, 61462\, Germany
CATEGORIES:Allgemein,Genuss
ATTACH;FMTTYPE=image/jpeg:https://xn--knigstein-erleben-zzb.de/wp-content/uploads/2023/09/KSWochenmarkt.jpg
GEO:50.182567;8.4669365
X-APPLE-STRUCTURED-LOCATION;VALUE=URI;X-ADDRESS=Kapuzinerplatz Stadtmitte Georg-Pingler-Straße Königstein im Taunus Hessen 61462 Germany;X-APPLE-RADIUS=500;X-TITLE=Georg-Pingler-Straße:geo:8.4669365,50.182567
END:VEVENT
BEGIN:VEVENT
DTSTART;TZID=Europe/Berlin:20251126T103000
DTEND;TZID=Europe/Berlin:20251126T153000
DTSTAMP:20260425T204222
CREATED:20251027T145454Z
LAST-MODIFIED:20251027T145454Z
UID:10017446-1764153000-1764171000@xn--knigstein-erleben-zzb.de
SUMMARY:Mittwochswanderung des Taunusklub Königstein
DESCRIPTION:Königstein-Wanderung mit Einkehrschwung zur Brotzeit im historischen Weinkeller \nTreffpunkt: Königstein Kapuzinerplatz 10.30 Uhr \n \nFoto: Taunusklub Königstein
URL:https://xn--knigstein-erleben-zzb.de/event/mittwochswanderung-des-taunusklub-koenigstein-21/
LOCATION:Kapuzinerplatz Stadtmitte
CATEGORIES:Allgemein,Wandern
ATTACH;FMTTYPE=image/jpeg:https://xn--knigstein-erleben-zzb.de/wp-content/uploads/2025/10/IMG_6010-scaled.jpeg
GEO:50.1826419;8.4654889
END:VEVENT
END:VCALENDAR