BEGIN:VCALENDAR
VERSION:2.0
PRODID:-//Königstein - Erleben - ECPv6.15.19//NONSGML v1.0//EN
CALSCALE:GREGORIAN
METHOD:PUBLISH
X-ORIGINAL-URL:https://xn--knigstein-erleben-zzb.de
X-WR-CALDESC:Veranstaltungen für Königstein - Erleben
REFRESH-INTERVAL;VALUE=DURATION:PT1H
X-Robots-Tag:noindex
X-PUBLISHED-TTL:PT1H
BEGIN:VTIMEZONE
TZID:Europe/Berlin
BEGIN:DAYLIGHT
TZOFFSETFROM:+0100
TZOFFSETTO:+0200
TZNAME:CEST
DTSTART:20240331T010000
END:DAYLIGHT
BEGIN:STANDARD
TZOFFSETFROM:+0200
TZOFFSETTO:+0100
TZNAME:CET
DTSTART:20241027T010000
END:STANDARD
BEGIN:DAYLIGHT
TZOFFSETFROM:+0100
TZOFFSETTO:+0200
TZNAME:CEST
DTSTART:20250330T010000
END:DAYLIGHT
BEGIN:STANDARD
TZOFFSETFROM:+0200
TZOFFSETTO:+0100
TZNAME:CET
DTSTART:20251026T010000
END:STANDARD
BEGIN:DAYLIGHT
TZOFFSETFROM:+0100
TZOFFSETTO:+0200
TZNAME:CEST
DTSTART:20260329T010000
END:DAYLIGHT
BEGIN:STANDARD
TZOFFSETFROM:+0200
TZOFFSETTO:+0100
TZNAME:CET
DTSTART:20261025T010000
END:STANDARD
END:VTIMEZONE
BEGIN:VEVENT
DTSTART;VALUE=DATE:20251201
DTEND;VALUE=DATE:20251224
DTSTAMP:20260425T230002
CREATED:20251105T150259Z
LAST-MODIFIED:20251201T173557Z
UID:10017500-1764547200-1766534399@xn--knigstein-erleben-zzb.de
SUMMARY:Weihnachts-Sammel-Aktion von Reinhild Fassler
DESCRIPTION:© Caroline Jakobi In: Pfarrbriefservice.de \nWeihnachten 2025\nWie jedes Jahr sammelt Reinhild Fassler zu Weihnachten für die Armen\, Obdachlosen und Ausgegrenzten in unserer Region und im Franziskustreff/Frankfurt (Bruder Michael\, Leitung\, und Bruder Paulus\, Stiftungsvorstand). Hierfür werden gerade in diesen Zeiten dringend Süßigkeiten\, Stollen\, Gebäck und Schokoladen-Weihnachtsmänner benötigt. Ganz besonders aber auch über Kaffee! \nBitte geben Sie Ihre Gaben bis Dienstag\, 23. Dezember 2025 ab bei:\n– Reinhild Fassler\, Gerichtstraße 17\, Königstein\, Telefon: (0 61 74) 6 21 37\n– Konditorei Kreiner\, Herrn Kiefer\, Hauptstraße/Fußgängerzone\, Königstein\n– Praxis für Physiotherapie FÄRBER\, Stresemannstraße 2\, Königstein\, Telefon: (0 61 74) 72 69\n– Maria Luise Rieken\, Grabenstraße 3 (Eingang rechts unten)\, Glashütten-Schloßborn\, Telefon: (0 61 74) 96 13 939\n– Familie Flössel\, Mainblick 48\, Kronberg\, Telefon: (0 61 73) 60 69 09 \nAbgabeschluss Freitag\, 19. Dezember 2025:\n– Kath. Pfarrei Maria Himmelfahrt im Taunus\, Zentrales Pfarrbüro\, Königstein\, Georg-Pingler-Straße 26\, Telefon: (0 61 74) 25 50 50\n(Di\, Do\, Fr 9.00 bis 12.00 Uhr\, Mi 14.00 bis 16.00 Uhr – und nach Vereinbarung)\n– Ev. Kirchengemeinde Oberhöchstadt\, Frau Lind\, Albert-Schweitzer-Straße 4\, Telefon: (0 61 73) 99 78 774\,  Mi/Fr 9.00 bis 11.30 Uhr \nAbgabeschluss Donnerstag\, 18. Dezember 2025:\n– Ev. Markus-Gemeinde Schönberg\, Frau Lind\, Friedrichstraße 50\, 1. OG\, Kronberg\, Telefon: (0 61 73) 79 42 1\nDi 9.00 bis 11.00 Uhr\, Mi und Do 14.00 bis 16.00 Uhr \nVielen Dank Reinhild Fassler
URL:https://xn--knigstein-erleben-zzb.de/event/weihnachts-sammel-aktion-von-reinhild-fassler-2/
LOCATION:Königstein im Taunus und Umgebung
CATEGORIES:Allgemein,Sammlung,Weihnachten
ATTACH;FMTTYPE=application/pdf:https://xn--knigstein-erleben-zzb.de/wp-content/uploads/2025/11/2025-Weihnachten_Fassler-quer-.pdf
END:VEVENT
BEGIN:VEVENT
DTSTART;TZID=Europe/Berlin:20251204T120000
DTEND;TZID=Europe/Berlin:20251204T180000
DTSTAMP:20260425T230002
CREATED:20250929T114440Z
LAST-MODIFIED:20251202T145706Z
UID:10017411-1764849600-1764871200@xn--knigstein-erleben-zzb.de
SUMMARY:BEREITS AUSGEBUCHT! Seniorenfahrt der Kernstadt Königstein zum Sternschnuppenmarkt Wiesbaden
DESCRIPTION:Seniorenfahrt der Kernstadt Königstein zum Sternschnuppenmarkt Wiesbaden\n  \nDie Stadt Königstein bietet  für Seniorinnen und Senioren der Kernstadt Königstein\, die das 65. Lebensjahr vollendet haben\, einen Ausflug zum Sternschnuppenmarkt nach Wiesbaden an.  Wir werden zunächst gemeinsam Mittagessen\, danach besteht die Möglichkeit über den Markt zu bummeln. \nDer Sternschnuppenmarkt in Wiesbaden findet wie jedes Jahr auf dem Schlossplatz zwischen Rathaus und Stadtschloss sowie rund um die Marktkirche statt. Die außergewöhnliche Beleuchtung des Marktes die „Lilien“ sollen an Sternschnuppen erinnern\, sie leiten die Besucher an den vielen Kunsthandwerker- Ständen auf dem Schlossplatz entlang. \nDie Rückankunft in Königstein ist gegen 18:00 Uhr vorgesehen. \nDer Kostenbeitrag beträgt 10\,00 Euro pro Person. \n  \nDie Anmeldung ist ab 06.10.2025 bei Frau Mutschall\, Zimmer 15 oder telefonisch unter: 06174/202-294 möglich.\nDie Anmeldefrist endet am 30.10.2025. \n \nBild: Stadt Königstein im Taunus
URL:https://xn--knigstein-erleben-zzb.de/event/seniorenfahrt-der-kernstadt-koenigstein-zum-sternschnuppenmarkt-wiesbaden/
LOCATION:Treffpunkt & Abfahrt: Bushaltestellen Stadtmitte\, Georg-Pingler-Straße\, Königstein im Taunus\, Hessen\, 61462\, Germany
CATEGORIES:Allgemein,Ausflug,Weihnachten
ATTACH;FMTTYPE=image/jpeg:https://xn--knigstein-erleben-zzb.de/wp-content/uploads/2024/11/XmasMarktKoe_071219_46-scaled.jpg
GEO:50.1837581;8.4677721
X-APPLE-STRUCTURED-LOCATION;VALUE=URI;X-ADDRESS=Treffpunkt & Abfahrt: Bushaltestellen Stadtmitte Georg-Pingler-Straße Königstein im Taunus Hessen 61462 Germany;X-APPLE-RADIUS=500;X-TITLE=Georg-Pingler-Straße:geo:8.4677721,50.1837581
END:VEVENT
BEGIN:VEVENT
DTSTART;TZID=Europe/Berlin:20251204T180000
DTEND;TZID=Europe/Berlin:20251204T180000
DTSTAMP:20260425T230002
CREATED:20250321T132929Z
LAST-MODIFIED:20251114T155654Z
UID:10006042-1764871200-1764871200@xn--knigstein-erleben-zzb.de
SUMMARY:Donnerstags DJ Beats 
DESCRIPTION:Fast Wochenende. Aber eben nur fast. Oder doch schon?\nBesuchen Sie die Tizians Bar in der Villa Rothschild immer donnerstags\nund freuen Sie sich auf ein paar chillige Beats. \nGute Drinks\, gute Snacks\, gute Leute … und natürlich gute Beats. Voilà! \nReservierung übrigens nicht notwendig. Aufgelegt wird ab 18 Uhr. Vorbeischauen\, reinkommen\, ankommen\, genießen. Wir hören uns! \n \nFoto bereitgestellt von der Broermann Health & Heritage Hotels GmbH
URL:https://xn--knigstein-erleben-zzb.de/event/donnerstags-dj-beats/2025-12-04/
LOCATION:Tizians Bar in der Villa Rothschild\, Im Rothschildpark 1\, Königstein im Taunus\, Hessen\, 61462\, Germany
ATTACH;FMTTYPE=image/jpeg:https://xn--knigstein-erleben-zzb.de/wp-content/uploads/2025/03/VR-Donnerstags-DJ-Beats-e1742564926506.jpg
GEO:50.1832832;8.4718445
X-APPLE-STRUCTURED-LOCATION;VALUE=URI;X-ADDRESS=Tizians Bar in der Villa Rothschild Im Rothschildpark 1 Königstein im Taunus Hessen 61462 Germany;X-APPLE-RADIUS=500;X-TITLE=Im Rothschildpark 1:geo:8.4718445,50.1832832
END:VEVENT
BEGIN:VEVENT
DTSTART;TZID=Europe/Berlin:20251204T190000
DTEND;TZID=Europe/Berlin:20251204T220000
DTSTAMP:20260425T230002
CREATED:20251124T134415Z
LAST-MODIFIED:20251124T134415Z
UID:10017548-1764874800-1764885600@xn--knigstein-erleben-zzb.de
SUMMARY:„FINDING HESSEN. Die kürzeste Geschichte Hessens aller Zeiten.“
DESCRIPTION:An Hessen führt kein Weg vorbei! Schon gar nicht an seiner aufregenden Geschichte. Denn wer glaubt\, sie sei trocken\, wird hier eines Besseren belehrt. Anlässlich des 80-jährigen Bestehens des Landes Hessen wirbelt „FINDING HESSEN“ 2000 Jahre Landesgeschichte auf – vollgepackt mit quicklebendigen Geschichten und überraschenden Begegnungen. \nSchon bei den Germanen geht die spannende Zeitreise los. Weiter geht’s zur Hessen-Prominenz des gar nicht dunklen Mittelalters und schließlich zu den starken Persönlichkeiten der letzten zweihundert Jahre\, die sich zwischen Kassel und Darmstadt tummelten und unser Land prägten. \nAll das bringt der Histotainer\, Theaterautor und Schauspieler Tino Leo auf die Bühne – mit Verwandlungskunst\, Tempo und Humor. Über zwei Dutzend schräge Typen\, resolute Damen\, Edle wie Unedle geben sich die Ehre. Es wird abwechslungsreich und kurzweilig. Spaß und Ernst verweben sich und zeichnen unser Land\, das den Löwen im Wappen trägt. \nIm Anschluss an die Aufführung findet ein Podiumsgespräch unter dem Titel „Vom Wert der hessischen Geschichte“ statt. Es diskutieren Sabine König (Journalistin)\, Dr. Hans Sarkowicz (Historiker)\, Tino Leo sowie Franziska Kiermeier\, Direktorin der Hessischen Landeszentrale für politische Bildung. Die Moderation übernimmt Dr. Torsten Casimir vom Frankfurter Presseclub. Für die musikalische Umrahmung sorgt Yumajo. Nach dem offiziellen Programm findet ein kleiner Empfang statt\, der Gelegenheit zum Austausch bietet. \nEine Anmeldung ist per E-Mail an vorzimmer@hlz.hessen.de erforderlich. \n  \n \nFoto: Veranstalter \n  \n  \n 
URL:https://xn--knigstein-erleben-zzb.de/event/finding-hessen-die-kuerzeste-geschichte-hessens-aller-zeiten/
LOCATION:Haus der Begegnung (Großer Saal)\, Bischof-Kaller-Straße 3\, Königstein im Taunus\, Hessen\, 61462\, Germany
ATTACH;FMTTYPE=image/jpeg:https://xn--knigstein-erleben-zzb.de/wp-content/uploads/2025/11/PM-Foto_Tino-Leo_Portrait.jpg
ORGANIZER;CN="Die Hessische Landeszentrale f%C3%BCr politische Bildung und der  Hochtaunuskreis":MAILTO:vorzimmer@hlz.hessen.de
GEO:50.1784427;8.4734345
X-APPLE-STRUCTURED-LOCATION;VALUE=URI;X-ADDRESS=Haus der Begegnung (Großer Saal) Bischof-Kaller-Straße 3 Königstein im Taunus Hessen 61462 Germany;X-APPLE-RADIUS=500;X-TITLE=Bischof-Kaller-Straße 3:geo:8.4734345,50.1784427
END:VEVENT
END:VCALENDAR