BEGIN:VCALENDAR
VERSION:2.0
PRODID:-//Königstein - Erleben - ECPv6.15.19//NONSGML v1.0//EN
CALSCALE:GREGORIAN
METHOD:PUBLISH
X-WR-CALNAME:Königstein - Erleben
X-ORIGINAL-URL:https://xn--knigstein-erleben-zzb.de
X-WR-CALDESC:Veranstaltungen für Königstein - Erleben
REFRESH-INTERVAL;VALUE=DURATION:PT1H
X-Robots-Tag:noindex
X-PUBLISHED-TTL:PT1H
BEGIN:VTIMEZONE
TZID:Europe/Berlin
BEGIN:DAYLIGHT
TZOFFSETFROM:+0100
TZOFFSETTO:+0200
TZNAME:CEST
DTSTART:20240331T010000
END:DAYLIGHT
BEGIN:STANDARD
TZOFFSETFROM:+0200
TZOFFSETTO:+0100
TZNAME:CET
DTSTART:20241027T010000
END:STANDARD
BEGIN:DAYLIGHT
TZOFFSETFROM:+0100
TZOFFSETTO:+0200
TZNAME:CEST
DTSTART:20250330T010000
END:DAYLIGHT
BEGIN:STANDARD
TZOFFSETFROM:+0200
TZOFFSETTO:+0100
TZNAME:CET
DTSTART:20251026T010000
END:STANDARD
BEGIN:DAYLIGHT
TZOFFSETFROM:+0100
TZOFFSETTO:+0200
TZNAME:CEST
DTSTART:20260329T010000
END:DAYLIGHT
BEGIN:STANDARD
TZOFFSETFROM:+0200
TZOFFSETTO:+0100
TZNAME:CET
DTSTART:20261025T010000
END:STANDARD
END:VTIMEZONE
BEGIN:VEVENT
DTSTART;VALUE=DATE:20251201
DTEND;VALUE=DATE:20251224
DTSTAMP:20260425T153255
CREATED:20251105T150259Z
LAST-MODIFIED:20251201T173557Z
UID:10017500-1764547200-1766534399@xn--knigstein-erleben-zzb.de
SUMMARY:Weihnachts-Sammel-Aktion von Reinhild Fassler
DESCRIPTION:© Caroline Jakobi In: Pfarrbriefservice.de \nWeihnachten 2025\nWie jedes Jahr sammelt Reinhild Fassler zu Weihnachten für die Armen\, Obdachlosen und Ausgegrenzten in unserer Region und im Franziskustreff/Frankfurt (Bruder Michael\, Leitung\, und Bruder Paulus\, Stiftungsvorstand). Hierfür werden gerade in diesen Zeiten dringend Süßigkeiten\, Stollen\, Gebäck und Schokoladen-Weihnachtsmänner benötigt. Ganz besonders aber auch über Kaffee! \nBitte geben Sie Ihre Gaben bis Dienstag\, 23. Dezember 2025 ab bei:\n– Reinhild Fassler\, Gerichtstraße 17\, Königstein\, Telefon: (0 61 74) 6 21 37\n– Konditorei Kreiner\, Herrn Kiefer\, Hauptstraße/Fußgängerzone\, Königstein\n– Praxis für Physiotherapie FÄRBER\, Stresemannstraße 2\, Königstein\, Telefon: (0 61 74) 72 69\n– Maria Luise Rieken\, Grabenstraße 3 (Eingang rechts unten)\, Glashütten-Schloßborn\, Telefon: (0 61 74) 96 13 939\n– Familie Flössel\, Mainblick 48\, Kronberg\, Telefon: (0 61 73) 60 69 09 \nAbgabeschluss Freitag\, 19. Dezember 2025:\n– Kath. Pfarrei Maria Himmelfahrt im Taunus\, Zentrales Pfarrbüro\, Königstein\, Georg-Pingler-Straße 26\, Telefon: (0 61 74) 25 50 50\n(Di\, Do\, Fr 9.00 bis 12.00 Uhr\, Mi 14.00 bis 16.00 Uhr – und nach Vereinbarung)\n– Ev. Kirchengemeinde Oberhöchstadt\, Frau Lind\, Albert-Schweitzer-Straße 4\, Telefon: (0 61 73) 99 78 774\,  Mi/Fr 9.00 bis 11.30 Uhr \nAbgabeschluss Donnerstag\, 18. Dezember 2025:\n– Ev. Markus-Gemeinde Schönberg\, Frau Lind\, Friedrichstraße 50\, 1. OG\, Kronberg\, Telefon: (0 61 73) 79 42 1\nDi 9.00 bis 11.00 Uhr\, Mi und Do 14.00 bis 16.00 Uhr \nVielen Dank Reinhild Fassler
URL:https://xn--knigstein-erleben-zzb.de/event/weihnachts-sammel-aktion-von-reinhild-fassler-2/
LOCATION:Königstein im Taunus und Umgebung
CATEGORIES:Allgemein,Sammlung,Weihnachten
ATTACH;FMTTYPE=application/pdf:https://xn--knigstein-erleben-zzb.de/wp-content/uploads/2025/11/2025-Weihnachten_Fassler-quer-.pdf
END:VEVENT
BEGIN:VEVENT
DTSTART;VALUE=DATE:20251205
DTEND;VALUE=DATE:20251208
DTSTAMP:20260425T153255
CREATED:20250415T120938Z
LAST-MODIFIED:20251204T165005Z
UID:10006417-1764892800-1765151999@xn--knigstein-erleben-zzb.de
SUMMARY:Königsteiner Weihnachtsmarkt 2025
DESCRIPTION:Königsteiner Weihnachtsmarkt: Natürlich. Gemütlich. In festlicher Atmosphäre\nWenn der Duft von frisch gebrannten Mandeln und Glühwein durch die Straßen zieht\, die Lichterketten den Kurpark in ein funkelndes Meer verwandeln und fröhliche Stimmen gemeinsam Weihnachtslieder singen\, dann ist es wieder soweit: Der Weihnachtsmarkt in Königstein im Taunus öffnet seine Pforten. Vom 5. bis 7. Dezember 2025 verwandelt sich die Stadt in eine zauberhafte Winterlandschaft\, die Groß und Klein in ihren Bann zieht. \nDie Königsteiner Vereine präsentieren sich mit kreativen und köstlichen Angeboten – von herzhaften Leckereien bis hin zu süßen Verführungen. Kunsthandwerksstände laden zum Stöbern und Staunen ein und bieten einzigartige Geschenke\, die von Herzen kommen. \nMit Parkmöglichkeiten in der Stadtgalerie (Klosterstraße 15 A\, 61462 Königstein) ist der Markt ebenfalls bequem erreichbar. Lassen Sie sich von der weihnachtlichen Atmosphäre verzaubern und erleben Sie ein Weihnachtsfest\, das weit über die Region hinausstrahlt. \nSeien Sie dabei\, wenn Königstein zum Leuchten gebracht wird\, und erleben Sie ein Wochenende voller Freude\, Besinnlichkeit und Gemeinschaft. Der Weihnachtsmarkt ist nicht nur ein Ort der Begegnung\, sondern ein Fest der Herzen – für Königstein und alle\, die die Magie der Adventszeit lieben. \n\nInformationen zu Programm\,  Lageplan und den Marktständen finden Sie hier…\n  \nÖffnungszeiten des Weihnachtsmarktes: \nFreitag\,     5. Dezember 2025:   16.00 Uhr bis 21.30 Uhr\nSamstag\,  6. Dezember 2025:   11.00 Uhr bis 21.30 Uhr\nSonntag\,   7. Dezember 2025:   11.00 Uhr bis 19.00 Uhr \n  \n  \n  \n 
URL:https://xn--knigstein-erleben-zzb.de/event/koenigsteiner-weihnachtsmarkt-2025/
LOCATION:Kurpark – Kapuzinerplatz – Rathausvorplatz\, Hauptstraße\, Königstein im Taunus\, Hessen\, 61462
CATEGORIES:Allgemein,Musik,Unterhaltung,Weihnachten
ATTACH;FMTTYPE=image/png:https://xn--knigstein-erleben-zzb.de/wp-content/uploads/2025/04/Logo_Weihnachtsmarkt_2025_1.00.png
GEO:50.1900341;8.4601345
X-APPLE-STRUCTURED-LOCATION;VALUE=URI;X-ADDRESS=Kurpark – Kapuzinerplatz – Rathausvorplatz Hauptstraße Königstein im Taunus Hessen 61462;X-APPLE-RADIUS=500;X-TITLE=Hauptstraße:geo:8.4601345,50.1900341
END:VEVENT
BEGIN:VEVENT
DTSTART;TZID=Europe/Berlin:20251207T160000
DTEND;TZID=Europe/Berlin:20251207T190000
DTSTAMP:20260425T153255
CREATED:20251204T113852Z
LAST-MODIFIED:20251204T113852Z
UID:10019145-1765123200-1765134000@xn--knigstein-erleben-zzb.de
SUMMARY:Adventsgarten in der St. Marien Kirche
DESCRIPTION:Plakat: Kath. Kirche St. Marien Königstein
URL:https://xn--knigstein-erleben-zzb.de/event/adventsgarten-in-der-st-marien-kirche-3/
LOCATION:Kath. Kirche St. Marien\, Kirchstraße 9\, Königstein im Taunus\, Hessen\, 61462\, Germany
ATTACH;FMTTYPE=application/pdf:https://xn--knigstein-erleben-zzb.de/wp-content/uploads/2025/12/FREMD_2025-12-07-Adventsgarten-St.-Marien-1.pdf
ORGANIZER;CN="Kath. Pfarrei Maria Himmelfahrt im Taunus":MAILTO:pfarrei@mariahimmelfahrtimtaunus.de
GEO:50.1833575;8.4654341
X-APPLE-STRUCTURED-LOCATION;VALUE=URI;X-ADDRESS=Kath. Kirche St. Marien Kirchstraße 9 Königstein im Taunus Hessen 61462 Germany;X-APPLE-RADIUS=500;X-TITLE=Kirchstraße 9:geo:8.4654341,50.1833575
END:VEVENT
END:VCALENDAR