BEGIN:VCALENDAR
VERSION:2.0
PRODID:-//Königstein - Erleben - ECPv6.15.19//NONSGML v1.0//EN
CALSCALE:GREGORIAN
METHOD:PUBLISH
X-ORIGINAL-URL:https://xn--knigstein-erleben-zzb.de
X-WR-CALDESC:Veranstaltungen für Königstein - Erleben
REFRESH-INTERVAL;VALUE=DURATION:PT1H
X-Robots-Tag:noindex
X-PUBLISHED-TTL:PT1H
BEGIN:VTIMEZONE
TZID:Europe/Berlin
BEGIN:DAYLIGHT
TZOFFSETFROM:+0100
TZOFFSETTO:+0200
TZNAME:CEST
DTSTART:20240331T010000
END:DAYLIGHT
BEGIN:STANDARD
TZOFFSETFROM:+0200
TZOFFSETTO:+0100
TZNAME:CET
DTSTART:20241027T010000
END:STANDARD
BEGIN:DAYLIGHT
TZOFFSETFROM:+0100
TZOFFSETTO:+0200
TZNAME:CEST
DTSTART:20250330T010000
END:DAYLIGHT
BEGIN:STANDARD
TZOFFSETFROM:+0200
TZOFFSETTO:+0100
TZNAME:CET
DTSTART:20251026T010000
END:STANDARD
BEGIN:DAYLIGHT
TZOFFSETFROM:+0100
TZOFFSETTO:+0200
TZNAME:CEST
DTSTART:20260329T010000
END:DAYLIGHT
BEGIN:STANDARD
TZOFFSETFROM:+0200
TZOFFSETTO:+0100
TZNAME:CET
DTSTART:20261025T010000
END:STANDARD
END:VTIMEZONE
BEGIN:VEVENT
DTSTART;VALUE=DATE:20251201
DTEND;VALUE=DATE:20251224
DTSTAMP:20260424T224932
CREATED:20251105T150259Z
LAST-MODIFIED:20251201T173557Z
UID:10017500-1764547200-1766534399@xn--knigstein-erleben-zzb.de
SUMMARY:Weihnachts-Sammel-Aktion von Reinhild Fassler
DESCRIPTION:© Caroline Jakobi In: Pfarrbriefservice.de \nWeihnachten 2025\nWie jedes Jahr sammelt Reinhild Fassler zu Weihnachten für die Armen\, Obdachlosen und Ausgegrenzten in unserer Region und im Franziskustreff/Frankfurt (Bruder Michael\, Leitung\, und Bruder Paulus\, Stiftungsvorstand). Hierfür werden gerade in diesen Zeiten dringend Süßigkeiten\, Stollen\, Gebäck und Schokoladen-Weihnachtsmänner benötigt. Ganz besonders aber auch über Kaffee! \nBitte geben Sie Ihre Gaben bis Dienstag\, 23. Dezember 2025 ab bei:\n– Reinhild Fassler\, Gerichtstraße 17\, Königstein\, Telefon: (0 61 74) 6 21 37\n– Konditorei Kreiner\, Herrn Kiefer\, Hauptstraße/Fußgängerzone\, Königstein\n– Praxis für Physiotherapie FÄRBER\, Stresemannstraße 2\, Königstein\, Telefon: (0 61 74) 72 69\n– Maria Luise Rieken\, Grabenstraße 3 (Eingang rechts unten)\, Glashütten-Schloßborn\, Telefon: (0 61 74) 96 13 939\n– Familie Flössel\, Mainblick 48\, Kronberg\, Telefon: (0 61 73) 60 69 09 \nAbgabeschluss Freitag\, 19. Dezember 2025:\n– Kath. Pfarrei Maria Himmelfahrt im Taunus\, Zentrales Pfarrbüro\, Königstein\, Georg-Pingler-Straße 26\, Telefon: (0 61 74) 25 50 50\n(Di\, Do\, Fr 9.00 bis 12.00 Uhr\, Mi 14.00 bis 16.00 Uhr – und nach Vereinbarung)\n– Ev. Kirchengemeinde Oberhöchstadt\, Frau Lind\, Albert-Schweitzer-Straße 4\, Telefon: (0 61 73) 99 78 774\,  Mi/Fr 9.00 bis 11.30 Uhr \nAbgabeschluss Donnerstag\, 18. Dezember 2025:\n– Ev. Markus-Gemeinde Schönberg\, Frau Lind\, Friedrichstraße 50\, 1. OG\, Kronberg\, Telefon: (0 61 73) 79 42 1\nDi 9.00 bis 11.00 Uhr\, Mi und Do 14.00 bis 16.00 Uhr \nVielen Dank Reinhild Fassler
URL:https://xn--knigstein-erleben-zzb.de/event/weihnachts-sammel-aktion-von-reinhild-fassler-2/
LOCATION:Königstein im Taunus und Umgebung
CATEGORIES:Allgemein,Sammlung,Weihnachten
ATTACH;FMTTYPE=application/pdf:https://xn--knigstein-erleben-zzb.de/wp-content/uploads/2025/11/2025-Weihnachten_Fassler-quer-.pdf
END:VEVENT
BEGIN:VEVENT
DTSTART;TZID=Europe/Berlin:20251210T093000
DTEND;TZID=Europe/Berlin:20251210T170000
DTSTAMP:20260424T224932
CREATED:20251124T100116Z
LAST-MODIFIED:20251124T100116Z
UID:10017545-1765359000-1765386000@xn--knigstein-erleben-zzb.de
SUMMARY:Mittwochswanderung des Taunusklub Königstein
DESCRIPTION:Von der Hohemark über den Bleibeskopf zum Hirschgarten bei Bad Homburg\n9 km\, anspruchsvoll\, + 190 m \nAbfahrt: Königstein Stadtmitte (E) mit Bus X27 um 09.51 Uhr\, Ankunft Oberursel 10.06 Uhr\, Umstieg in U3 um 10.15 Uhr zur Hohemark; Abmarsch 10.30 Uhr \nEinkehr: Restaurant „Hirschgarten“ \nRückfahrt ab Hirschgarten mit Bus 11 um 16.11 Uhr (stdl.) nach Bad Homburg Bhf.\, von dort mit X26/27 nach Königstein Stadtmitte \n \nFoto: Taunusklub Königstein \n  \n 
URL:https://xn--knigstein-erleben-zzb.de/event/mittwochswanderung-des-taunusklub-koenigstein-23/
LOCATION:Bushaltestellen Stadtmitte\, Georg-Pingler-Straße\, Königstein im Taunus\, Hessen\, 61462\, Germany
CATEGORIES:Allgemein
ATTACH;FMTTYPE=image/jpeg:https://xn--knigstein-erleben-zzb.de/wp-content/uploads/2025/11/84996796-edb4-4310-9efa-abcafc4f7c31.jpeg
GEO:50.1837581;8.4677721
X-APPLE-STRUCTURED-LOCATION;VALUE=URI;X-ADDRESS=Bushaltestellen Stadtmitte Georg-Pingler-Straße Königstein im Taunus Hessen 61462 Germany;X-APPLE-RADIUS=500;X-TITLE=Georg-Pingler-Straße:geo:8.4677721,50.1837581
END:VEVENT
BEGIN:VEVENT
DTSTART;TZID=Europe/Berlin:20251210T160000
DTEND;TZID=Europe/Berlin:20251210T170000
DTSTAMP:20260424T224932
CREATED:20250818T115256Z
LAST-MODIFIED:20250818T115256Z
UID:10017234-1765382400-1765386000@xn--knigstein-erleben-zzb.de
SUMMARY:Rätselnachmittag in der Stadtbibliothek
DESCRIPTION:Alle Krimi- und Rätselbegeisterten ab 14 Jahren sind herzlich zum Rätsel-Nachmittag in der Stadtbibliothek eingeladen. \nIn einer Welt voller mysteriösern Tode\, unerklärlicher Vorfälle und düsterer Geheimnisse geht es darum\, knifflige Kriminalfälle zu lösen. Gemeinsam werden Fragen gestellt\, Hinweise kombiniert und Schritt für Schritt der Wahrheit nähergekommen.\nEin Nachmittag voller Spannung – ideal für alle\, die gerne knobeln\, Rätsel und schwarzen Humor mögen. \nWir bitten vorab um Anmeldung in der Bibliothek.\nTelefon: 06174 932370\nMail: stadtbibliothek@koenigstein.de
URL:https://xn--knigstein-erleben-zzb.de/event/raetselnachmittag-in-der-stadtbibliothek-4/
LOCATION:Hessen
ATTACH;FMTTYPE=application/pdf:https://xn--knigstein-erleben-zzb.de/wp-content/uploads/2025/08/Raetselnachmittag-in-der-Stadtbibliothek-1.pdf
ORGANIZER;CN="Stadtbibliothek K%C3%B6nigstein":MAILTO:stadtbibliothek@koenigstein.de
END:VEVENT
END:VCALENDAR