BEGIN:VCALENDAR
VERSION:2.0
PRODID:-//Königstein - Erleben - ECPv6.15.19//NONSGML v1.0//EN
CALSCALE:GREGORIAN
METHOD:PUBLISH
X-WR-CALNAME:Königstein - Erleben
X-ORIGINAL-URL:https://xn--knigstein-erleben-zzb.de
X-WR-CALDESC:Veranstaltungen für Königstein - Erleben
REFRESH-INTERVAL;VALUE=DURATION:PT1H
X-Robots-Tag:noindex
X-PUBLISHED-TTL:PT1H
BEGIN:VTIMEZONE
TZID:Europe/Berlin
BEGIN:DAYLIGHT
TZOFFSETFROM:+0100
TZOFFSETTO:+0200
TZNAME:CEST
DTSTART:20240331T010000
END:DAYLIGHT
BEGIN:STANDARD
TZOFFSETFROM:+0200
TZOFFSETTO:+0100
TZNAME:CET
DTSTART:20241027T010000
END:STANDARD
BEGIN:DAYLIGHT
TZOFFSETFROM:+0100
TZOFFSETTO:+0200
TZNAME:CEST
DTSTART:20250330T010000
END:DAYLIGHT
BEGIN:STANDARD
TZOFFSETFROM:+0200
TZOFFSETTO:+0100
TZNAME:CET
DTSTART:20251026T010000
END:STANDARD
BEGIN:DAYLIGHT
TZOFFSETFROM:+0100
TZOFFSETTO:+0200
TZNAME:CEST
DTSTART:20260329T010000
END:DAYLIGHT
BEGIN:STANDARD
TZOFFSETFROM:+0200
TZOFFSETTO:+0100
TZNAME:CET
DTSTART:20261025T010000
END:STANDARD
END:VTIMEZONE
BEGIN:VEVENT
DTSTART;VALUE=DATE:20251201
DTEND;VALUE=DATE:20251224
DTSTAMP:20260425T153250
CREATED:20251105T150259Z
LAST-MODIFIED:20251201T173557Z
UID:10017500-1764547200-1766534399@xn--knigstein-erleben-zzb.de
SUMMARY:Weihnachts-Sammel-Aktion von Reinhild Fassler
DESCRIPTION:© Caroline Jakobi In: Pfarrbriefservice.de \nWeihnachten 2025\nWie jedes Jahr sammelt Reinhild Fassler zu Weihnachten für die Armen\, Obdachlosen und Ausgegrenzten in unserer Region und im Franziskustreff/Frankfurt (Bruder Michael\, Leitung\, und Bruder Paulus\, Stiftungsvorstand). Hierfür werden gerade in diesen Zeiten dringend Süßigkeiten\, Stollen\, Gebäck und Schokoladen-Weihnachtsmänner benötigt. Ganz besonders aber auch über Kaffee! \nBitte geben Sie Ihre Gaben bis Dienstag\, 23. Dezember 2025 ab bei:\n– Reinhild Fassler\, Gerichtstraße 17\, Königstein\, Telefon: (0 61 74) 6 21 37\n– Konditorei Kreiner\, Herrn Kiefer\, Hauptstraße/Fußgängerzone\, Königstein\n– Praxis für Physiotherapie FÄRBER\, Stresemannstraße 2\, Königstein\, Telefon: (0 61 74) 72 69\n– Maria Luise Rieken\, Grabenstraße 3 (Eingang rechts unten)\, Glashütten-Schloßborn\, Telefon: (0 61 74) 96 13 939\n– Familie Flössel\, Mainblick 48\, Kronberg\, Telefon: (0 61 73) 60 69 09 \nAbgabeschluss Freitag\, 19. Dezember 2025:\n– Kath. Pfarrei Maria Himmelfahrt im Taunus\, Zentrales Pfarrbüro\, Königstein\, Georg-Pingler-Straße 26\, Telefon: (0 61 74) 25 50 50\n(Di\, Do\, Fr 9.00 bis 12.00 Uhr\, Mi 14.00 bis 16.00 Uhr – und nach Vereinbarung)\n– Ev. Kirchengemeinde Oberhöchstadt\, Frau Lind\, Albert-Schweitzer-Straße 4\, Telefon: (0 61 73) 99 78 774\,  Mi/Fr 9.00 bis 11.30 Uhr \nAbgabeschluss Donnerstag\, 18. Dezember 2025:\n– Ev. Markus-Gemeinde Schönberg\, Frau Lind\, Friedrichstraße 50\, 1. OG\, Kronberg\, Telefon: (0 61 73) 79 42 1\nDi 9.00 bis 11.00 Uhr\, Mi und Do 14.00 bis 16.00 Uhr \nVielen Dank Reinhild Fassler
URL:https://xn--knigstein-erleben-zzb.de/event/weihnachts-sammel-aktion-von-reinhild-fassler-2/
LOCATION:Königstein im Taunus und Umgebung
CATEGORIES:Allgemein,Sammlung,Weihnachten
ATTACH;FMTTYPE=application/pdf:https://xn--knigstein-erleben-zzb.de/wp-content/uploads/2025/11/2025-Weihnachten_Fassler-quer-.pdf
END:VEVENT
BEGIN:VEVENT
DTSTART;TZID=Europe/Berlin:20251214T100000
DTEND;TZID=Europe/Berlin:20251214T100000
DTSTAMP:20260425T153250
CREATED:20250819T171120Z
LAST-MODIFIED:20250819T171120Z
UID:10017254-1765706400-1765706400@xn--knigstein-erleben-zzb.de
SUMMARY:Adventswanderung im Heilklima-Park Hochtaunus
DESCRIPTION:  \nErquickende Wanderung zum Krafttanken im winterlichen Taunus mit Heilklima-Therapeutin Carmen Brandes\nWenn der Wald ganz frostig glitzert oder vielleicht gar unter weißer Pracht leise ruht\, wirkt sich allein der Aufenthalt in der Natur wohltuend aus. Auf dem Rundweg mit moderaten Steigungen geht es hinauf in die Höhenlagen\, wo die klimatischen Bedingungen für eben jene Reizvariabilität sorgen\, die unseren Organismus fordern und fördern. \nNochmal tief durchatmen und Weihnachten kann kommen. \nDie Teilnahme ist kostenfrei\, um Anmeldung wird gebeten\nTelefon: (0 61 74) 202 300\nE-Mail:  anmeldung@koenigstein.de \n  \nHeilklima-Wanderungen\nHeilklima-Wandern ist das Gehen im Gelände unter möglichst variablen Klimareizen:\nSpürbare Veränderungen der Temperatur auf verschiedenen Höhenlagen\, der Wechsel von sonnigen und schattigen oder windigen und windgeschützten Wegen fördern die Widerstandfähigkeit. Die reine\, frische Luft und die geschmeidig ineinander übergehenden Höhen und Täler bieten ein optimales Terrain zum Wandern. \nÜbungen zur Mobilisierung\, Kräftigung\, Dehnung und Atmung sowie Pulsmessungen runden das Erlebnis ab.\nFür die Teilnahme an einer Heilklima-Wanderung ist eine gute Gesundheit Voraussetzung. \n \nAdventswanderung im Heilklima-Park Hochtaunus; Foto: Pixabay
URL:https://xn--knigstein-erleben-zzb.de/event/adventswanderung-im-heilklima-park-hochtaunus-3/
LOCATION:Treffpunkt: Kurbad Königstein\, Le-Cannet-Rocheville-Straße 1\, Königstein im Taunus\, Hessen\, 61462\, Germany
CATEGORIES:Allgemein,Gesundheit,Heilklima,Wandern
ATTACH;FMTTYPE=image/jpeg:https://xn--knigstein-erleben-zzb.de/wp-content/uploads/2024/04/AdventHKW.jpg
ORGANIZER;CN="Kur- und Stadtinformation K%C3%B6nigstein":MAILTO:info@koenigstein.de
GEO:50.1861949;8.470041
X-APPLE-STRUCTURED-LOCATION;VALUE=URI;X-ADDRESS=Treffpunkt: Kurbad Königstein Le-Cannet-Rocheville-Straße 1 Königstein im Taunus Hessen 61462 Germany;X-APPLE-RADIUS=500;X-TITLE=Le-Cannet-Rocheville-Straße 1:geo:8.470041,50.1861949
END:VEVENT
BEGIN:VEVENT
DTSTART;TZID=Europe/Berlin:20251214T110000
DTEND;TZID=Europe/Berlin:20251214T180000
DTSTAMP:20260425T153250
CREATED:20251125T114943Z
LAST-MODIFIED:20251125T115104Z
UID:10017552-1765710000-1765735200@xn--knigstein-erleben-zzb.de
SUMMARY:Weihnachtsmarkt am Naturfreundehaus Billtalhöhe
DESCRIPTION:Plakat: Naturfreundehaus Billtalhöhe Königstein
URL:https://xn--knigstein-erleben-zzb.de/event/weihnachtsmarkt-am-naturfreundehaus-billtalhoehe/2025-12-14/
LOCATION:Naturfreundehaus Billtalhöhe\, Borgnisweg 1\, Königstein im Taunus\, Hessen\, 61462\, Germany
ATTACH;FMTTYPE=application/pdf:https://xn--knigstein-erleben-zzb.de/wp-content/uploads/2025/11/FREMD_2025-12-1314-Naturfreundehaus-Weihnachtsmarkt.pdf
GEO:50.1975257;8.4367278
X-APPLE-STRUCTURED-LOCATION;VALUE=URI;X-ADDRESS=Naturfreundehaus Billtalhöhe Borgnisweg 1 Königstein im Taunus Hessen 61462 Germany;X-APPLE-RADIUS=500;X-TITLE=Borgnisweg 1:geo:8.4367278,50.1975257
END:VEVENT
BEGIN:VEVENT
DTSTART;TZID=Europe/Berlin:20251214T170000
DTEND;TZID=Europe/Berlin:20251214T170000
DTSTAMP:20260425T153250
CREATED:20251203T142848Z
LAST-MODIFIED:20251204T114032Z
UID:10019144-1765731600-1765731600@xn--knigstein-erleben-zzb.de
SUMMARY:Martin\, der Schuster - Kindertheater in der Immanuelkirche Königstein
DESCRIPTION:Plakat: Ev. Immanuel-Gemeinde Königstein
URL:https://xn--knigstein-erleben-zzb.de/event/martin-der-schuster/
LOCATION:Ev. Immanuelkirche\, Hintere Schloßgasse 10\, Königstein im Taunus\, Hessen\, 61462\, Germany
CATEGORIES:Allgemein,Kinder,Kirche,Unterhaltung,Weihnachten
ATTACH;FMTTYPE=application/pdf:https://xn--knigstein-erleben-zzb.de/wp-content/uploads/2025/12/FREMD_2025-12-14-Martin-der-Schuster-2.pdf
GEO:50.1824949;8.4628546
X-APPLE-STRUCTURED-LOCATION;VALUE=URI;X-ADDRESS=Ev. Immanuelkirche Hintere Schloßgasse 10 Königstein im Taunus Hessen 61462 Germany;X-APPLE-RADIUS=500;X-TITLE=Hintere Schloßgasse 10:geo:8.4628546,50.1824949
END:VEVENT
END:VCALENDAR