BEGIN:VCALENDAR
VERSION:2.0
PRODID:-//Königstein - Erleben - ECPv6.15.19//NONSGML v1.0//EN
CALSCALE:GREGORIAN
METHOD:PUBLISH
X-ORIGINAL-URL:https://xn--knigstein-erleben-zzb.de
X-WR-CALDESC:Veranstaltungen für Königstein - Erleben
REFRESH-INTERVAL;VALUE=DURATION:PT1H
X-Robots-Tag:noindex
X-PUBLISHED-TTL:PT1H
BEGIN:VTIMEZONE
TZID:Europe/Berlin
BEGIN:DAYLIGHT
TZOFFSETFROM:+0100
TZOFFSETTO:+0200
TZNAME:CEST
DTSTART:20240331T010000
END:DAYLIGHT
BEGIN:STANDARD
TZOFFSETFROM:+0200
TZOFFSETTO:+0100
TZNAME:CET
DTSTART:20241027T010000
END:STANDARD
BEGIN:DAYLIGHT
TZOFFSETFROM:+0100
TZOFFSETTO:+0200
TZNAME:CEST
DTSTART:20250330T010000
END:DAYLIGHT
BEGIN:STANDARD
TZOFFSETFROM:+0200
TZOFFSETTO:+0100
TZNAME:CET
DTSTART:20251026T010000
END:STANDARD
BEGIN:DAYLIGHT
TZOFFSETFROM:+0100
TZOFFSETTO:+0200
TZNAME:CEST
DTSTART:20260329T010000
END:DAYLIGHT
BEGIN:STANDARD
TZOFFSETFROM:+0200
TZOFFSETTO:+0100
TZNAME:CET
DTSTART:20261025T010000
END:STANDARD
END:VTIMEZONE
BEGIN:VEVENT
DTSTART;VALUE=DATE:20251201
DTEND;VALUE=DATE:20251224
DTSTAMP:20260424T224912
CREATED:20251105T150259Z
LAST-MODIFIED:20251201T173557Z
UID:10017500-1764547200-1766534399@xn--knigstein-erleben-zzb.de
SUMMARY:Weihnachts-Sammel-Aktion von Reinhild Fassler
DESCRIPTION:© Caroline Jakobi In: Pfarrbriefservice.de \nWeihnachten 2025\nWie jedes Jahr sammelt Reinhild Fassler zu Weihnachten für die Armen\, Obdachlosen und Ausgegrenzten in unserer Region und im Franziskustreff/Frankfurt (Bruder Michael\, Leitung\, und Bruder Paulus\, Stiftungsvorstand). Hierfür werden gerade in diesen Zeiten dringend Süßigkeiten\, Stollen\, Gebäck und Schokoladen-Weihnachtsmänner benötigt. Ganz besonders aber auch über Kaffee! \nBitte geben Sie Ihre Gaben bis Dienstag\, 23. Dezember 2025 ab bei:\n– Reinhild Fassler\, Gerichtstraße 17\, Königstein\, Telefon: (0 61 74) 6 21 37\n– Konditorei Kreiner\, Herrn Kiefer\, Hauptstraße/Fußgängerzone\, Königstein\n– Praxis für Physiotherapie FÄRBER\, Stresemannstraße 2\, Königstein\, Telefon: (0 61 74) 72 69\n– Maria Luise Rieken\, Grabenstraße 3 (Eingang rechts unten)\, Glashütten-Schloßborn\, Telefon: (0 61 74) 96 13 939\n– Familie Flössel\, Mainblick 48\, Kronberg\, Telefon: (0 61 73) 60 69 09 \nAbgabeschluss Freitag\, 19. Dezember 2025:\n– Kath. Pfarrei Maria Himmelfahrt im Taunus\, Zentrales Pfarrbüro\, Königstein\, Georg-Pingler-Straße 26\, Telefon: (0 61 74) 25 50 50\n(Di\, Do\, Fr 9.00 bis 12.00 Uhr\, Mi 14.00 bis 16.00 Uhr – und nach Vereinbarung)\n– Ev. Kirchengemeinde Oberhöchstadt\, Frau Lind\, Albert-Schweitzer-Straße 4\, Telefon: (0 61 73) 99 78 774\,  Mi/Fr 9.00 bis 11.30 Uhr \nAbgabeschluss Donnerstag\, 18. Dezember 2025:\n– Ev. Markus-Gemeinde Schönberg\, Frau Lind\, Friedrichstraße 50\, 1. OG\, Kronberg\, Telefon: (0 61 73) 79 42 1\nDi 9.00 bis 11.00 Uhr\, Mi und Do 14.00 bis 16.00 Uhr \nVielen Dank Reinhild Fassler
URL:https://xn--knigstein-erleben-zzb.de/event/weihnachts-sammel-aktion-von-reinhild-fassler-2/
LOCATION:Königstein im Taunus und Umgebung
CATEGORIES:Allgemein,Sammlung,Weihnachten
ATTACH;FMTTYPE=application/pdf:https://xn--knigstein-erleben-zzb.de/wp-content/uploads/2025/11/2025-Weihnachten_Fassler-quer-.pdf
END:VEVENT
BEGIN:VEVENT
DTSTART;TZID=Europe/Berlin:20251219T080000
DTEND;TZID=Europe/Berlin:20251219T140000
DTSTAMP:20260424T224912
CREATED:20251204T165522Z
LAST-MODIFIED:20251204T170510Z
UID:10019167-1766131200-1766152800@xn--knigstein-erleben-zzb.de
SUMMARY:Königsteiner Wochenmarkt
DESCRIPTION:Qualität und Frische sind unser Anspruch!\n  \nZwischen 8.00 und 14.00 Uhr bieten regionale Händler und auch Erzeuger an ihren Ständen Obst\, Gemüse\, Blumen\, Fleisch\, Fisch\, Geflügel\, Backwaren und weitere saisonale Produkte an. \nBesuchen Sie unseren Wochenmarkt\, Sie werden begeistert sein. Mehr Infos zu den Angeboten finden Sie hier…\nIhre Händler des Königsteiner Wochenmarktes. \n \nFoto: Stadt Königstein im Taunus
URL:https://xn--knigstein-erleben-zzb.de/event/koenigsteiner-wochenmarkt-5/2025-12-19/
LOCATION:Kapuzinerplatz Stadtmitte
CATEGORIES:Allgemein,Genuss,Gesundheit,Verköstigung
ATTACH;FMTTYPE=image/jpeg:https://xn--knigstein-erleben-zzb.de/wp-content/uploads/2025/12/Wochenmarkt_230421_43-klein-scaled.jpg
GEO:50.1826419;8.4654889
END:VEVENT
BEGIN:VEVENT
DTSTART;TZID=Europe/Berlin:20251219T190000
DTEND;TZID=Europe/Berlin:20251219T210000
DTSTAMP:20260424T224912
CREATED:20251031T081959Z
LAST-MODIFIED:20251031T081959Z
UID:10017468-1766170800-1766178000@xn--knigstein-erleben-zzb.de
SUMMARY:Kingstruments Winterkonzert
DESCRIPTION:In diesem Jahr laden die „Kingstruments“ zum ersten Mal an zwei aufeinanderfolgenden Tagen zum Winterkonzert ein\, damit auch wirklich alle Freunde ihrer Musik Platz finden. Im Programm:  Klassische und zeitgenössische Stücke\, darunter auch die Nussknacker-Suite von Tschaikowsky – passend zum nahen Weihnachtsfest. \n \nFoto: Kingstruments \n  \n  \n  \n  \n  \n  \n  \n  \n  \n  \n  \n 
URL:https://xn--knigstein-erleben-zzb.de/event/kingstruments-winterkonzert/2025-12-19/
LOCATION:Aula der St. Angela Schule\, Gerichtstraße 19\, Königstein im Taunus\, Hessen\, 61462\, Germany
CATEGORIES:Allgemein,Konzert
ATTACH;FMTTYPE=image/jpeg:https://xn--knigstein-erleben-zzb.de/wp-content/uploads/2025/10/IMG-20251027-WA0003-scaled.jpg
GEO:50.1848203;8.4634609
X-APPLE-STRUCTURED-LOCATION;VALUE=URI;X-ADDRESS=Aula der St. Angela Schule Gerichtstraße 19 Königstein im Taunus Hessen 61462 Germany;X-APPLE-RADIUS=500;X-TITLE=Gerichtstraße 19:geo:8.4634609,50.1848203
END:VEVENT
END:VCALENDAR