BEGIN:VCALENDAR
VERSION:2.0
PRODID:-//Königstein - Erleben - ECPv6.15.19//NONSGML v1.0//EN
CALSCALE:GREGORIAN
METHOD:PUBLISH
X-WR-CALNAME:Königstein - Erleben
X-ORIGINAL-URL:https://xn--knigstein-erleben-zzb.de
X-WR-CALDESC:Veranstaltungen für Königstein - Erleben
REFRESH-INTERVAL;VALUE=DURATION:PT1H
X-Robots-Tag:noindex
X-PUBLISHED-TTL:PT1H
BEGIN:VTIMEZONE
TZID:Europe/Berlin
BEGIN:DAYLIGHT
TZOFFSETFROM:+0100
TZOFFSETTO:+0200
TZNAME:CEST
DTSTART:20240331T010000
END:DAYLIGHT
BEGIN:STANDARD
TZOFFSETFROM:+0200
TZOFFSETTO:+0100
TZNAME:CET
DTSTART:20241027T010000
END:STANDARD
BEGIN:DAYLIGHT
TZOFFSETFROM:+0100
TZOFFSETTO:+0200
TZNAME:CEST
DTSTART:20250330T010000
END:DAYLIGHT
BEGIN:STANDARD
TZOFFSETFROM:+0200
TZOFFSETTO:+0100
TZNAME:CET
DTSTART:20251026T010000
END:STANDARD
BEGIN:DAYLIGHT
TZOFFSETFROM:+0100
TZOFFSETTO:+0200
TZNAME:CEST
DTSTART:20260329T010000
END:DAYLIGHT
BEGIN:STANDARD
TZOFFSETFROM:+0200
TZOFFSETTO:+0100
TZNAME:CET
DTSTART:20261025T010000
END:STANDARD
BEGIN:DAYLIGHT
TZOFFSETFROM:+0100
TZOFFSETTO:+0200
TZNAME:CEST
DTSTART:20270328T010000
END:DAYLIGHT
BEGIN:STANDARD
TZOFFSETFROM:+0200
TZOFFSETTO:+0100
TZNAME:CET
DTSTART:20271031T010000
END:STANDARD
END:VTIMEZONE
BEGIN:VEVENT
DTSTART;VALUE=DATE:20251221
DTEND;VALUE=DATE:20260106
DTSTAMP:20260424T200615
CREATED:20251218T120314Z
LAST-MODIFIED:20251219T094050Z
UID:10019221-1766275200-1767657599@xn--knigstein-erleben-zzb.de
SUMMARY:Winterpause in der Stadtbibliothek
DESCRIPTION:Vom 21. Dezember 2025 bis einschließlich 5. Januar 2026 ist die Stadtbibliothek geschlossen. \nAb dem 6. Januar ist die Bibliothek wieder regulär geöffnet. \nWir bitten darum\, dass während der Schließzeit keine Medien über die Rückgabebox eingeworfen werden!
URL:https://xn--knigstein-erleben-zzb.de/event/winterpause-in-der-stadtbibliothek/
LOCATION:Stadtbibliothek Königstein\, Wiesbadener Straße 6\, Königstein im Taunus\, Hessen\, 61462\, Germany
CATEGORIES:Allgemein,Kultur,Stadtbibliothek
ATTACH;FMTTYPE=image/jpeg:https://xn--knigstein-erleben-zzb.de/wp-content/uploads/2023/11/Stadtbibliothek_240520_3-scaled.jpg
ORGANIZER;CN="Stadtbibliothek K%C3%B6nigstein":MAILTO:stadtbibliothek@koenigstein.de
GEO:50.1813842;8.4679301
X-APPLE-STRUCTURED-LOCATION;VALUE=URI;X-ADDRESS=Stadtbibliothek Königstein Wiesbadener Straße 6 Königstein im Taunus Hessen 61462 Germany;X-APPLE-RADIUS=500;X-TITLE=Wiesbadener Straße 6:geo:8.4679301,50.1813842
END:VEVENT
BEGIN:VEVENT
DTSTART;TZID=Europe/Berlin:20251231T120000
DTEND;TZID=Europe/Berlin:20251231T120000
DTSTAMP:20260424T200615
CREATED:20250212T144338Z
LAST-MODIFIED:20251230T120842Z
UID:10004347-1767182400-1767182400@xn--knigstein-erleben-zzb.de
SUMMARY:Königsteiner Stadt- und Burgführung AUSGEBUCHT!
DESCRIPTION:Unterhaltsamer Spaziergang durch Kurpark und Stadtmitte auf die Burg \nIm Mittelpunkt der etwa 90-minütigen Führung steht die Burgruine. Die Burganlage\, die zu den größten ihrer Art in Deutschland zählt\, wird gemeinsam erkundet. Ihre wechselvolle Geschichte reicht von der mittelalterlichen Ritterburg über das Schloss der Renaissance bis zur Nutzung als Staatsgefängnis. Jede Epoche hat ihre Spuren hinterlassen\, die es zu entdecken gilt. \nAuf dem Weg hinauf bleibt genügend Zeit\, um das eine oder andere weitere Highlight der vielen Königsteiner Sehenswürdigkeiten und Gegebenheiten kennenzulernen\, darunter die Villa Borgnis\, eine der ersten mondänen Sommervillen\, den Verlauf der alten Reichsstraße durch Königstein\, das Königsteiner Kurbad\, das farbenfroh im Gegenhang des Burgbergs leuchtet und die Entwicklung Königsteins als Gesundheitsstandortort und Heilklimatischen Kurort. \nKonditionen\nDie Teilnahme kostet 5 Euro\, mit Königsteiner Kur- oder Gästekarte 2\,50 Euro\nKinder mitlaufender Eltern sind (bis zum 18. Geburtstag) frei \nUm Anmeldung wird gebeten:\nTelefon: (0 61 74) 202 300 oder\nE-Mail: anmeldung@koenigstein.de \nVeranstalterin\nist die Kur- und Stadtinformation in Kooperation mit dem Stadtarchiv der Stadt Königstein im Taunus \n\n \nFoto: Martin Keutner |
URL:https://xn--knigstein-erleben-zzb.de/event/koenigsteiner-stadt-und-burgfuehrung-24/
LOCATION:Treffpunkt: Kur- und Stadtinformation\, Hauptstraße 13 a\, Königstein im Taunus\, Hessen\, 61462\, Germany
CATEGORIES:Führung
ATTACH;FMTTYPE=image/jpeg:https://xn--knigstein-erleben-zzb.de/wp-content/uploads/2023/12/Burgruine-und-Altstadt-Koenigsteins-im-Winter-M.Keutner.1.12.2017.350dpix.jpg
ORGANIZER;CN="Kur- und Stadtinformation K%C3%B6nigstein":MAILTO:info@koenigstein.de
GEO:50.1820975;8.4668501
X-APPLE-STRUCTURED-LOCATION;VALUE=URI;X-ADDRESS=Treffpunkt: Kur- und Stadtinformation Hauptstraße 13 a Königstein im Taunus Hessen 61462 Germany;X-APPLE-RADIUS=500;X-TITLE=Hauptstraße 13 a:geo:8.4668501,50.1820975
END:VEVENT
BEGIN:VEVENT
DTSTART;TZID=Europe/Berlin:20251231T183000
DTEND;TZID=Europe/Berlin:20251231T183000
DTSTAMP:20260424T200615
CREATED:20251114T163000Z
LAST-MODIFIED:20251227T101639Z
UID:10017540-1767205800-1767205800@xn--knigstein-erleben-zzb.de
SUMMARY:Silvesterparty 2025 AUSGEBUCHT!
DESCRIPTION:Das Beste kommt zum Schluss: Open House Silvesterparty in der Villa Rothschild\nEvent-Feeling pur. Das entsteht\, wenn am 31.12. die Türen zur Open House Silvesterparty für Sie geöffnet werden. Ein ganzes Haus\, eine einzigartige Eventlocation schickt sich an\, Ihnen am letzten Tag des laufenden und am ersten Tag des neuen Jahres eine famose Party zu bieten. \nWir freuen uns sehr\, dass wir die Eventlocation Villa Rothschild\, dieses einzigartige Gebäude im Jugendstil\, hierfür „bespielen“ dürfen. Über die ganze Villa hinweg werden Sie Food- und Cocktailstationen finden\, Musik via Live-Band und DJ werden Sie von einem Hit zum nächsten tragen und um Mitternacht erwartet Sie ein unvergleichliches Feuerwerk über dem Rothschildpark des Hauses. \nSeien Sie dabei und buchen Sie das Ticket jetzt und hier! \nDas komplette Food-Areal wird bis 22:30 Uhr geboten. Ebenfalls inkludiert ist der Mitternachtsimbiss\, welcher nach dem Feuerwerk beginnt. \n \nFoto bereitgestellt von der Villa Rothschild
URL:https://xn--knigstein-erleben-zzb.de/event/silvesterparty-2025/
LOCATION:Villa Rothschild\, im Rothschildpark 1\, Königstein im Taunus\, Hessen\, 61462\, Germany
CATEGORIES:Allgemein,Konzert,Kultur,Musik,Unterhaltung
ATTACH;FMTTYPE=image/jpeg:https://xn--knigstein-erleben-zzb.de/wp-content/uploads/2025/11/VR-Silvesterparty.jpg
ORGANIZER;CN="Villa Rothschild":MAILTO:villa-rothschild@brhhh.com
GEO:50.1836035;8.4738905
X-APPLE-STRUCTURED-LOCATION;VALUE=URI;X-ADDRESS=Villa Rothschild im Rothschildpark 1 Königstein im Taunus Hessen 61462 Germany;X-APPLE-RADIUS=500;X-TITLE=im Rothschildpark 1:geo:8.4738905,50.1836035
END:VEVENT
END:VCALENDAR