BEGIN:VCALENDAR
VERSION:2.0
PRODID:-//Königstein - Erleben - ECPv6.15.19//NONSGML v1.0//EN
CALSCALE:GREGORIAN
METHOD:PUBLISH
X-WR-CALNAME:Königstein - Erleben
X-ORIGINAL-URL:https://xn--knigstein-erleben-zzb.de
X-WR-CALDESC:Veranstaltungen für Königstein - Erleben
REFRESH-INTERVAL;VALUE=DURATION:PT1H
X-Robots-Tag:noindex
X-PUBLISHED-TTL:PT1H
BEGIN:VTIMEZONE
TZID:Europe/Berlin
BEGIN:DAYLIGHT
TZOFFSETFROM:+0100
TZOFFSETTO:+0200
TZNAME:CEST
DTSTART:20250330T010000
END:DAYLIGHT
BEGIN:STANDARD
TZOFFSETFROM:+0200
TZOFFSETTO:+0100
TZNAME:CET
DTSTART:20251026T010000
END:STANDARD
BEGIN:DAYLIGHT
TZOFFSETFROM:+0100
TZOFFSETTO:+0200
TZNAME:CEST
DTSTART:20260329T010000
END:DAYLIGHT
BEGIN:STANDARD
TZOFFSETFROM:+0200
TZOFFSETTO:+0100
TZNAME:CET
DTSTART:20261025T010000
END:STANDARD
BEGIN:DAYLIGHT
TZOFFSETFROM:+0100
TZOFFSETTO:+0200
TZNAME:CEST
DTSTART:20270328T010000
END:DAYLIGHT
BEGIN:STANDARD
TZOFFSETFROM:+0200
TZOFFSETTO:+0100
TZNAME:CET
DTSTART:20271031T010000
END:STANDARD
END:VTIMEZONE
BEGIN:VEVENT
DTSTART;TZID=Europe/Berlin:20260107T103000
DTEND;TZID=Europe/Berlin:20260107T150000
DTSTAMP:20260422T141300
CREATED:20251219T081147Z
LAST-MODIFIED:20251219T081147Z
UID:10019224-1767781800-1767798000@xn--knigstein-erleben-zzb.de
SUMMARY:Mittwochswanderung des Taunusklub Königstein
DESCRIPTION:Neujahrsumtrunk am Forellenweiher in Falkenstein\nWanderung ab Sandplacken über den Fuchstanz zum Forellenweiher; 7\,2 km \nAbfahrt: Königstein Stadtmitte mit Bus 57 (G) 10.47 Uhr \nNeujahrsumtrunk ca. 13.00 Uhr \nDanach alternativ zu Fuß nach Königstein (+ 2\,1 km) oder zum Bus nach Falkenstein Ehrenmal (+1\,1 km)\, Abfahrten xx.19 oder xx.44 Uhr \n \nFoto: Taunusklub Königstein \n 
URL:https://xn--knigstein-erleben-zzb.de/event/mittwochswanderung-des-taunusklub-koenigstein-25/
LOCATION:Bushaltestellen Stadtmitte\, Georg-Pingler-Straße\, Königstein im Taunus\, Hessen\, 61462\, Germany
CATEGORIES:Allgemein,Ausflug,Wandern
ATTACH;FMTTYPE=image/jpeg:https://xn--knigstein-erleben-zzb.de/wp-content/uploads/2025/12/IMG_1435-scaled.jpeg
GEO:50.1837581;8.4677721
X-APPLE-STRUCTURED-LOCATION;VALUE=URI;X-ADDRESS=Bushaltestellen Stadtmitte Georg-Pingler-Straße Königstein im Taunus Hessen 61462 Germany;X-APPLE-RADIUS=500;X-TITLE=Georg-Pingler-Straße:geo:8.4677721,50.1837581
END:VEVENT
BEGIN:VEVENT
DTSTART;TZID=Europe/Berlin:20260107T113000
DTEND;TZID=Europe/Berlin:20260107T150000
DTSTAMP:20260422T141300
CREATED:20251219T081355Z
LAST-MODIFIED:20251219T081355Z
UID:10019225-1767785400-1767798000@xn--knigstein-erleben-zzb.de
SUMMARY:Kurzwanderung zum Forellenweiher
DESCRIPTION:Kurzwanderung von Falkenstein zum Forellenweiher mit Neujahrsumtrunk (1\,2 km)\nAbfahrt: Königstein Stadtmitte Bus 85 (G) um 11.52 Uhr \nRückwanderung oder Rückfahrt je nach Wetter und Wegezustand \n \nFoto: Taunusklub Königstein \n  \n 
URL:https://xn--knigstein-erleben-zzb.de/event/kurzwanderung-zum-forellenweiher/
LOCATION:Bushaltestellen Stadtmitte\, Georg-Pingler-Straße\, Königstein im Taunus\, Hessen\, 61462\, Germany
CATEGORIES:Allgemein,Ausflug,Wandern
ATTACH;FMTTYPE=image/jpeg:https://xn--knigstein-erleben-zzb.de/wp-content/uploads/2025/12/IMG_1435-1-scaled.jpeg
GEO:50.1837581;8.4677721
X-APPLE-STRUCTURED-LOCATION;VALUE=URI;X-ADDRESS=Bushaltestellen Stadtmitte Georg-Pingler-Straße Königstein im Taunus Hessen 61462 Germany;X-APPLE-RADIUS=500;X-TITLE=Georg-Pingler-Straße:geo:8.4677721,50.1837581
END:VEVENT
END:VCALENDAR