BEGIN:VCALENDAR
VERSION:2.0
PRODID:-//Königstein - Erleben - ECPv6.15.19//NONSGML v1.0//EN
CALSCALE:GREGORIAN
METHOD:PUBLISH
X-WR-CALNAME:Königstein - Erleben
X-ORIGINAL-URL:https://xn--knigstein-erleben-zzb.de
X-WR-CALDESC:Veranstaltungen für Königstein - Erleben
REFRESH-INTERVAL;VALUE=DURATION:PT1H
X-Robots-Tag:noindex
X-PUBLISHED-TTL:PT1H
BEGIN:VTIMEZONE
TZID:Europe/Berlin
BEGIN:DAYLIGHT
TZOFFSETFROM:+0100
TZOFFSETTO:+0200
TZNAME:CEST
DTSTART:20250330T010000
END:DAYLIGHT
BEGIN:STANDARD
TZOFFSETFROM:+0200
TZOFFSETTO:+0100
TZNAME:CET
DTSTART:20251026T010000
END:STANDARD
BEGIN:DAYLIGHT
TZOFFSETFROM:+0100
TZOFFSETTO:+0200
TZNAME:CEST
DTSTART:20260329T010000
END:DAYLIGHT
BEGIN:STANDARD
TZOFFSETFROM:+0200
TZOFFSETTO:+0100
TZNAME:CET
DTSTART:20261025T010000
END:STANDARD
BEGIN:DAYLIGHT
TZOFFSETFROM:+0100
TZOFFSETTO:+0200
TZNAME:CEST
DTSTART:20270328T010000
END:DAYLIGHT
BEGIN:STANDARD
TZOFFSETFROM:+0200
TZOFFSETTO:+0100
TZNAME:CET
DTSTART:20271031T010000
END:STANDARD
END:VTIMEZONE
BEGIN:VEVENT
DTSTART;TZID=Europe/Berlin:20260114T093000
DTEND;TZID=Europe/Berlin:20260114T170000
DTSTAMP:20260422T141409
CREATED:20251219T081612Z
LAST-MODIFIED:20251219T081612Z
UID:10019226-1768383000-1768410000@xn--knigstein-erleben-zzb.de
SUMMARY:Mittwochswanderung des Taunusklub Königstein
DESCRIPTION:Durch Wald und Wiesen im Vordertaunus\nLangenhain – Pfingstbornanlage Breckenheim – Rohrgraben – Wildsachsen; 9\,3 km \nAbfahrt: Königstein Stadtmitte 09.39 Uhr mit Bus X26 (D) nach Hofheim\, an 09.56 Uhr\, weiter mit Bus 403 um 10.17 Uhr nach Langenhain \nEinkehr: „Alte Rose“ \nRückfahrt ab Wildsachsen Parkstraße um 15.15 Uhr nach Hofheim Bhf.\, weiter mit Bus X26 um 15.56 Uhr \n \nFoto: Taunusklub Königstein \n  \n 
URL:https://xn--knigstein-erleben-zzb.de/event/mittwochswanderung-des-taunusklub-koenigstein-26/
LOCATION:Bushaltestellen Stadtmitte\, Georg-Pingler-Straße\, Königstein im Taunus\, Hessen\, 61462\, Germany
CATEGORIES:Allgemein,Ausflug,Wandern
ATTACH;FMTTYPE=image/jpeg:https://xn--knigstein-erleben-zzb.de/wp-content/uploads/2025/12/0fcbf23d-1de4-4395-8bcb-f3883bbcbdec.jpeg
GEO:50.1837581;8.4677721
X-APPLE-STRUCTURED-LOCATION;VALUE=URI;X-ADDRESS=Bushaltestellen Stadtmitte Georg-Pingler-Straße Königstein im Taunus Hessen 61462 Germany;X-APPLE-RADIUS=500;X-TITLE=Georg-Pingler-Straße:geo:8.4677721,50.1837581
END:VEVENT
BEGIN:VEVENT
DTSTART;TZID=Europe/Berlin:20260114T160000
DTEND;TZID=Europe/Berlin:20260114T170000
DTSTAMP:20260422T141409
CREATED:20260114T123458Z
LAST-MODIFIED:20260114T123547Z
UID:10019267-1768406400-1768410000@xn--knigstein-erleben-zzb.de
SUMMARY:Rätselnachmittag in der Stadtbibliothek
DESCRIPTION:Alle Krimi- und Rätselbegeisterten ab 14 Jahren sind herzlich zum Rätsel-Nachmittag in der Stadtbibliothek eingeladen. \nIn einer Welt voller mysteriösern Tode\, unerklärlicher Vorfälle und düsterer Geheimnisse geht es darum\, knifflige Kriminalfälle zu lösen. Gemeinsam werden Fragen gestellt\, Hinweise kombiniert und Schritt für Schritt der Wahrheit nähergekommen.\nEin Nachmittag voller Spannung – ideal für alle\, die gerne knobeln\, Rätsel und schwarzen Humor mögen.
URL:https://xn--knigstein-erleben-zzb.de/event/raetselnachmittag-in-der-stadtbibliothek-5/
LOCATION:Stadtbibliothek Königstein\, Wiesbadener Straße 6\, Königstein im Taunus\, Hessen\, 61462\, Germany
CATEGORIES:Allgemein,Kultur,Stadtbibliothek
ATTACH;FMTTYPE=image/png:https://xn--knigstein-erleben-zzb.de/wp-content/uploads/2026/01/Raetselnachmittag-in-der-Stadtbibliothek1.png
ORGANIZER;CN="Stadtbibliothek K%C3%B6nigstein":MAILTO:stadtbibliothek@koenigstein.de
GEO:50.1813842;8.4679301
X-APPLE-STRUCTURED-LOCATION;VALUE=URI;X-ADDRESS=Stadtbibliothek Königstein Wiesbadener Straße 6 Königstein im Taunus Hessen 61462 Germany;X-APPLE-RADIUS=500;X-TITLE=Wiesbadener Straße 6:geo:8.4679301,50.1813842
END:VEVENT
END:VCALENDAR