BEGIN:VCALENDAR
VERSION:2.0
PRODID:-//Königstein - Erleben - ECPv6.15.19//NONSGML v1.0//EN
CALSCALE:GREGORIAN
METHOD:PUBLISH
X-WR-CALNAME:Königstein - Erleben
X-ORIGINAL-URL:https://xn--knigstein-erleben-zzb.de
X-WR-CALDESC:Veranstaltungen für Königstein - Erleben
REFRESH-INTERVAL;VALUE=DURATION:PT1H
X-Robots-Tag:noindex
X-PUBLISHED-TTL:PT1H
BEGIN:VTIMEZONE
TZID:Europe/Berlin
BEGIN:DAYLIGHT
TZOFFSETFROM:+0100
TZOFFSETTO:+0200
TZNAME:CEST
DTSTART:20250330T010000
END:DAYLIGHT
BEGIN:STANDARD
TZOFFSETFROM:+0200
TZOFFSETTO:+0100
TZNAME:CET
DTSTART:20251026T010000
END:STANDARD
BEGIN:DAYLIGHT
TZOFFSETFROM:+0100
TZOFFSETTO:+0200
TZNAME:CEST
DTSTART:20260329T010000
END:DAYLIGHT
BEGIN:STANDARD
TZOFFSETFROM:+0200
TZOFFSETTO:+0100
TZNAME:CET
DTSTART:20261025T010000
END:STANDARD
BEGIN:DAYLIGHT
TZOFFSETFROM:+0100
TZOFFSETTO:+0200
TZNAME:CEST
DTSTART:20270328T010000
END:DAYLIGHT
BEGIN:STANDARD
TZOFFSETFROM:+0200
TZOFFSETTO:+0100
TZNAME:CET
DTSTART:20271031T010000
END:STANDARD
END:VTIMEZONE
BEGIN:VEVENT
DTSTART;TZID=Europe/Berlin:20260116T080000
DTEND;TZID=Europe/Berlin:20260116T140000
DTSTAMP:20260421T004627
CREATED:20251204T170237Z
LAST-MODIFIED:20251204T170314Z
UID:10019170-1768550400-1768572000@xn--knigstein-erleben-zzb.de
SUMMARY:Königsteiner Wochenmarkt
DESCRIPTION:Qualität und Frische sind unser Anspruch!\nZwischen 8.00 und 14.00 Uhr bieten regionale Händler und auch Erzeuger an ihren Ständen Obst\, Gemüse\, Blumen\, Fleisch\, Fisch\, Geflügel\, Backwaren und weitere saisonale Produkte an. \nBesuchen Sie unseren Wochenmarkt\, Sie werden begeistert sein. Mehr Infos zu den Angeboten finden Sie hier…\nIhre Händler des Königsteiner Wochenmarktes. \n \nFoto: Stadt Königstein im Taunus
URL:https://xn--knigstein-erleben-zzb.de/event/koenigsteiner-wochenmarkt-6/2026-01-16/
LOCATION:Kapuzinerplatz Stadtmitte
CATEGORIES:Allgemein,Beratung,Genuss,Verköstigung
ATTACH;FMTTYPE=image/jpeg:https://xn--knigstein-erleben-zzb.de/wp-content/uploads/2025/12/Wochenmarkt_230421_43-klein-scaled.jpg
GEO:50.1826419;8.4654889
END:VEVENT
END:VCALENDAR