BEGIN:VCALENDAR
VERSION:2.0
PRODID:-//Königstein - Erleben - ECPv6.15.19//NONSGML v1.0//EN
CALSCALE:GREGORIAN
METHOD:PUBLISH
X-WR-CALNAME:Königstein - Erleben
X-ORIGINAL-URL:https://xn--knigstein-erleben-zzb.de
X-WR-CALDESC:Veranstaltungen für Königstein - Erleben
REFRESH-INTERVAL;VALUE=DURATION:PT1H
X-Robots-Tag:noindex
X-PUBLISHED-TTL:PT1H
BEGIN:VTIMEZONE
TZID:Europe/Berlin
BEGIN:DAYLIGHT
TZOFFSETFROM:+0100
TZOFFSETTO:+0200
TZNAME:CEST
DTSTART:20250330T010000
END:DAYLIGHT
BEGIN:STANDARD
TZOFFSETFROM:+0200
TZOFFSETTO:+0100
TZNAME:CET
DTSTART:20251026T010000
END:STANDARD
BEGIN:DAYLIGHT
TZOFFSETFROM:+0100
TZOFFSETTO:+0200
TZNAME:CEST
DTSTART:20260329T010000
END:DAYLIGHT
BEGIN:STANDARD
TZOFFSETFROM:+0200
TZOFFSETTO:+0100
TZNAME:CET
DTSTART:20261025T010000
END:STANDARD
BEGIN:DAYLIGHT
TZOFFSETFROM:+0100
TZOFFSETTO:+0200
TZNAME:CEST
DTSTART:20270328T010000
END:DAYLIGHT
BEGIN:STANDARD
TZOFFSETFROM:+0200
TZOFFSETTO:+0100
TZNAME:CET
DTSTART:20271031T010000
END:STANDARD
END:VTIMEZONE
BEGIN:VEVENT
DTSTART;TZID=Europe/Berlin:20260131T103000
DTEND;TZID=Europe/Berlin:20260131T150000
DTSTAMP:20260420T100008
CREATED:20251214T085915Z
LAST-MODIFIED:20260126T142630Z
UID:10019175-1769855400-1769871600@xn--knigstein-erleben-zzb.de
SUMMARY:Öffentliches Mobilitätsforum
DESCRIPTION:Save the date!  \nDas öffentliche Bürgerforum zum Königsteiner Mobilitätsplan bietet Gelegenheit zu Information\, Austausch und Beteiligung. Freuen Sie sich auf Kaffee und Kuchen. \n  \n \nBildrecht: Stadt Königstein im Taunus \n 
URL:https://xn--knigstein-erleben-zzb.de/event/oeffentliches-mobilitaetsforum/
LOCATION:Treffpunkt: Haus der Begegnung\, Bischof-Kaller-Straße 3\, Königstein im Taunus\, Hessen\, 61462\, Germany
CATEGORIES:Allgemein,Beratung,Gesundheit,Heilklima,Informationsveranstaltung,Klimaschutz,Vortrag
ATTACH;FMTTYPE=application/pdf:https://xn--knigstein-erleben-zzb.de/wp-content/uploads/2025/12/KLIMA_2026-01-31-Mobilitaetsforum.pdf
GEO:50.1784427;8.4734345
X-APPLE-STRUCTURED-LOCATION;VALUE=URI;X-ADDRESS=Treffpunkt: Haus der Begegnung Bischof-Kaller-Straße 3 Königstein im Taunus Hessen 61462 Germany;X-APPLE-RADIUS=500;X-TITLE=Bischof-Kaller-Straße 3:geo:8.4734345,50.1784427
END:VEVENT
BEGIN:VEVENT
DTSTART;TZID=Europe/Berlin:20260131T153000
DTEND;TZID=Europe/Berlin:20260131T170000
DTSTAMP:20260420T100008
CREATED:20260108T115407Z
LAST-MODIFIED:20260108T123352Z
UID:10019251-1769873400-1769878800@xn--knigstein-erleben-zzb.de
SUMMARY:Auftaktveranstaltung zur Klimaanpassung in Königstein im Taunus
DESCRIPTION:Die Stadt Königstein im Taunus freut sich\, alle Bürgerinnen und Bürger herzlich zur Auftaktveranstaltung zur Klimaanpassung einzuladen. Die Veranstaltung findet im Anschluss an das Mobilitätsforum am Samstag\, den 31. Januar 2026\, von 15:30 bis 17:00 Uhr im Haus der Begegnung statt. \nMit dieser Veranstaltung will die Stadt den Bürgerinnen und Bürgern das Projektvorhaben vorstellen und Raum für den Austausch von Informationen und Ideen schaffen\, um aktiv an der Gestaltung der Zukunft der Stadt für sich und kommende Generationen mitzuwirken. \nIm Rahmen der Auftaktveranstaltung werden auf Basis der ersten durchgeführten Analyse die Klimaprognose für Königstein im Taunus sowie die damit verbundenen Herausforderungen und Chancen präsentiert. Zudem werden zentrale Handlungsfelder für die Stadt Königstein im Taunus erläutert. Im „interaktiven Teil“ haben die Teilnehmenden die Möglichkeit\, die Betroffenheiten zu diskutieren und Maßnahmenideen einzubringen. \nBringen Sie Ihre Perspektive ein und gestalten Sie die Zukunft Ihrer Stadt aktiv mit!\nIhre Ideen und Erfahrungen sind ein wichtiger Baustein für ein wirksames Klimaanpassungskonzept. \nWeitere Informationen finden Sie auf der Website der Stadt Königstein oder per Mail an klimaanpassung@koenigstein.de. \nDie Stadt Königstein im Taunus freut sich auf eine angeregte und konstruktive Teilnahme! \nDie Teilnahme ist kostenfrei und eine Anmeldung nicht erforderlich. Für das leibliche Wohl ist mit Kaffee\, Kuchen und Fingerfood gesorgt. \n \nBildrecht: Stadt Königstein im Taunus
URL:https://xn--knigstein-erleben-zzb.de/event/auftaktveranstaltung-zur-klimaanpassung-in-koenigstein-im-taunus/
LOCATION:Haus der Begegnung (Großer Saal)\, Bischof-Kaller-Straße 3\, Königstein im Taunus\, Hessen\, 61462\, Germany
CATEGORIES:Allgemein,Informationsveranstaltung,Klima
ATTACH;FMTTYPE=image/png:https://xn--knigstein-erleben-zzb.de/wp-content/uploads/2026/01/F_02-Aufakt-KlaK-Webseite-1.png
GEO:50.1784427;8.4734345
X-APPLE-STRUCTURED-LOCATION;VALUE=URI;X-ADDRESS=Haus der Begegnung (Großer Saal) Bischof-Kaller-Straße 3 Königstein im Taunus Hessen 61462 Germany;X-APPLE-RADIUS=500;X-TITLE=Bischof-Kaller-Straße 3:geo:8.4734345,50.1784427
END:VEVENT
END:VCALENDAR