BEGIN:VCALENDAR
VERSION:2.0
PRODID:-//Königstein - Erleben - ECPv6.15.19//NONSGML v1.0//EN
CALSCALE:GREGORIAN
METHOD:PUBLISH
X-WR-CALNAME:Königstein - Erleben
X-ORIGINAL-URL:https://xn--knigstein-erleben-zzb.de
X-WR-CALDESC:Veranstaltungen für Königstein - Erleben
REFRESH-INTERVAL;VALUE=DURATION:PT1H
X-Robots-Tag:noindex
X-PUBLISHED-TTL:PT1H
BEGIN:VTIMEZONE
TZID:Europe/Berlin
BEGIN:DAYLIGHT
TZOFFSETFROM:+0100
TZOFFSETTO:+0200
TZNAME:CEST
DTSTART:20250330T010000
END:DAYLIGHT
BEGIN:STANDARD
TZOFFSETFROM:+0200
TZOFFSETTO:+0100
TZNAME:CET
DTSTART:20251026T010000
END:STANDARD
BEGIN:DAYLIGHT
TZOFFSETFROM:+0100
TZOFFSETTO:+0200
TZNAME:CEST
DTSTART:20260329T010000
END:DAYLIGHT
BEGIN:STANDARD
TZOFFSETFROM:+0200
TZOFFSETTO:+0100
TZNAME:CET
DTSTART:20261025T010000
END:STANDARD
BEGIN:DAYLIGHT
TZOFFSETFROM:+0100
TZOFFSETTO:+0200
TZNAME:CEST
DTSTART:20270328T010000
END:DAYLIGHT
BEGIN:STANDARD
TZOFFSETFROM:+0200
TZOFFSETTO:+0100
TZNAME:CET
DTSTART:20271031T010000
END:STANDARD
END:VTIMEZONE
BEGIN:VEVENT
DTSTART;TZID=Europe/Berlin:20260203T160000
DTEND;TZID=Europe/Berlin:20260203T160000
DTSTAMP:20260422T141240
CREATED:20251218T083601Z
LAST-MODIFIED:20260213T083415Z
UID:10019202-1770134400-1770134400@xn--knigstein-erleben-zzb.de
SUMMARY:Bilderbuchkino in der Stadtbibliothek
DESCRIPTION:Alle Kinder sind herzlich zum Bilderbuchkino eingeladen. \nDienstag um 16.00 Uhr – Eintritt frei
URL:https://xn--knigstein-erleben-zzb.de/event/bilderbuchkino-in-der-stadtbibliothek-17/2026-02-03/
LOCATION:Stadtbibliothek Königstein\, Wiesbadener Straße 6\, Königstein im Taunus\, Hessen\, 61462\, Germany
CATEGORIES:Kinder
ATTACH;FMTTYPE=image/png:https://xn--knigstein-erleben-zzb.de/wp-content/uploads/2025/12/Bilderbuchkino_stadtbibliothek.png
ORGANIZER;CN="Stadtbibliothek K%C3%B6nigstein":MAILTO:stadtbibliothek@koenigstein.de
GEO:50.1813842;8.4679301
X-APPLE-STRUCTURED-LOCATION;VALUE=URI;X-ADDRESS=Stadtbibliothek Königstein Wiesbadener Straße 6 Königstein im Taunus Hessen 61462 Germany;X-APPLE-RADIUS=500;X-TITLE=Wiesbadener Straße 6:geo:8.4679301,50.1813842
END:VEVENT
BEGIN:VEVENT
DTSTART;TZID=Europe/Berlin:20260203T193000
DTEND;TZID=Europe/Berlin:20260203T210000
DTSTAMP:20260422T141240
CREATED:20260114T155533Z
LAST-MODIFIED:20260114T160229Z
UID:10019269-1770147000-1770152400@xn--knigstein-erleben-zzb.de
SUMMARY:Jina Khayyer liest "Im Herzen der Katze"
DESCRIPTION:Zum Auftakt des 10. Jubiläumsjahres des Vereins startet die LeseLust Königstein e.V. mit einer Lesung von Jina Khayyer. \nJina Khayyer\, geboren 1975\, ist eine deutsche Schriftstellerin\, Dichterin\, Malerin und Journalistin mit iranischer Abstammung. Sie lebt seit 2006 in Paris und in der Provence. Ihr Debütroman „Im Herzen der Katze“ erschien 2025 im Suhrkamp Verlag. Der Roman beschreibt Geschichten mehrerer Generationen von Frauen zu Fragen nach Exil\, Erbe und Emanzipation und wurde u. a. in der Süddeutschen Zeitung und im Deutschlandfunk besprochen und stand auf der Longlist des Deutschen Buchpreises 2025. Im Zentrum des Romans steht Jina\, die 2022 von der Ermordung von Jina Mahsa Amini erfahrt und sich mit ihrer Schwester im Iran in Verbindung setzt; dies bildet den Rahmen\, um über ihre Iran-Reise 2009 und die Suche nach den eigenen Wurzeln nachzudenken. \n\nTickets kosten 15 €* zzgl. Vorverkaufsgebühren und sind über Eventim und in der Stadtbibliothek erhältlich.\n* 12€ für Mitglieder der LeseLust
URL:https://xn--knigstein-erleben-zzb.de/event/jina-khayyer-liest-im-herzen-der-katze/
LOCATION:Stadtbibliothek Königstein\, Wiesbadener Straße 6\, Königstein im Taunus\, Hessen\, 61462\, Germany
CATEGORIES:Allgemein,Kultur,Lesung,Stadtbibliothek,Unterhaltung
ATTACH;FMTTYPE=image/png:https://xn--knigstein-erleben-zzb.de/wp-content/uploads/2026/01/Khayyer.png
ORGANIZER;CN="LeseLust K%C3%B6nigstein e.V.":MAILTO:info@leselust-koenigstein.de
GEO:50.1813842;8.4679301
X-APPLE-STRUCTURED-LOCATION;VALUE=URI;X-ADDRESS=Stadtbibliothek Königstein Wiesbadener Straße 6 Königstein im Taunus Hessen 61462 Germany;X-APPLE-RADIUS=500;X-TITLE=Wiesbadener Straße 6:geo:8.4679301,50.1813842
END:VEVENT
END:VCALENDAR