BEGIN:VCALENDAR
VERSION:2.0
PRODID:-//Königstein - Erleben - ECPv6.15.19//NONSGML v1.0//EN
CALSCALE:GREGORIAN
METHOD:PUBLISH
X-ORIGINAL-URL:https://xn--knigstein-erleben-zzb.de
X-WR-CALDESC:Veranstaltungen für Königstein - Erleben
REFRESH-INTERVAL;VALUE=DURATION:PT1H
X-Robots-Tag:noindex
X-PUBLISHED-TTL:PT1H
BEGIN:VTIMEZONE
TZID:Europe/Berlin
BEGIN:DAYLIGHT
TZOFFSETFROM:+0100
TZOFFSETTO:+0200
TZNAME:CEST
DTSTART:20250330T010000
END:DAYLIGHT
BEGIN:STANDARD
TZOFFSETFROM:+0200
TZOFFSETTO:+0100
TZNAME:CET
DTSTART:20251026T010000
END:STANDARD
BEGIN:DAYLIGHT
TZOFFSETFROM:+0100
TZOFFSETTO:+0200
TZNAME:CEST
DTSTART:20260329T010000
END:DAYLIGHT
BEGIN:STANDARD
TZOFFSETFROM:+0200
TZOFFSETTO:+0100
TZNAME:CET
DTSTART:20261025T010000
END:STANDARD
BEGIN:DAYLIGHT
TZOFFSETFROM:+0100
TZOFFSETTO:+0200
TZNAME:CEST
DTSTART:20270328T010000
END:DAYLIGHT
BEGIN:STANDARD
TZOFFSETFROM:+0200
TZOFFSETTO:+0100
TZNAME:CET
DTSTART:20271031T010000
END:STANDARD
END:VTIMEZONE
BEGIN:VEVENT
DTSTART;TZID=Europe/Berlin:20260204T100000
DTEND;TZID=Europe/Berlin:20260204T160000
DTSTAMP:20260419T234633
CREATED:20260122T150659Z
LAST-MODIFIED:20260122T150659Z
UID:10019346-1770199200-1770220800@xn--knigstein-erleben-zzb.de
SUMMARY:Mittwochswanderung des Taunusklub Königstein
DESCRIPTION:Über den Rettershof nach Fischbach und Hornau\nWanderung über Schneidhain\, Rettershof nach Fischbach; 6\,8 km \nAbmarsch Königstein Kapuzinerplatz/Stadtmitte um 10.15 Uhr \nEinkehr: „Da Calogero“ im Bürgerhaus Fischbach ca. 12.30 Uhr \nWeiterwanderung zum Bahnhof Hornau\, 2 km\, Abfahrten 1/2 stdl. …17 und …47 Uhr oder Rückfahrt ab Fischbach mit Bus 263 um 14.23 Uhr (15.23 Uhr) \n  \n \nFoto: Taunusklub Königstein
URL:https://xn--knigstein-erleben-zzb.de/event/mittwochswanderung-des-taunusklub-koenigstein-29/
LOCATION:Bushaltestellen Stadtmitte\, Georg-Pingler-Straße\, Königstein im Taunus\, Hessen\, 61462\, Germany
CATEGORIES:Allgemein,Ausflug,Wandern
ATTACH;FMTTYPE=image/jpeg:https://xn--knigstein-erleben-zzb.de/wp-content/uploads/2026/01/IMG_1413-scaled.jpeg
GEO:50.1837581;8.4677721
X-APPLE-STRUCTURED-LOCATION;VALUE=URI;X-ADDRESS=Bushaltestellen Stadtmitte Georg-Pingler-Straße Königstein im Taunus Hessen 61462 Germany;X-APPLE-RADIUS=500;X-TITLE=Georg-Pingler-Straße:geo:8.4677721,50.1837581
END:VEVENT
BEGIN:VEVENT
DTSTART;TZID=Europe/Berlin:20260204T103000
DTEND;TZID=Europe/Berlin:20260204T153000
DTSTAMP:20260419T234633
CREATED:20260122T150833Z
LAST-MODIFIED:20260122T150833Z
UID:10019347-1770201000-1770219000@xn--knigstein-erleben-zzb.de
SUMMARY:Kurzwanderung nach Oberhöchstadt
DESCRIPTION:Wanderung zum Altkönigstift\nAbfahrt Königstein Stadtmitte mit Bus 261 um 10.31 Uhr bis Haltestelle Hohenwald \nEinkehr im Altkönigstift ca. 12.30 Uhr \nRückwanderung bis Haltestelle Kirche\, Rückfahrt mit Bus 261. 1/2 stdl. …11 und …41 Uhr \n \nFoto: Taunusklub Königstein \n 
URL:https://xn--knigstein-erleben-zzb.de/event/kurzwanderung-nach-oberhoechstadt/
LOCATION:Bushaltestellen Stadtmitte\, Georg-Pingler-Straße\, Königstein im Taunus\, Hessen\, 61462\, Germany
CATEGORIES:Allgemein,Ausflug,Wandern
ATTACH;FMTTYPE=image/jpeg:https://xn--knigstein-erleben-zzb.de/wp-content/uploads/2026/01/540f3f2a-c29b-4d3b-92fa-7445513f5d08.jpeg
GEO:50.1837581;8.4677721
X-APPLE-STRUCTURED-LOCATION;VALUE=URI;X-ADDRESS=Bushaltestellen Stadtmitte Georg-Pingler-Straße Königstein im Taunus Hessen 61462 Germany;X-APPLE-RADIUS=500;X-TITLE=Georg-Pingler-Straße:geo:8.4677721,50.1837581
END:VEVENT
BEGIN:VEVENT
DTSTART;TZID=Europe/Berlin:20260204T180000
DTEND;TZID=Europe/Berlin:20260204T193000
DTSTAMP:20260419T234633
CREATED:20260129T115037Z
LAST-MODIFIED:20260129T115037Z
UID:10019358-1770228000-1770233400@xn--knigstein-erleben-zzb.de
SUMMARY:Klinikforum: "Was tun\, wenn der Daumen schmerzt?"
DESCRIPTION:Klinikforum im St. Josef Krankenhaus Königstein\nDr. med. Julia Sebald\, Chefärztin der Handchirurgie\, wird zum Thema „Was tun\, wenn der Daumen schmerzt?“ einen Vortrag halten\, zu dem Patientinnen und Patienten\, Angehörige und alle medizinisch Interessierten herzlich eingeladen sind. \nBitte melden Sie sich per E-Mail unter: presse@hochtaunus-kliniken.de an. Dabei bitte den Namen und die Rufnummer nennen. Eine telefonische Anmeldung ist wochentags von 14 bis 16 Uhr unter 06172 / 14-1345 oder 14-1346 möglich. \n  \n \nPlakat: Hochtaunus-Kliniken gGmbH
URL:https://xn--knigstein-erleben-zzb.de/event/klinikforum-was-tun-wenn-der-daumen-schmerzt-3/
LOCATION:St. Josef Krankenhaus Königstein\, Woogtalstraße 7\, Königstein im Taunus\, Hessen\, 61462\, Germany
CATEGORIES:Allgemein,Informationsveranstaltung,Vortrag
ATTACH;FMTTYPE=application/pdf:https://xn--knigstein-erleben-zzb.de/wp-content/uploads/2026/01/FREMD_2026-02-04-Klinikforum-St.-Josef-KKH-1.pdf
GEO:50.1839794;8.4622985
X-APPLE-STRUCTURED-LOCATION;VALUE=URI;X-ADDRESS=St. Josef Krankenhaus Königstein Woogtalstraße 7 Königstein im Taunus Hessen 61462 Germany;X-APPLE-RADIUS=500;X-TITLE=Woogtalstraße 7:geo:8.4622985,50.1839794
END:VEVENT
END:VCALENDAR