BEGIN:VCALENDAR
VERSION:2.0
PRODID:-//Königstein - Erleben - ECPv6.15.19//NONSGML v1.0//EN
CALSCALE:GREGORIAN
METHOD:PUBLISH
X-WR-CALNAME:Königstein - Erleben
X-ORIGINAL-URL:https://xn--knigstein-erleben-zzb.de
X-WR-CALDESC:Veranstaltungen für Königstein - Erleben
REFRESH-INTERVAL;VALUE=DURATION:PT1H
X-Robots-Tag:noindex
X-PUBLISHED-TTL:PT1H
BEGIN:VTIMEZONE
TZID:Europe/Berlin
BEGIN:DAYLIGHT
TZOFFSETFROM:+0100
TZOFFSETTO:+0200
TZNAME:CEST
DTSTART:20250330T010000
END:DAYLIGHT
BEGIN:STANDARD
TZOFFSETFROM:+0200
TZOFFSETTO:+0100
TZNAME:CET
DTSTART:20251026T010000
END:STANDARD
BEGIN:DAYLIGHT
TZOFFSETFROM:+0100
TZOFFSETTO:+0200
TZNAME:CEST
DTSTART:20260329T010000
END:DAYLIGHT
BEGIN:STANDARD
TZOFFSETFROM:+0200
TZOFFSETTO:+0100
TZNAME:CET
DTSTART:20261025T010000
END:STANDARD
BEGIN:DAYLIGHT
TZOFFSETFROM:+0100
TZOFFSETTO:+0200
TZNAME:CEST
DTSTART:20270328T010000
END:DAYLIGHT
BEGIN:STANDARD
TZOFFSETFROM:+0200
TZOFFSETTO:+0100
TZNAME:CET
DTSTART:20271031T010000
END:STANDARD
END:VTIMEZONE
BEGIN:VEVENT
DTSTART;TZID=Europe/Berlin:20260207T183100
DTEND;TZID=Europe/Berlin:20260207T232300
DTSTAMP:20260419T221714
CREATED:20260113T135011Z
LAST-MODIFIED:20260113T143602Z
UID:10019260-1770489060-1770506580@xn--knigstein-erleben-zzb.de
SUMMARY:GroPlaSi – Die Große Plaschi-Sitzung
DESCRIPTION:Unsere Zeitmaschine läuft heiß!\nKaum ist der Startknopf gedrückt\, schon schießen wir durch die Jahrzehnte – und die Mechaniker kommen ordentlich ins Schwitzen. Vom Charleston über den Rock’n’Roll bis hin zu ABBA\, Dirty Dancing und den Beats der Neuzeit – alles ist dabei! \nFreut Euch auf die Große Plaschi-Sitzung (GroPlaSi) mit Humor\, Tanz und einer ganz besonderen Überraschung aus der Meenzer Fastnacht! \nAuch dieses Jahr startet die GroPlaSi früher:Einlass ab 17:31 Uhr\nBeginn 18:31 Uhr. \nBitte nehmt Eure Plätze pünktlich ein – die Zeitmaschine kann es kaum erwarten! \n🎟️ Tickets gibt es hier…:Vorverkauf 15 Euro (exklusive Gebühren)Abendkasse 19 Euro \n \nBild: Königsteiner Narrenclub 1971/1979 e.V. „Die Plasterschisser“
URL:https://xn--knigstein-erleben-zzb.de/event/groplasi-die-grosse-plaschi-sitzung/
LOCATION:Bürgerhaus Falkenstein – Großer Saal\, Scharderhohlweg 1\, Königstein im Taunus\, Hessen\, 61462\, Germany
CATEGORIES:Allgemein,Kultur,Musik,Unterhaltung
ATTACH;FMTTYPE=image/png:https://xn--knigstein-erleben-zzb.de/wp-content/uploads/2026/01/Eventim-Light_Titelbild_GroPlaSi_25-26_Kampagne_Plaschis.png
ORGANIZER;CN="K%C3%B6nigsteiner Narrenclub 1971/79 e. V. 'Die Plasterschisser'":MAILTO:info@plaschi.de
GEO:50.1949817;8.4795695
X-APPLE-STRUCTURED-LOCATION;VALUE=URI;X-ADDRESS=Bürgerhaus Falkenstein – Großer Saal Scharderhohlweg 1 Königstein im Taunus Hessen 61462 Germany;X-APPLE-RADIUS=500;X-TITLE=Scharderhohlweg 1:geo:8.4795695,50.1949817
END:VEVENT
END:VCALENDAR