BEGIN:VCALENDAR
VERSION:2.0
PRODID:-//Königstein - Erleben - ECPv6.15.19//NONSGML v1.0//EN
CALSCALE:GREGORIAN
METHOD:PUBLISH
X-ORIGINAL-URL:https://xn--knigstein-erleben-zzb.de
X-WR-CALDESC:Veranstaltungen für Königstein - Erleben
REFRESH-INTERVAL;VALUE=DURATION:PT1H
X-Robots-Tag:noindex
X-PUBLISHED-TTL:PT1H
BEGIN:VTIMEZONE
TZID:Europe/Berlin
BEGIN:DAYLIGHT
TZOFFSETFROM:+0100
TZOFFSETTO:+0200
TZNAME:CEST
DTSTART:20250330T010000
END:DAYLIGHT
BEGIN:STANDARD
TZOFFSETFROM:+0200
TZOFFSETTO:+0100
TZNAME:CET
DTSTART:20251026T010000
END:STANDARD
BEGIN:DAYLIGHT
TZOFFSETFROM:+0100
TZOFFSETTO:+0200
TZNAME:CEST
DTSTART:20260329T010000
END:DAYLIGHT
BEGIN:STANDARD
TZOFFSETFROM:+0200
TZOFFSETTO:+0100
TZNAME:CET
DTSTART:20261025T010000
END:STANDARD
BEGIN:DAYLIGHT
TZOFFSETFROM:+0100
TZOFFSETTO:+0200
TZNAME:CEST
DTSTART:20270328T010000
END:DAYLIGHT
BEGIN:STANDARD
TZOFFSETFROM:+0200
TZOFFSETTO:+0100
TZNAME:CET
DTSTART:20271031T010000
END:STANDARD
END:VTIMEZONE
BEGIN:VEVENT
DTSTART;TZID=Europe/Berlin:20260209T143000
DTEND;TZID=Europe/Berlin:20260209T173000
DTSTAMP:20260421T163325
CREATED:20260105T131557Z
LAST-MODIFIED:20260105T131557Z
UID:10019248-1770647400-1770658200@xn--knigstein-erleben-zzb.de
SUMMARY:Gratis-Energieberatung
DESCRIPTION:Themen nach Bedarf\nz.B.: Gasrechnung\, Solarstrom\, geringinvestive Maßnahmen\, Heiztechnik\, Sanierung etc.\n„Sei es der Stromverbrauch von Geräten\, die Senkung der Heizkosten\, Maßnahmen der Wärmedämmung\, effiziente Heizsysteme oder Fördermittel – die anbieterunabhängige Energieberatung der Verbraucherzentrale Hessen kann helfen\, die Energiekosten zu senken und Fehlinvestitionen zu vermeiden.“\, erläutert Peter Preisendörfer. Der ausgebildete Gebäudeenergieberater und zertifizierte Passivhausplaner berät regelmäßig Ratsuchende im Rathaus Königstein im Auftrag der Verbraucherzentrale Hessen – kompetent und anbieterunabhängig.\nDie Energieberatung dauert bis zu 45 Minuten und ist kostenfrei. Termine können unter 06174 202-328 vereinbart werden. Falls erforderlich kommt ein Energieexperte auch zu Ihnen nach Hause (Eigenbeteiligung 40 €).\nWeitere Informationen zur Energieberatung und Terminvereinbarung unter www.verbraucherzentrale-energieberatung.de oder 0800 – 809 802 400. \nDie Energieberatung der Verbraucherzentrale wird gefördert vom Bundesministerium für Wirtschaft und Energie. \nWer sich beraten lassen möchte\, sollte Haus- und Wohnungspläne\, Fotos\, Abrechnungsunterlagen oder Angebote mitbringen. So kann konkreter über Maßnahmen oder Energieeinsparpotenziale gesprochen werden und es entstehen mehr umsetzbare Anregungen. \nWenn Sie mit Nachbarn oder Bekannten das gleiche Anliegen verfolgen kann die Energieberatung auch zusammen durchgeführt werden. \nWeitere Infos\, Beratungsformate und Online-Veranstaltungen unter www.verbraucherzentrale-hessen.de. Wissenswertes zum Königsteiner Klimaschutzszenario unter https://www.koenigstein.de/umweltschutz-klima/waerme-strom/. \n \nFoto: Verbraucherzentrale Hessen
URL:https://xn--knigstein-erleben-zzb.de/event/gratis-energieberatung-2/
LOCATION:Rathaus Königstein Raum 9\, Burgweg 5\, Königstein im Taunus\, Hessen\, 61462
CATEGORIES:Allgemein,Beratung,Klimaschutz
ATTACH;FMTTYPE=image/png:https://xn--knigstein-erleben-zzb.de/wp-content/uploads/2026/01/VZBV-aus-Rollup1-neue-CI-1.png
GEO:50.1819615;8.4646567
X-APPLE-STRUCTURED-LOCATION;VALUE=URI;X-ADDRESS=Rathaus Königstein Raum 9 Burgweg 5 Königstein im Taunus Hessen 61462;X-APPLE-RADIUS=500;X-TITLE=Burgweg 5:geo:8.4646567,50.1819615
END:VEVENT
END:VCALENDAR