BEGIN:VCALENDAR
VERSION:2.0
PRODID:-//Königstein - Erleben - ECPv6.15.19//NONSGML v1.0//EN
CALSCALE:GREGORIAN
METHOD:PUBLISH
X-WR-CALNAME:Königstein - Erleben
X-ORIGINAL-URL:https://xn--knigstein-erleben-zzb.de
X-WR-CALDESC:Veranstaltungen für Königstein - Erleben
REFRESH-INTERVAL;VALUE=DURATION:PT1H
X-Robots-Tag:noindex
X-PUBLISHED-TTL:PT1H
BEGIN:VTIMEZONE
TZID:Europe/Berlin
BEGIN:DAYLIGHT
TZOFFSETFROM:+0100
TZOFFSETTO:+0200
TZNAME:CEST
DTSTART:20250330T010000
END:DAYLIGHT
BEGIN:STANDARD
TZOFFSETFROM:+0200
TZOFFSETTO:+0100
TZNAME:CET
DTSTART:20251026T010000
END:STANDARD
BEGIN:DAYLIGHT
TZOFFSETFROM:+0100
TZOFFSETTO:+0200
TZNAME:CEST
DTSTART:20260329T010000
END:DAYLIGHT
BEGIN:STANDARD
TZOFFSETFROM:+0200
TZOFFSETTO:+0100
TZNAME:CET
DTSTART:20261025T010000
END:STANDARD
BEGIN:DAYLIGHT
TZOFFSETFROM:+0100
TZOFFSETTO:+0200
TZNAME:CEST
DTSTART:20270328T010000
END:DAYLIGHT
BEGIN:STANDARD
TZOFFSETFROM:+0200
TZOFFSETTO:+0100
TZNAME:CET
DTSTART:20271031T010000
END:STANDARD
END:VTIMEZONE
BEGIN:VEVENT
DTSTART;TZID=Europe/Berlin:20260211T100000
DTEND;TZID=Europe/Berlin:20260211T153000
DTSTAMP:20260420T011931
CREATED:20260122T151003Z
LAST-MODIFIED:20260122T151003Z
UID:10019348-1770804000-1770823800@xn--knigstein-erleben-zzb.de
SUMMARY:Mittwochswanderung des Taunusklub Königstein
DESCRIPTION:Wanderung mit Aussicht\nWanderung über den Hildablick aufwärts durch den Falkensteiner Hain zum Kocherfels \nAbmarsch Königstein Kapuzinerplatz/Stadtmitte um 10.15 Uhr \nEinkehr: Jett‘s Restaurant in Falkenstein ca. 12.00 Uhr \nRückwanderung über den Klärchenweg nach Königstein Stadtmitte \n \nFoto: Taunusklub Königstein \n 
URL:https://xn--knigstein-erleben-zzb.de/event/mittwochswanderung-des-taunusklub-koenigstein-30/
LOCATION:Kapuzinerplatz\, Stadtmitte\, Georg-Pingler-Straße\, Königstein im Taunus\, Hessen\, 61462\, Germany
CATEGORIES:Allgemein,Ausflug,Wandern
ATTACH;FMTTYPE=image/jpeg:https://xn--knigstein-erleben-zzb.de/wp-content/uploads/2026/01/4f988811-a10a-4ed0-96be-420591c8a8cf.jpeg
GEO:50.182567;8.4669365
X-APPLE-STRUCTURED-LOCATION;VALUE=URI;X-ADDRESS=Kapuzinerplatz Stadtmitte Georg-Pingler-Straße Königstein im Taunus Hessen 61462 Germany;X-APPLE-RADIUS=500;X-TITLE=Georg-Pingler-Straße:geo:8.4669365,50.182567
END:VEVENT
BEGIN:VEVENT
DTSTART;TZID=Europe/Berlin:20260211T160000
DTEND;TZID=Europe/Berlin:20260211T170000
DTSTAMP:20260420T011931
CREATED:20260205T083626Z
LAST-MODIFIED:20260205T083635Z
UID:10019414-1770825600-1770829200@xn--knigstein-erleben-zzb.de
SUMMARY:Rätselnachmittag in der Stadtbibliothek
DESCRIPTION:Alle Krimi- und Rätselbegeisterten ab 14 Jahren sind herzlich zum Rätsel-Nachmittag in der Stadtbibliothek eingeladen. \nIn einer Welt voller mysteriösern Tode\, unerklärlicher Vorfälle und düsterer Geheimnisse geht es darum\, knifflige Kriminalfälle zu lösen. Gemeinsam werden Fragen gestellt\, Hinweise kombiniert und Schritt für Schritt der Wahrheit nähergekommen.\nEin Nachmittag voller Spannung – ideal für alle\, die gerne knobeln\, Rätsel und schwarzen Humor mögen.
URL:https://xn--knigstein-erleben-zzb.de/event/raetselnachmittag-in-der-stadtbibliothek-6/
LOCATION:Stadtbibliothek Königstein\, Wiesbadener Straße 6\, Königstein im Taunus\, Hessen\, 61462\, Germany
CATEGORIES:Allgemein,Kultur,Stadtbibliothek
ATTACH;FMTTYPE=image/png:https://xn--knigstein-erleben-zzb.de/wp-content/uploads/2026/01/Raetselnachmittag-in-der-Stadtbibliothek1.png
ORGANIZER;CN="Stadtbibliothek K%C3%B6nigstein":MAILTO:stadtbibliothek@koenigstein.de
GEO:50.1813842;8.4679301
X-APPLE-STRUCTURED-LOCATION;VALUE=URI;X-ADDRESS=Stadtbibliothek Königstein Wiesbadener Straße 6 Königstein im Taunus Hessen 61462 Germany;X-APPLE-RADIUS=500;X-TITLE=Wiesbadener Straße 6:geo:8.4679301,50.1813842
END:VEVENT
BEGIN:VEVENT
DTSTART;TZID=Europe/Berlin:20260211T180000
DTEND;TZID=Europe/Berlin:20260211T193000
DTSTAMP:20260420T011931
CREATED:20260206T080752Z
LAST-MODIFIED:20260206T080752Z
UID:10019422-1770832800-1770838200@xn--knigstein-erleben-zzb.de
SUMMARY:Klinikforum "Neues Verfahren zur Behandlung einer undichten Herzklappe"
DESCRIPTION:Das Mitralklappen-Clipping ist ein minimalinvasives Therapieverfahren zur Behandlung einer undichten Herzklappe (Mitralklappeninsuffizienz). Wie dieses neuartige Verfahren funktioniert und abläuft\, steht im Mittelpunkt des nächsten Klinikforums im St. Josef Krankenhaus. Professor Dr. med. Hans Hölschermann\, Chefarzt der Kardiologie an den Hochtaunus-Kliniken\, wird das neue und schonende Verfahren zur Behandlung undichter Herzklappen vorstellen und erläutern\, wie es abläuft. \nBitte melden Sie sich per E-Mail unter: presse@hochtaunus-kliniken.de an. Dabei bitte den Namen und die Rufnummer nennen. Eine telefonische Anmeldung ist wochentags von 14 bis 16 Uhr unter 06172 / 14-1345 oder 14-1346 möglich.
URL:https://xn--knigstein-erleben-zzb.de/event/klinikforum-neues-verfahren-zur-behandlung-einer-undichten-herzklappe/
LOCATION:St. Josef Krankenhaus Königstein\, Woogtalstraße 7\, Königstein im Taunus\, Hessen\, 61462\, Germany
CATEGORIES:Allgemein,Gesundheit,Vortrag
ATTACH;FMTTYPE=image/jpeg:https://xn--knigstein-erleben-zzb.de/wp-content/uploads/2026/02/Prof.-Dr.-Hoelschermann.jpg
GEO:50.1839794;8.4622985
X-APPLE-STRUCTURED-LOCATION;VALUE=URI;X-ADDRESS=St. Josef Krankenhaus Königstein Woogtalstraße 7 Königstein im Taunus Hessen 61462 Germany;X-APPLE-RADIUS=500;X-TITLE=Woogtalstraße 7:geo:8.4622985,50.1839794
END:VEVENT
END:VCALENDAR