BEGIN:VCALENDAR
VERSION:2.0
PRODID:-//Königstein - Erleben - ECPv6.15.19//NONSGML v1.0//EN
CALSCALE:GREGORIAN
METHOD:PUBLISH
X-WR-CALNAME:Königstein - Erleben
X-ORIGINAL-URL:https://xn--knigstein-erleben-zzb.de
X-WR-CALDESC:Veranstaltungen für Königstein - Erleben
REFRESH-INTERVAL;VALUE=DURATION:PT1H
X-Robots-Tag:noindex
X-PUBLISHED-TTL:PT1H
BEGIN:VTIMEZONE
TZID:Europe/Berlin
BEGIN:DAYLIGHT
TZOFFSETFROM:+0100
TZOFFSETTO:+0200
TZNAME:CEST
DTSTART:20250330T010000
END:DAYLIGHT
BEGIN:STANDARD
TZOFFSETFROM:+0200
TZOFFSETTO:+0100
TZNAME:CET
DTSTART:20251026T010000
END:STANDARD
BEGIN:DAYLIGHT
TZOFFSETFROM:+0100
TZOFFSETTO:+0200
TZNAME:CEST
DTSTART:20260329T010000
END:DAYLIGHT
BEGIN:STANDARD
TZOFFSETFROM:+0200
TZOFFSETTO:+0100
TZNAME:CET
DTSTART:20261025T010000
END:STANDARD
BEGIN:DAYLIGHT
TZOFFSETFROM:+0100
TZOFFSETTO:+0200
TZNAME:CEST
DTSTART:20270328T010000
END:DAYLIGHT
BEGIN:STANDARD
TZOFFSETFROM:+0200
TZOFFSETTO:+0100
TZNAME:CET
DTSTART:20271031T010000
END:STANDARD
END:VTIMEZONE
BEGIN:VEVENT
DTSTART;TZID=Europe/Berlin:20260212T150000
DTEND;TZID=Europe/Berlin:20260212T150000
DTSTAMP:20260420T011936
CREATED:20251218T084131Z
LAST-MODIFIED:20260213T112211Z
UID:10019208-1770908400-1770908400@xn--knigstein-erleben-zzb.de
SUMMARY:Vorlesestunde in der Stadtbibliothek
DESCRIPTION:Alle Kinder sind herzlich zur Vorlesestunde eingeladen. Donnerstag um 15.00 Uhr – Eintritt frei \n 
URL:https://xn--knigstein-erleben-zzb.de/event/vorlesestunde-in-der-stadtbibliothek-13/2026-02-12/
LOCATION:Stadtbibliothek Königstein\, Wiesbadener Straße 6\, Königstein im Taunus\, Hessen\, 61462\, Germany
CATEGORIES:Kinder
ATTACH;FMTTYPE=image/png:https://xn--knigstein-erleben-zzb.de/wp-content/uploads/2025/12/Vorlesestunde_Stadtbibliothek.png
ORGANIZER;CN="Stadtbibliothek K%C3%B6nigstein":MAILTO:stadtbibliothek@koenigstein.de
GEO:50.1813842;8.4679301
X-APPLE-STRUCTURED-LOCATION;VALUE=URI;X-ADDRESS=Stadtbibliothek Königstein Wiesbadener Straße 6 Königstein im Taunus Hessen 61462 Germany;X-APPLE-RADIUS=500;X-TITLE=Wiesbadener Straße 6:geo:8.4679301,50.1813842
END:VEVENT
BEGIN:VEVENT
DTSTART;TZID=Europe/Berlin:20260212T151500
DTEND;TZID=Europe/Berlin:20260212T194500
DTSTAMP:20260420T011936
CREATED:20260116T093052Z
LAST-MODIFIED:20260119T123951Z
UID:10019334-1770909300-1770925500@xn--knigstein-erleben-zzb.de
SUMMARY:Blutspendetermin des DRK Königstein
DESCRIPTION:Jede Blutspende zählt! Der DRK-Blutspendedienst bittet dringend zur Blutspende.\n\n\nTäglich werden Blutspenden für die Heilung und Lebensrettung von Patienten dringend benötigt.\nBedingt durch die kurze Haltbarkeit von Blut können keine Reserven aufgebaut werden. \nDaher bittet das DRK alle Gesunden zur Blutspende. Zur Sicherheit der Spender muss im Vorfeld ein Termin reserviert werden. \nAlle verfügbaren Termine finden Sie online unter: terminreservierung.blutspende.de \nInformationen rund um die Blutspende bietet der DRK-Blutspendedienst auch über die kostenfreie Service-Hotline 0800 – 11 949 11. \n \nBild: Günther Post\, DRK Königstein im Taunus
URL:https://xn--knigstein-erleben-zzb.de/event/blutspendetermin-des-drk-koenigstein-2/
LOCATION:Haus der Begegnung (Großer Saal)\, Bischof-Kaller-Straße 3\, Königstein im Taunus\, Hessen\, 61462\, Germany
CATEGORIES:Allgemein,HdB
ATTACH;FMTTYPE=image/png:https://xn--knigstein-erleben-zzb.de/wp-content/uploads/2025/01/LOGO-DRK-Koenigstein-Bildrecht-Guenter-Post-1.png
ORGANIZER;CN="DRK OV K%C3%B6nigstein":MAILTO:sak@drk-koenigstein.de
GEO:50.1784427;8.4734345
X-APPLE-STRUCTURED-LOCATION;VALUE=URI;X-ADDRESS=Haus der Begegnung (Großer Saal) Bischof-Kaller-Straße 3 Königstein im Taunus Hessen 61462 Germany;X-APPLE-RADIUS=500;X-TITLE=Bischof-Kaller-Straße 3:geo:8.4734345,50.1784427
END:VEVENT
BEGIN:VEVENT
DTSTART;TZID=Europe/Berlin:20260212T180000
DTEND;TZID=Europe/Berlin:20260212T180000
DTSTAMP:20260420T011936
CREATED:20260130T171552Z
LAST-MODIFIED:20260402T071135Z
UID:10006052-1770919200-1770919200@xn--knigstein-erleben-zzb.de
SUMMARY:Donnerstags DJ Beats 
DESCRIPTION:Fast Wochenende. Aber eben nur fast. Oder doch schon?\nBesuchen Sie die Tizians Bar in der Villa Rothschild immer donnerstags\nund freuen Sie sich auf ein paar chillige Beats. \nGute Drinks\, gute Snacks\, gute Leute … und natürlich gute Beats. Voilà! \nReservierung übrigens nicht notwendig. Aufgelegt wird ab 18 Uhr. Vorbeischauen\, reinkommen\, ankommen\, genießen. Wir hören uns! \nBitte beachten: Auch Musik braucht Bild. Daher erlauben wir uns auch bei diesem Event ein paar Schnappschüsse zu machen … und zu zeigen … \n \nFoto bereitgestellt von der Broermann Health & Heritage Hotels GmbH
URL:https://xn--knigstein-erleben-zzb.de/event/donnerstags-dj-beats-2-2/2026-02-12/
LOCATION:Tizians Bar in der Villa Rothschild\, Im Rothschildpark 1\, Königstein im Taunus\, Hessen\, 61462\, Germany
CATEGORIES:Allgemein,Musik,Unterhaltung
ATTACH;FMTTYPE=image/jpeg:https://xn--knigstein-erleben-zzb.de/wp-content/uploads/2025/03/VR-Donnerstags-DJ-Beats-e1742564926506.jpg
GEO:50.1832832;8.4718445
X-APPLE-STRUCTURED-LOCATION;VALUE=URI;X-ADDRESS=Tizians Bar in der Villa Rothschild Im Rothschildpark 1 Königstein im Taunus Hessen 61462 Germany;X-APPLE-RADIUS=500;X-TITLE=Im Rothschildpark 1:geo:8.4718445,50.1832832
END:VEVENT
BEGIN:VEVENT
DTSTART;TZID=Europe/Berlin:20260212T190000
DTEND;TZID=Europe/Berlin:20260212T203000
DTSTAMP:20260420T011936
CREATED:20260116T134915Z
LAST-MODIFIED:20260116T134915Z
UID:10019341-1770922800-1770928200@xn--knigstein-erleben-zzb.de
SUMMARY:Zeitzeugenbericht in der Stadtbibliothek
DESCRIPTION:„ Erinnern für die Zukunft – Erfahrungen aus der DDR-Diktatur“\nDer Verein LeseLust Königstein e.V. läd Sie herzlich zu einem Zeitzeugenbericht mit Dr. Bernd Matern in die Königsteiner Stadtbibliothek ein. \nDr. Bernd Matern\, geb. 1941 in Berlin\, war viele Jahre als Tierarzt im Frankfurter Zoo tätig. Als junger Mann jedoch erlebte er in Berlin eine ganz andere Realität:  Aufgrund eines Fluchtversuchs wurde er von der Staatsicherheit verhaftet und verbrachte ein halbes Jahr in der Untersuchungshaft in der Sasi-zentrale in der Magdalenenstraße. Anschließend wurde er im berüchtigten Lager X in Berlin Hohenschönhausen inhaftiert und hat dort Zwangsarbeit leisten müssen. Er wurde von der Bundesrepublik freigekauft und konnte in den Westen ausreisen. \nIn Gießen begann dann dann für Dr. Matern ein neues Leben: er holte das West-Abitur nach\, studierte Tiermedizin und baute sich eine erfolgreiche berufliche Zukunft auf. \nAls überzeugter Demokrat ist es Dr. Matern ein großes Anliegen\, besonders jungen Menschen die dunkle Vergangenheit der DDR-Diktatur nahezubringen und auf die Vorzüge einer freiheitlichen\, demokratischen Gesellschaft hinzuweisen. Mit fast 85 Jahren engagiert es sich als Kämpfer für die Demokratie und gegen das Vergessen. \nDie Veranstaltung richtet nicht nur an Schüler und Heranwachsende\, sondern an alle interessierten Bürger jeden Alters\, die in einem lockerem Gespräch aus erster Hand erfahren möchten\, wie Diktatur\, Freiheitsentzug und Neubeginn erlebt wurden. Die Veranstaltung beginnt um 19.00 Uhr in der Stadtbibliothek Königstein. Sie ist kostenfrei\, über eine Spende freut sich der Verein LeseLust. \nWir freuen uns auf ihr Kommen und einen eindrucksvollen Abend des Erinnerns\, Zuhören\, des Fragens und gemeinsamen Nachdenkens über Demokratie und Freiheit. \n \n 
URL:https://xn--knigstein-erleben-zzb.de/event/zeitzeugenbericht-in-der-stadtbibliothek/
LOCATION:Stadtbibliothek Königstein\, Wiesbadener Straße 6\, Königstein im Taunus\, Hessen\, 61462\, Germany
CATEGORIES:Allgemein,Geschichte,Jugend,Kultur,Stadtbibliothek,Vortrag
ATTACH;FMTTYPE=image/jpeg:https://xn--knigstein-erleben-zzb.de/wp-content/uploads/2026/01/Matern.jpg
ORGANIZER;CN="LeseLust K%C3%B6nigstein e.V.":MAILTO:info@leselust-koenigstein.de
GEO:50.1813842;8.4679301
X-APPLE-STRUCTURED-LOCATION;VALUE=URI;X-ADDRESS=Stadtbibliothek Königstein Wiesbadener Straße 6 Königstein im Taunus Hessen 61462 Germany;X-APPLE-RADIUS=500;X-TITLE=Wiesbadener Straße 6:geo:8.4679301,50.1813842
END:VEVENT
END:VCALENDAR