BEGIN:VCALENDAR
VERSION:2.0
PRODID:-//Königstein - Erleben - ECPv6.15.19//NONSGML v1.0//EN
CALSCALE:GREGORIAN
METHOD:PUBLISH
X-WR-CALNAME:Königstein - Erleben
X-ORIGINAL-URL:https://xn--knigstein-erleben-zzb.de
X-WR-CALDESC:Veranstaltungen für Königstein - Erleben
REFRESH-INTERVAL;VALUE=DURATION:PT1H
X-Robots-Tag:noindex
X-PUBLISHED-TTL:PT1H
BEGIN:VTIMEZONE
TZID:Europe/Berlin
BEGIN:DAYLIGHT
TZOFFSETFROM:+0100
TZOFFSETTO:+0200
TZNAME:CEST
DTSTART:20250330T010000
END:DAYLIGHT
BEGIN:STANDARD
TZOFFSETFROM:+0200
TZOFFSETTO:+0100
TZNAME:CET
DTSTART:20251026T010000
END:STANDARD
BEGIN:DAYLIGHT
TZOFFSETFROM:+0100
TZOFFSETTO:+0200
TZNAME:CEST
DTSTART:20260329T010000
END:DAYLIGHT
BEGIN:STANDARD
TZOFFSETFROM:+0200
TZOFFSETTO:+0100
TZNAME:CET
DTSTART:20261025T010000
END:STANDARD
BEGIN:DAYLIGHT
TZOFFSETFROM:+0100
TZOFFSETTO:+0200
TZNAME:CEST
DTSTART:20270328T010000
END:DAYLIGHT
BEGIN:STANDARD
TZOFFSETFROM:+0200
TZOFFSETTO:+0100
TZNAME:CET
DTSTART:20271031T010000
END:STANDARD
END:VTIMEZONE
BEGIN:VEVENT
DTSTART;TZID=Europe/Berlin:20260215T110000
DTEND;TZID=Europe/Berlin:20260215T130000
DTSTAMP:20260422T185821
CREATED:20260212T085729Z
LAST-MODIFIED:20260212T091023Z
UID:10019432-1771153200-1771160400@xn--knigstein-erleben-zzb.de
SUMMARY:Orientierungslauf – Taunus Cup
DESCRIPTION:Orientierungslauf – Taunus Cup des SC Königstein\nOrientierungslauf (kurz OL) ist eine Outdoor-Sportart\, bei der du mit Karte und Kompass verschiedene Kontrollpunkte in einem Gelände finden musst – und zwar in der kürzesten Zeit und auf einer selbst gewählten Route. Es ist eine Mischung aus Laufen\, Navigation und Abenteuer. \n\nKommt vorbei und probiert unseren Sport aus! \nAm Sonntag den 15.02.2025 treffen wir unszwischen 11:oo und 12:00 auf dem Parkplatz vom EDEKA Nolte \nEgal ob jung oder alt – jeder kann mitmachen. Ihr könnt alleine oder gemeinsam mit Freundinnen oder eurer Familie laufen\, gehen oder wandern. Macht es einfach so\, wie es euch am meisten Spaß macht. \nWir freuen uns auf euch! \n  \n \n  \nPlakat wurde vom SC Königstein e.V. zur Verfügung gestellt.
URL:https://xn--knigstein-erleben-zzb.de/event/orientierungslauf-taunus-cup/
LOCATION:EDEKA Nolte Königstein\, Limburger Straße 48\, Königstein im Taunus\, Hessen\, 61462\, Germany
CATEGORIES:Allgemein,Ausflug,Gesundheit,Jugend,Kinder,Natur & Tiere,Sport,Wandern
ATTACH;FMTTYPE=application/pdf:https://xn--knigstein-erleben-zzb.de/wp-content/uploads/2026/02/FREMD-2026-15-SCK-Orientierungslauf.pdf
GEO:50.1909337;8.4647221
X-APPLE-STRUCTURED-LOCATION;VALUE=URI;X-ADDRESS=EDEKA Nolte Königstein Limburger Straße 48 Königstein im Taunus Hessen 61462 Germany;X-APPLE-RADIUS=500;X-TITLE=Limburger Straße 48:geo:8.4647221,50.1909337
END:VEVENT
BEGIN:VEVENT
DTSTART;TZID=Europe/Berlin:20260215T110000
DTEND;TZID=Europe/Berlin:20260215T140000
DTSTAMP:20260422T185821
CREATED:20251229T141808Z
LAST-MODIFIED:20260206T141141Z
UID:10019237-1771153200-1771164000@xn--knigstein-erleben-zzb.de
SUMMARY:Steinkopf im Taunus
DESCRIPTION:Geschichte\, Klimawandel\, Waldnutzung\nMit dem Absturz eines „Rosinenbombers“ im Juli 1948 öffnet der Steinkopf den Blick auf wichtige Ereignisse der deutschen Nachkriegsgeschichte: Luftbrücke\, Berlin-Blockade\, Währungsreform und den Beginn des Kalten Krieges. Massive Waldschäden\, verursacht durch den Klimawandel\, begleiten den Weg zum Gipfel und stellen die Frage nach der künftigen Nutzung des Waldes. \nAnmeldung über diesen Link… \n \nBildrechte: Naturpark Taunus
URL:https://xn--knigstein-erleben-zzb.de/event/steinkopf-im-taunus-2/
LOCATION:Treffpunkt: Parkplatz Viktoriaweg\, Ölmühlweg 53\, Königstein im Taunus\, Hessen\, Germany
CATEGORIES:Allgemein,Wandern
ATTACH;FMTTYPE=image/jpeg:https://xn--knigstein-erleben-zzb.de/wp-content/uploads/2025/12/Rosinenbomber-Foto-Naturpark-Taunus-e1770283730139.jpg
ORGANIZER;CN="Naturpark Taunus":MAILTO:info@naturpark-taunus.de
GEO:50.1888171;8.4464483
X-APPLE-STRUCTURED-LOCATION;VALUE=URI;X-ADDRESS=Treffpunkt: Parkplatz Viktoriaweg Ölmühlweg 53 Königstein im Taunus Hessen Germany;X-APPLE-RADIUS=500;X-TITLE=Ölmühlweg 53:geo:8.4464483,50.1888171
END:VEVENT
BEGIN:VEVENT
DTSTART;TZID=Europe/Berlin:20260215T150000
DTEND;TZID=Europe/Berlin:20260215T150000
DTSTAMP:20260422T185821
CREATED:20260115T111809Z
LAST-MODIFIED:20260115T111809Z
UID:10019331-1771167600-1771167600@xn--knigstein-erleben-zzb.de
SUMMARY:Königsteiner Stadt- und Burgführung
DESCRIPTION:Unterhaltsamer Spaziergang durch Kurpark und Stadtmitte auf die Burg \nIm Mittelpunkt der etwa 90-minütigen Führung steht die Burgruine. Die Burganlage\, die zu den größten ihrer Art in Deutschland zählt\, wird gemeinsam erkundet. Ihre wechselvolle Geschichte reicht von der mittelalterlichen Ritterburg über das Schloss der Renaissance bis zur Nutzung als Staatsgefängnis. Jede Epoche hat ihre Spuren hinterlassen\, die es zu entdecken gilt. \nAuf dem Weg hinauf bleibt genügend Zeit\, um das eine oder andere weitere Highlight der vielen Königsteiner Sehenswürdigkeiten und Gegebenheiten kennenzulernen\, darunter die Villa Borgnis\, eine der ersten mondänen Sommervillen\, den Verlauf der alten Reichsstraße durch Königstein\, das Königsteiner Kurbad\, das farbenfroh im Gegenhang des Burgbergs leuchtet und die Entwicklung Königsteins als Gesundheitsstandortort und Heilklimatischen Kurort. \nKonditionen\nDie Teilnahme kostet 5 Euro\, mit Königsteiner Kur- oder Gästekarte 2\,50 Euro\nKinder mitlaufender Eltern sind (bis zum 18. Geburtstag) frei \nUm Anmeldung wird gebeten:\nTelefon: (0 61 74) 202 300 oder\nE-Mail: anmeldung@koenigstein.de \nVeranstalterin\nist die Kur- und Stadtinformation in Kooperation mit dem Stadtarchiv der Stadt Königstein im Taunus \n\n \nFoto: Martin Keutner |
URL:https://xn--knigstein-erleben-zzb.de/event/koenigsteiner-stadt-und-burgfuehrung-26/
LOCATION:Treffpunkt: Kur- und Stadtinformation\, Hauptstraße 13 a\, Königstein im Taunus\, Hessen\, 61462\, Germany
CATEGORIES:Führung
ATTACH;FMTTYPE=image/jpeg:https://xn--knigstein-erleben-zzb.de/wp-content/uploads/2023/12/Burgruine-und-Altstadt-Koenigsteins-im-Winter-M.Keutner.1.12.2017.350dpix.jpg
ORGANIZER;CN="Kur- und Stadtinformation K%C3%B6nigstein":MAILTO:info@koenigstein.de
GEO:50.1820975;8.4668501
X-APPLE-STRUCTURED-LOCATION;VALUE=URI;X-ADDRESS=Treffpunkt: Kur- und Stadtinformation Hauptstraße 13 a Königstein im Taunus Hessen 61462 Germany;X-APPLE-RADIUS=500;X-TITLE=Hauptstraße 13 a:geo:8.4668501,50.1820975
END:VEVENT
END:VCALENDAR