BEGIN:VCALENDAR
VERSION:2.0
PRODID:-//Königstein - Erleben - ECPv6.15.19//NONSGML v1.0//EN
CALSCALE:GREGORIAN
METHOD:PUBLISH
X-WR-CALNAME:Königstein - Erleben
X-ORIGINAL-URL:https://xn--knigstein-erleben-zzb.de
X-WR-CALDESC:Veranstaltungen für Königstein - Erleben
REFRESH-INTERVAL;VALUE=DURATION:PT1H
X-Robots-Tag:noindex
X-PUBLISHED-TTL:PT1H
BEGIN:VTIMEZONE
TZID:Europe/Berlin
BEGIN:DAYLIGHT
TZOFFSETFROM:+0100
TZOFFSETTO:+0200
TZNAME:CEST
DTSTART:20250330T010000
END:DAYLIGHT
BEGIN:STANDARD
TZOFFSETFROM:+0200
TZOFFSETTO:+0100
TZNAME:CET
DTSTART:20251026T010000
END:STANDARD
BEGIN:DAYLIGHT
TZOFFSETFROM:+0100
TZOFFSETTO:+0200
TZNAME:CEST
DTSTART:20260329T010000
END:DAYLIGHT
BEGIN:STANDARD
TZOFFSETFROM:+0200
TZOFFSETTO:+0100
TZNAME:CET
DTSTART:20261025T010000
END:STANDARD
BEGIN:DAYLIGHT
TZOFFSETFROM:+0100
TZOFFSETTO:+0200
TZNAME:CEST
DTSTART:20270328T010000
END:DAYLIGHT
BEGIN:STANDARD
TZOFFSETFROM:+0200
TZOFFSETTO:+0100
TZNAME:CET
DTSTART:20271031T010000
END:STANDARD
END:VTIMEZONE
BEGIN:VEVENT
DTSTART;TZID=Europe/Berlin:20260218T123000
DTEND;TZID=Europe/Berlin:20260218T180000
DTSTAMP:20260420T011941
CREATED:20260122T151531Z
LAST-MODIFIED:20260122T151531Z
UID:10019349-1771417800-1771437600@xn--knigstein-erleben-zzb.de
SUMMARY:Mittwochswanderung des Taunusklub Königstein
DESCRIPTION:Aschermittwoch – zum Heringsessen im „Grünen Baum“ in Altenhain\nGemütliche Wanderung durchs Liederbachtal nach Altenhain; 6\,7 km \nAbfahrt Königstein Bahnhof um 12.32 Uhr; Kelkheim Mitte an 12.42 Uhr \nEinkehr: ca. 15.00 Uhr Zum Grünen Baum\, Landstr. 54 \nWanderung durchs Altenhainer Tal nach Bad Soden Bahnhof; ca. 3\,9 km \noder Rückfahrt mit Bus 803 ab Altenhainer Kreuz 1/2 stdl. …27 und …57 Uhr \n \nFoto: Taunusklub Königstein \n 
URL:https://xn--knigstein-erleben-zzb.de/event/mittwochswanderung-des-taunusklub-koenigstein-31/
LOCATION:Treffpunkt: Bahnhof Königstein\, Bahnstraße\, Königstein im Taunus\, Hessen\, 61462\, Germany
CATEGORIES:Allgemein,Ausflug,Wandern
ATTACH;FMTTYPE=image/jpeg:https://xn--knigstein-erleben-zzb.de/wp-content/uploads/2026/01/19b1f30a-a091-493b-9800-3aa167fe1651.jpeg
GEO:50.1783989;8.4682811
X-APPLE-STRUCTURED-LOCATION;VALUE=URI;X-ADDRESS=Treffpunkt: Bahnhof Königstein Bahnstraße Königstein im Taunus Hessen 61462 Germany;X-APPLE-RADIUS=500;X-TITLE=Bahnstraße:geo:8.4682811,50.1783989
END:VEVENT
BEGIN:VEVENT
DTSTART;TZID=Europe/Berlin:20260218T130000
DTEND;TZID=Europe/Berlin:20260218T170000
DTSTAMP:20260420T011941
CREATED:20260123T075550Z
LAST-MODIFIED:20260123T075550Z
UID:10019350-1771419600-1771434000@xn--knigstein-erleben-zzb.de
SUMMARY:Kurzwanderung nach Altenhain zum Heringsessen
DESCRIPTION:Wanderung über Hainerbergweg und Altenhainer Wald\nAbmarsch Königstein Kapuzinerplatz/Stadtmitte um 13.00 Uhr (Nichtwanderer können mit Bus 803 um 14.03 Uhr ab Königstein Stadtmitte nach Altenhain fahren\, Haltestelle Kirche oder Altenhainer Kreuz) \nEinkehr: ca. 14.30 / 15.00 Uhr \nRückfahrt mit Bus 803 ab Altenhainer Kreuz 1/2 stdl.  …27 und …57 Uhr \n  \n \nFoto: Taunusklub Königstein \n  \n 
URL:https://xn--knigstein-erleben-zzb.de/event/kurzwanderung-nach-altenhain-zum-heringsessen/
LOCATION:Treffpunk & Abmarsch: Kapuzinerplatz Stadtmitte\, Königstein im Taunus\, Hessen\, 61462\, Germany
CATEGORIES:Allgemein,Ausflug,Wandern
ATTACH;FMTTYPE=image/jpeg:https://xn--knigstein-erleben-zzb.de/wp-content/uploads/2026/01/4f988811-a10a-4ed0-96be-420591c8a8cf-1.jpeg
GEO:50.1823922;8.4665756
END:VEVENT
END:VCALENDAR