BEGIN:VCALENDAR
VERSION:2.0
PRODID:-//Königstein - Erleben - ECPv6.15.19//NONSGML v1.0//EN
CALSCALE:GREGORIAN
METHOD:PUBLISH
X-WR-CALNAME:Königstein - Erleben
X-ORIGINAL-URL:https://xn--knigstein-erleben-zzb.de
X-WR-CALDESC:Veranstaltungen für Königstein - Erleben
REFRESH-INTERVAL;VALUE=DURATION:PT1H
X-Robots-Tag:noindex
X-PUBLISHED-TTL:PT1H
BEGIN:VTIMEZONE
TZID:Europe/Berlin
BEGIN:DAYLIGHT
TZOFFSETFROM:+0100
TZOFFSETTO:+0200
TZNAME:CEST
DTSTART:20250330T010000
END:DAYLIGHT
BEGIN:STANDARD
TZOFFSETFROM:+0200
TZOFFSETTO:+0100
TZNAME:CET
DTSTART:20251026T010000
END:STANDARD
BEGIN:DAYLIGHT
TZOFFSETFROM:+0100
TZOFFSETTO:+0200
TZNAME:CEST
DTSTART:20260329T010000
END:DAYLIGHT
BEGIN:STANDARD
TZOFFSETFROM:+0200
TZOFFSETTO:+0100
TZNAME:CET
DTSTART:20261025T010000
END:STANDARD
BEGIN:DAYLIGHT
TZOFFSETFROM:+0100
TZOFFSETTO:+0200
TZNAME:CEST
DTSTART:20270328T010000
END:DAYLIGHT
BEGIN:STANDARD
TZOFFSETFROM:+0200
TZOFFSETTO:+0100
TZNAME:CET
DTSTART:20271031T010000
END:STANDARD
END:VTIMEZONE
BEGIN:VEVENT
DTSTART;TZID=Europe/Berlin:20261120T080000
DTEND;TZID=Europe/Berlin:20261120T140000
DTSTAMP:20260425T233639
CREATED:20260202T140633Z
LAST-MODIFIED:20260317T122224Z
UID:10019408-1795161600-1795183200@xn--knigstein-erleben-zzb.de
SUMMARY:Königsteiner Wochenmarkt
DESCRIPTION:Qualität und Frische sind unser Anspruch!\nZwischen 8.00 und 14.00 Uhr bieten regionale Händler und auch Erzeuger an ihren Ständen Obst\, Gemüse\, Blumen\, Fleisch\, Fisch\, Geflügel\, Backwaren und weitere saisonale Produkte an. \nBesuchen Sie unseren Wochenmarkt\, Sie werden begeistert sein. Mehr Infos zu den Angeboten finden Sie hier…\nIhre Händler des Königsteiner Wochenmarktes. \n \nFoto: Stadt Königstein im Taunus
URL:https://xn--knigstein-erleben-zzb.de/event/koenigsteiner-wochenmarkt-7/2026-11-20/
LOCATION:Kapuzinerplatz Stadtmitte
CATEGORIES:Allgemein,Beratung,Genuss,Gesundheit
ATTACH;FMTTYPE=image/jpeg:https://xn--knigstein-erleben-zzb.de/wp-content/uploads/2025/12/Wochenmarkt_230421_43-klein-scaled.jpg
GEO:50.1826419;8.4654889
END:VEVENT
BEGIN:VEVENT
DTSTART;TZID=Europe/Berlin:20261120T200000
DTEND;TZID=Europe/Berlin:20261120T220000
DTSTAMP:20260425T233639
CREATED:20251216T153235Z
LAST-MODIFIED:20260220T101527Z
UID:10019178-1795204800-1795212000@xn--knigstein-erleben-zzb.de
SUMMARY:Magic Gregorian Night Das Konzert - Klang der Mönche
DESCRIPTION:Magic Gregorian Night Das Konzert – Klang der Mönche\nAcht bulgarische Ausnahmesänger mit außergewöhnlich- kraftvoller und stimmgewaltiger Leidenschaft entführen in den Kosmos der christlich – mittelalterlichen Liturgiegesänge und der beeindruckend – mystischen Atmosphäre dieser Zeit! So faszinierend kann Gregorianik heute klingen! \nUnsere Vokalsolisten begeistern mit mächtigen und energiegeladen Stimmen. Ergreifende Choralsätze und wunderschöne Melodien verbinden sich mit perfekter a Cappella Vokalkunst. Mittelalter und Gegenwart treffen sich zu einen einmaligen Konzerterlebnis! Eine Symbiose der Extraklasse! \n  \nVorverkauf: ausschließlich über das Ticketsystem Eventim.de
URL:https://xn--knigstein-erleben-zzb.de/event/magic-gregorian-night-das-konzert-klang-der-moenche/
LOCATION:Haus der Begegnung (Großer Saal)\, Bischof-Kaller-Straße 3\, Königstein im Taunus\, Hessen\, 61462\, Germany
CATEGORIES:HdB,Konzert,Kultur,Musik,Unterhaltung
ATTACH;FMTTYPE=image/jpeg:https://xn--knigstein-erleben-zzb.de/wp-content/uploads/2025/12/6.-MGN-2025-Das-Konzert.jpg
GEO:50.1784427;8.4734345
X-APPLE-STRUCTURED-LOCATION;VALUE=URI;X-ADDRESS=Haus der Begegnung (Großer Saal) Bischof-Kaller-Straße 3 Königstein im Taunus Hessen 61462 Germany;X-APPLE-RADIUS=500;X-TITLE=Bischof-Kaller-Straße 3:geo:8.4734345,50.1784427
END:VEVENT
END:VCALENDAR