BEGIN:VCALENDAR
VERSION:2.0
PRODID:-//Königstein - Erleben - ECPv6.15.19//NONSGML v1.0//EN
CALSCALE:GREGORIAN
METHOD:PUBLISH
X-WR-CALNAME:Königstein - Erleben
X-ORIGINAL-URL:https://xn--knigstein-erleben-zzb.de
X-WR-CALDESC:Veranstaltungen für Königstein - Erleben
REFRESH-INTERVAL;VALUE=DURATION:PT1H
X-Robots-Tag:noindex
X-PUBLISHED-TTL:PT1H
BEGIN:VTIMEZONE
TZID:Europe/Berlin
BEGIN:DAYLIGHT
TZOFFSETFROM:+0100
TZOFFSETTO:+0200
TZNAME:CEST
DTSTART:20230326T010000
END:DAYLIGHT
BEGIN:STANDARD
TZOFFSETFROM:+0200
TZOFFSETTO:+0100
TZNAME:CET
DTSTART:20231029T010000
END:STANDARD
BEGIN:DAYLIGHT
TZOFFSETFROM:+0100
TZOFFSETTO:+0200
TZNAME:CEST
DTSTART:20240331T010000
END:DAYLIGHT
BEGIN:STANDARD
TZOFFSETFROM:+0200
TZOFFSETTO:+0100
TZNAME:CET
DTSTART:20241027T010000
END:STANDARD
BEGIN:DAYLIGHT
TZOFFSETFROM:+0100
TZOFFSETTO:+0200
TZNAME:CEST
DTSTART:20250330T010000
END:DAYLIGHT
BEGIN:STANDARD
TZOFFSETFROM:+0200
TZOFFSETTO:+0100
TZNAME:CET
DTSTART:20251026T010000
END:STANDARD
END:VTIMEZONE
BEGIN:VEVENT
DTSTART;TZID=Europe/Berlin:20240414T150000
DTEND;TZID=Europe/Berlin:20240414T150000
DTSTAMP:20260425T181042
CREATED:20240312T123641Z
LAST-MODIFIED:20240405T091658Z
UID:10000511-1713106800-1713106800@xn--knigstein-erleben-zzb.de
SUMMARY:Königsteiner Stadt- und Burgführung
DESCRIPTION:Foto: Martin Keutner | \n\nUnterhaltsamer Spaziergang durch Kurpark und Stadtmitte auf die Burg \nIm Mittelpunkt der etwa 90-minütigen Führung steht die Burgruine. Die Burganlage\, die zu den größten ihrer Art in Deutschland zählt\, wird gemeinsam erkundet. Ihre wechselvolle Geschichte reicht von der mittelalterlichen Ritterburg über das Schloss der Renaissance bis zur Nutzung als Staatsgefängnis. Jede Epoche hat ihre Spuren hinterlassen\, die es zu entdecken gilt. \nAuf dem Weg hinauf bleibt genügend Zeit\, um das eine oder andere weitere Highlight der vielen Königsteiner Sehenswürdigkeiten und Gegebenheiten kennenzulernen\, darunter die Villa Borgnis\, eine der ersten mondänen Sommervillen\, den Verlauf der alten Reichsstraße durch Königstein\, das Königsteiner Kurbad\, das farbenfroh im Gegenhang des Burgbergs leuchtet und die Entwicklung Königsteins als Gesundheitsstandortort und Heilklimatischen Kurort. \nKonditionen\nDie Teilnahme kostet 5 Euro\, mit Königsteiner Kur- oder Gästekarte 2\,50 Euro\nKinder mitlaufender Eltern sind (bis zum 18. Geburtstag) frei \nUm Anmeldung wird gebeten:\nTelefon: (0 61 74) 202 251 oder\nE-Mail: info@koenigstein.de \nVeranstalterin\nist die Kur- und Stadtinformation in Kooperation mit dem Stadtarchiv der Stadt Königstein im Taunus \n  \n 
URL:https://xn--knigstein-erleben-zzb.de/event/koenigsteiner-stadt-und-burgfuehrung-4/
LOCATION:Treffpunkt: Kur- und Stadtinformation\, Hauptstraße 13 a\, Königstein im Taunus\, Hessen\, 61462\, Germany
CATEGORIES:Führung
ATTACH;FMTTYPE=image/jpeg:https://xn--knigstein-erleben-zzb.de/wp-content/uploads/2024/02/KSBF-Koenigsteiner-Burg-Martin-Keutner-Beschnitt-fuer-Wordpress-scaled.jpg
ORGANIZER;CN="Kur- und Stadtinformation K%C3%B6nigstein":MAILTO:info@koenigstein.de
GEO:50.1820975;8.4668501
X-APPLE-STRUCTURED-LOCATION;VALUE=URI;X-ADDRESS=Treffpunkt: Kur- und Stadtinformation Hauptstraße 13 a Königstein im Taunus Hessen 61462 Germany;X-APPLE-RADIUS=500;X-TITLE=Hauptstraße 13 a:geo:8.4668501,50.1820975
END:VEVENT
BEGIN:VEVENT
DTSTART;TZID=Europe/Berlin:20240403T180000
DTEND;TZID=Europe/Berlin:20240403T190000
DTSTAMP:20260425T181042
CREATED:20240307T124044Z
LAST-MODIFIED:20240307T125509Z
UID:10000434-1712167200-1712170800@xn--knigstein-erleben-zzb.de
SUMMARY:Eine kleine Stadtführung
DESCRIPTION:Foto: Leonhard Helm \n\nUnterhaltsamer Spaziergang durch Königsteins Stadtmitte \nAuf der ca. 1-stündigen Tour wird kurzweilig und informativ Wissenswertes und Unterhaltsames aus rund 800 Jahren Königsteiner Stadtgeschichte vorgestellt. Von der Entwicklung des Fleckens am Fuße der größten Burg im Vordertaunus zum anerkannten Gesundheitsstandort\, der er heute ist. Unterwegs werden historisch bedeutsame Gebäude\, der Kurpark und die Altstadt erkundet. \nDie Teilnahme ist kostenfrei.\nUm Anmeldung wird gebeten: (0 61 74) 202 251 oder info@koenigstein.de \n  \nDie nächste „kleine Stadtführung“ findet statt am Mittwoch\, 24. April\, 18.00 Uhr \n\n  \n 
URL:https://xn--knigstein-erleben-zzb.de/event/eine-kleine-stadtfuehrung/
LOCATION:Treffpunkt: Kur- und Stadtinformation\, Hauptstraße 13 a\, Königstein im Taunus\, Hessen\, 61462\, Germany
CATEGORIES:Führung
ATTACH;FMTTYPE=image/jpeg:https://xn--knigstein-erleben-zzb.de/wp-content/uploads/2023/07/Altes-Rathaus.jpg
ORGANIZER;CN="Kur- und Stadtinformation K%C3%B6nigstein":MAILTO:info@koenigstein.de
GEO:50.1820975;8.4668501
X-APPLE-STRUCTURED-LOCATION;VALUE=URI;X-ADDRESS=Treffpunkt: Kur- und Stadtinformation Hauptstraße 13 a Königstein im Taunus Hessen 61462 Germany;X-APPLE-RADIUS=500;X-TITLE=Hauptstraße 13 a:geo:8.4668501,50.1820975
END:VEVENT
BEGIN:VEVENT
DTSTART;TZID=Europe/Berlin:20240317T150000
DTEND;TZID=Europe/Berlin:20240317T150000
DTSTAMP:20260425T181042
CREATED:20240219T152132Z
LAST-MODIFIED:20240312T123204Z
UID:10000270-1710687600-1710687600@xn--knigstein-erleben-zzb.de
SUMMARY:Königsteiner Stadt- und Burgführung
DESCRIPTION:Foto: Martin Keutner \n\nUnterhaltsamer Spaziergang durch Kurpark und Stadtmitte auf die Burg \nIm Mittelpunkt der etwa 90-minütigen Führung steht die Burgruine. Die Burganlage\, die zu den größten ihrer Art in Deutschland zählt\, wird gemeinsam erkundet. Ihre wechselvolle Geschichte reicht von der mittelalterlichen Ritterburg über das Schloss der Renaissance bis zur Nutzung als Staatsgefängnis. Jede Epoche hat ihre Spuren hinterlassen\, die es zu entdecken gilt. \nAuf dem Weg hinauf bleibt genügend Zeit\, um das eine oder andere weitere Highlight der vielen Königsteiner Sehenswürdigkeiten und Gegebenheiten kennenzulernen\, darunter die Villa Borgnis\, eine der ersten mondänen Sommervillen\, den Verlauf der alten Reichsstraße durch Königstein\, das Königsteiner Kurbad\, das farbenfroh im Gegenhang des Burgbergs leuchtet und die Entwicklung Königsteins als Gesundheitsstandortort und Heilklimatischen Kurort. \nKonditionen\nDie Teilnahme kostet 5 Euro\, mit Königsteiner Kur- oder Gästekarte 2\,50 Euro\nKinder mitlaufender Eltern sind (bis zum 18. Geburtstag) frei \nUm Anmeldung wird gebeten:\nTelefon: (0 61 74) 202 251 oder\nE-Mail: info@koenigstein.de \nVeranstalterin\nist die Kur- und Stadtinformation in Kooperation mit dem Stadtarchiv der Stadt Königstein im Taunus \n  \n 
URL:https://xn--knigstein-erleben-zzb.de/event/koenigsteiner-stadt-und-burgfuehrung-3/
LOCATION:Treffpunkt: Kur- und Stadtinformation\, Hauptstraße 13 a\, Königstein im Taunus\, Hessen\, 61462\, Germany
CATEGORIES:Führung
ATTACH;FMTTYPE=image/jpeg:https://xn--knigstein-erleben-zzb.de/wp-content/uploads/2024/02/KSBF-Koenigsteiner-Burg-Martin-Keutner-Beschnitt-fuer-Wordpress-scaled.jpg
ORGANIZER;CN="Kur- und Stadtinformation K%C3%B6nigstein":MAILTO:info@koenigstein.de
GEO:50.1820975;8.4668501
X-APPLE-STRUCTURED-LOCATION;VALUE=URI;X-ADDRESS=Treffpunkt: Kur- und Stadtinformation Hauptstraße 13 a Königstein im Taunus Hessen 61462 Germany;X-APPLE-RADIUS=500;X-TITLE=Hauptstraße 13 a:geo:8.4668501,50.1820975
END:VEVENT
END:VCALENDAR