BEGIN:VCALENDAR
VERSION:2.0
PRODID:-//Königstein - Erleben - ECPv6.15.19//NONSGML v1.0//EN
CALSCALE:GREGORIAN
METHOD:PUBLISH
X-ORIGINAL-URL:https://xn--knigstein-erleben-zzb.de
X-WR-CALDESC:Veranstaltungen für Königstein - Erleben
REFRESH-INTERVAL;VALUE=DURATION:PT1H
X-Robots-Tag:noindex
X-PUBLISHED-TTL:PT1H
BEGIN:VTIMEZONE
TZID:Europe/Berlin
BEGIN:DAYLIGHT
TZOFFSETFROM:+0100
TZOFFSETTO:+0200
TZNAME:CEST
DTSTART:20250330T010000
END:DAYLIGHT
BEGIN:STANDARD
TZOFFSETFROM:+0200
TZOFFSETTO:+0100
TZNAME:CET
DTSTART:20251026T010000
END:STANDARD
BEGIN:DAYLIGHT
TZOFFSETFROM:+0100
TZOFFSETTO:+0200
TZNAME:CEST
DTSTART:20260329T010000
END:DAYLIGHT
BEGIN:STANDARD
TZOFFSETFROM:+0200
TZOFFSETTO:+0100
TZNAME:CET
DTSTART:20261025T010000
END:STANDARD
BEGIN:DAYLIGHT
TZOFFSETFROM:+0100
TZOFFSETTO:+0200
TZNAME:CEST
DTSTART:20270328T010000
END:DAYLIGHT
BEGIN:STANDARD
TZOFFSETFROM:+0200
TZOFFSETTO:+0100
TZNAME:CET
DTSTART:20271031T010000
END:STANDARD
END:VTIMEZONE
BEGIN:VEVENT
DTSTART;VALUE=DATE:20260305
DTEND;VALUE=DATE:20260417
DTSTAMP:20260426T060614
CREATED:20260304T082317Z
LAST-MODIFIED:20260304T082317Z
UID:10019870-1772668800-1776383999@xn--knigstein-erleben-zzb.de
SUMMARY:Ausstellung "Frank Leske von Köpfen und Körpern"
DESCRIPTION:Plakat wurde vom Veranstalter zur Verfügung gestellt.
URL:https://xn--knigstein-erleben-zzb.de/event/ausstellung-frank-leske-von-koepfen-und-koerpern/
LOCATION:Claus Blumenauer Immobilien\, Frankfurter Straße 1\, Königstein im Taunus\, Hessen\, 61462\, Germany
CATEGORIES:Kunst
ATTACH;FMTTYPE=application/pdf:https://xn--knigstein-erleben-zzb.de/wp-content/uploads/2026/03/FREMD_2026-03-05-Blumenauer_Ausstellung-.pdf
GEO:50.182373;8.4680532
X-APPLE-STRUCTURED-LOCATION;VALUE=URI;X-ADDRESS=Claus Blumenauer Immobilien Frankfurter Straße 1 Königstein im Taunus Hessen 61462 Germany;X-APPLE-RADIUS=500;X-TITLE=Frankfurter Straße 1:geo:8.4680532,50.182373
END:VEVENT
END:VCALENDAR