BEGIN:VCALENDAR
VERSION:2.0
PRODID:-//Königstein - Erleben - ECPv6.15.19//NONSGML v1.0//EN
CALSCALE:GREGORIAN
METHOD:PUBLISH
X-ORIGINAL-URL:https://xn--knigstein-erleben-zzb.de
X-WR-CALDESC:Veranstaltungen für Königstein - Erleben
REFRESH-INTERVAL;VALUE=DURATION:PT1H
X-Robots-Tag:noindex
X-PUBLISHED-TTL:PT1H
BEGIN:VTIMEZONE
TZID:Europe/Berlin
BEGIN:DAYLIGHT
TZOFFSETFROM:+0100
TZOFFSETTO:+0200
TZNAME:CEST
DTSTART:20240331T010000
END:DAYLIGHT
BEGIN:STANDARD
TZOFFSETFROM:+0200
TZOFFSETTO:+0100
TZNAME:CET
DTSTART:20241027T010000
END:STANDARD
BEGIN:DAYLIGHT
TZOFFSETFROM:+0100
TZOFFSETTO:+0200
TZNAME:CEST
DTSTART:20250330T010000
END:DAYLIGHT
BEGIN:STANDARD
TZOFFSETFROM:+0200
TZOFFSETTO:+0100
TZNAME:CET
DTSTART:20251026T010000
END:STANDARD
BEGIN:DAYLIGHT
TZOFFSETFROM:+0100
TZOFFSETTO:+0200
TZNAME:CEST
DTSTART:20260329T010000
END:DAYLIGHT
BEGIN:STANDARD
TZOFFSETFROM:+0200
TZOFFSETTO:+0100
TZNAME:CET
DTSTART:20261025T010000
END:STANDARD
END:VTIMEZONE
BEGIN:VEVENT
DTSTART;TZID=Europe/Berlin:20251111T173000
DTEND;TZID=Europe/Berlin:20251111T173000
DTSTAMP:20260422T225123
CREATED:20250922T123129Z
LAST-MODIFIED:20250922T123437Z
UID:10017347-1762882200-1762882200@xn--knigstein-erleben-zzb.de
SUMMARY:Falkensteiner St. Martins-Umzug 2025
DESCRIPTION:Seit 1954 Jahren findet in Falkenstein ein Martinsumzug statt. Der Heimatverein hat vor über 30 Jahren die Ausrichtung übernommen. Der Laternenumzug wird von einer Musikkapelle begleitet. Nach dem Umzug durch Falkenstein findet das Martinsspiel der Grundschüler am Martinsfeuer auf dem Platz „Unter den Eichen“ statt und es werden Martinslieder angestimmt. \nIm Anschluss verteilt der Heimatverein Martinswecken an die Kinder und die Erwachsenen können an der Verlosung einer Martinsgans teilnehmen. Auch für das leibliche Wohl ist gesorgt mit heißen Würstchen\, Glühwein und Kinderpunsch. \nDer Heimatverein finanziert Reiter\, Pferd\, Kapelle und Martinswecken. Unterstützt wird der Martinsumzug auch von der Freiwilligen Feuerwehr als Begleitschutz und der Martin-Luther-Gemeinde mit dem Ausschank der Getränke.
URL:https://xn--knigstein-erleben-zzb.de/event/falkensteiner-st-martins-umzug-2025/
LOCATION:Treffpunkt: Friedhof Falkenstein Grenzweg zur Ev. Kirche Debusweg\, Debusweg\, Königstein im Taunus\, Hessen\, 61462\, Germany
CATEGORIES:Allgemein,Geschichte,Jugend,Kinder,Musik,Unterhaltung
ORGANIZER;CN="Heimatverein Falkenstein im Taunus e.V.":MAILTO:kontakt@heimatverein-falkenstein.de
GEO:50.1925232;8.4807158
X-APPLE-STRUCTURED-LOCATION;VALUE=URI;X-ADDRESS=Treffpunkt: Friedhof Falkenstein Grenzweg zur Ev. Kirche Debusweg Debusweg Königstein im Taunus Hessen 61462 Germany;X-APPLE-RADIUS=500;X-TITLE=Debusweg:geo:8.4807158,50.1925232
END:VEVENT
BEGIN:VEVENT
DTSTART;TZID=Europe/Berlin:20250816T190000
DTEND;TZID=Europe/Berlin:20250816T233000
DTSTAMP:20260422T225123
CREATED:20250728T092544Z
LAST-MODIFIED:20250728T094011Z
UID:10017224-1755370800-1755387000@xn--knigstein-erleben-zzb.de
SUMMARY:Open Air Kino Falkenstein - "Paddington in Peru"
DESCRIPTION:2. Open-Air-Kino auf Burg Falkenstein\n📅 14.–16. August 2025📍 Burg Falkenstein \nNach dem großen Erfolg im letzten Jahr lädt der Heimatverein Falkenstein erneut zum Open-Air-Kino in traumhafter Kulisse ein – und das gleich drei Abende lang!Freut euch auf ein französisches Filmvergnügen\, einen swingenden Big-Band-Abend mit Kinderprogramm sowie Kino für die ganze Familie mit Paddington. \n🕖 Einlass: ab 19:00 Uhr🎬 Filmstart: ca. 21:00 Uhr (bei Einbruch der Dunkelheit)🎟️ Eintritt: 7\,50 € (Erwachsene)\, 5 € (Kinder)\, nur Abendkasse🍽️ Eigene Verpflegung und Picknickdecken erlaubt \nHinweis: Nur bei trockenem Wetter – aktuelle Infos auf der Website und Social Media des Heimatvereins. \nPlakat zur Verfügung gestellt von: Heimatverein Falkenstein e.V.
URL:https://xn--knigstein-erleben-zzb.de/event/open-air-kino-falkenstein-paddington-in-peru/
LOCATION:Burgruine Falkenstein\, Am Steingarten\, Königstein\, Hessen\, 61462\, Germany
CATEGORIES:Kultur,Musik,Unterhaltung
ATTACH;FMTTYPE=image/png:https://xn--knigstein-erleben-zzb.de/wp-content/uploads/2025/07/OAK-Flyer.png
ORGANIZER;CN="Heimatverein Falkenstein im Taunus e.V.":MAILTO:kontakt@heimatverein-falkenstein.de
GEO:50.19255;8.4772969
X-APPLE-STRUCTURED-LOCATION;VALUE=URI;X-ADDRESS=Burgruine Falkenstein Am Steingarten Königstein Hessen 61462 Germany;X-APPLE-RADIUS=500;X-TITLE=Am Steingarten:geo:8.4772969,50.19255
END:VEVENT
BEGIN:VEVENT
DTSTART;TZID=Europe/Berlin:20250815T180000
DTEND;TZID=Europe/Berlin:20250815T230000
DTSTAMP:20260422T225123
CREATED:20250728T092349Z
LAST-MODIFIED:20250728T093936Z
UID:10017223-1755280800-1755298800@xn--knigstein-erleben-zzb.de
SUMMARY:Open Air Kino Falkenstein - Live Big Band "Orginal Schwarzbachtaler"
DESCRIPTION:2. Open-Air-Kino auf Burg Falkenstein\n📅 14.–16. August 2025📍 Burg Falkenstein \nNach dem großen Erfolg im letzten Jahr lädt der Heimatverein Falkenstein erneut zum Open-Air-Kino in traumhafter Kulisse ein – und das gleich drei Abende lang!Freut euch auf ein französisches Filmvergnügen\, einen swingenden Big-Band-Abend mit Kinderprogramm sowie Kino für die ganze Familie mit Paddington. \n🕖 Einlass: ab 19:00 Uhr🎬 Filmstart: ca. 21:00 Uhr (bei Einbruch der Dunkelheit)🎟️ Eintritt: 7\,50 € (Erwachsene)\, 5 € (Kinder)\, nur Abendkasse🍽️ Eigene Verpflegung und Picknickdecken erlaubt \nHinweis: Nur bei trockenem Wetter – aktuelle Infos auf der Website und Social Media des Heimatvereins. \nPlakat zur Verfügung gestellt von: Heimatverein Falkenstein e.V.
URL:https://xn--knigstein-erleben-zzb.de/event/open-air-kino-falkenstein-live-big-band-orginal-schwarzbachtaler/
LOCATION:Burgruine Falkenstein\, Am Steingarten\, Königstein\, Hessen\, 61462\, Germany
CATEGORIES:Kultur,Musik,Unterhaltung
ATTACH;FMTTYPE=image/png:https://xn--knigstein-erleben-zzb.de/wp-content/uploads/2025/07/OAK-Flyer.png
ORGANIZER;CN="Heimatverein Falkenstein im Taunus e.V.":MAILTO:kontakt@heimatverein-falkenstein.de
GEO:50.19255;8.4772969
X-APPLE-STRUCTURED-LOCATION;VALUE=URI;X-ADDRESS=Burgruine Falkenstein Am Steingarten Königstein Hessen 61462 Germany;X-APPLE-RADIUS=500;X-TITLE=Am Steingarten:geo:8.4772969,50.19255
END:VEVENT
BEGIN:VEVENT
DTSTART;TZID=Europe/Berlin:20250814T190000
DTEND;TZID=Europe/Berlin:20250814T233000
DTSTAMP:20260422T225123
CREATED:20250728T092035Z
LAST-MODIFIED:20250728T093915Z
UID:10017222-1755198000-1755214200@xn--knigstein-erleben-zzb.de
SUMMARY:Open Air Kino Falkenstein - "Oh\, la\, la ... Wer ahnt denn sowas?"
DESCRIPTION:2. Open-Air-Kino auf Burg Falkenstein\n📅 14.–16. August 2025📍 Burg Falkenstein \nNach dem großen Erfolg im letzten Jahr lädt der Heimatverein Falkenstein erneut zum Open-Air-Kino in traumhafter Kulisse ein – und das gleich drei Abende lang!Freut euch auf ein französisches Filmvergnügen\, einen swingenden Big-Band-Abend mit Kinderprogramm sowie Kino für die ganze Familie mit Paddington. \n🕖 Einlass: ab 19:00 Uhr🎬 Filmstart: ca. 21:00 Uhr (bei Einbruch der Dunkelheit)🎟️ Eintritt: 7\,50 € (Erwachsene)\, 5 € (Kinder)\, nur Abendkasse🍽️ Eigene Verpflegung und Picknickdecken erlaubt \nHinweis: Nur bei trockenem Wetter – aktuelle Infos auf der Website und Social Media des Heimatvereins. \nPlakat zur Verfügung gestellt von: Heimatverein Falkenstein e.V.
URL:https://xn--knigstein-erleben-zzb.de/event/open-air-kino-falkenstein-oh-la-la-wer-ahnt-denn-sowas/
LOCATION:Burgruine Falkenstein\, Am Steingarten\, Königstein\, Hessen\, 61462\, Germany
CATEGORIES:Kultur,Musik,Unterhaltung
ATTACH;FMTTYPE=image/png:https://xn--knigstein-erleben-zzb.de/wp-content/uploads/2025/07/OAK-Flyer.png
ORGANIZER;CN="Heimatverein Falkenstein im Taunus e.V.":MAILTO:kontakt@heimatverein-falkenstein.de
GEO:50.19255;8.4772969
X-APPLE-STRUCTURED-LOCATION;VALUE=URI;X-ADDRESS=Burgruine Falkenstein Am Steingarten Königstein Hessen 61462 Germany;X-APPLE-RADIUS=500;X-TITLE=Am Steingarten:geo:8.4772969,50.19255
END:VEVENT
END:VCALENDAR