BEGIN:VCALENDAR
VERSION:2.0
PRODID:-//Königstein - Erleben - ECPv6.15.19//NONSGML v1.0//EN
CALSCALE:GREGORIAN
METHOD:PUBLISH
X-WR-CALNAME:Königstein - Erleben
X-ORIGINAL-URL:https://xn--knigstein-erleben-zzb.de
X-WR-CALDESC:Veranstaltungen für Königstein - Erleben
REFRESH-INTERVAL;VALUE=DURATION:PT1H
X-Robots-Tag:noindex
X-PUBLISHED-TTL:PT1H
BEGIN:VTIMEZONE
TZID:Europe/Berlin
BEGIN:DAYLIGHT
TZOFFSETFROM:+0100
TZOFFSETTO:+0200
TZNAME:CEST
DTSTART:20230326T010000
END:DAYLIGHT
BEGIN:STANDARD
TZOFFSETFROM:+0200
TZOFFSETTO:+0100
TZNAME:CET
DTSTART:20231029T010000
END:STANDARD
BEGIN:DAYLIGHT
TZOFFSETFROM:+0100
TZOFFSETTO:+0200
TZNAME:CEST
DTSTART:20240331T010000
END:DAYLIGHT
BEGIN:STANDARD
TZOFFSETFROM:+0200
TZOFFSETTO:+0100
TZNAME:CET
DTSTART:20241027T010000
END:STANDARD
BEGIN:DAYLIGHT
TZOFFSETFROM:+0100
TZOFFSETTO:+0200
TZNAME:CEST
DTSTART:20250330T010000
END:DAYLIGHT
BEGIN:STANDARD
TZOFFSETFROM:+0200
TZOFFSETTO:+0100
TZNAME:CET
DTSTART:20251026T010000
END:STANDARD
END:VTIMEZONE
BEGIN:VEVENT
DTSTART;TZID=Europe/Berlin:20240926T150000
DTEND;TZID=Europe/Berlin:20240926T170000
DTSTAMP:20260424T084424
CREATED:20240924T104633Z
LAST-MODIFIED:20240924T104843Z
UID:10001610-1727362800-1727370000@xn--knigstein-erleben-zzb.de
SUMMARY:Friedhofs Café
DESCRIPTION:Foto: Arche Noah | \n\nDas Hospiz Arche Noah lädt ein zu Gesprächen über Gott und die Welt auf dem Friedhof in Königstein ein und zwar am \nDonnerstag\, 26.09. ab 15 Uhr\, direkt auf dem Friedhof. \nBei Kaffee und Gebäck gibt es die Möglichkeit sich über das Hospiz zu informieren oder/und über die eigene Trauer zu sprechen. \nEngagierte Ehrenamtliche stehen gerne für Gespräche/Austausch zur Verfügung.
URL:https://xn--knigstein-erleben-zzb.de/event/friedhofs-cafe/
LOCATION:Friedhof Königstein\, Limburger Straße 46-48\, Königstein\, 61462
CATEGORIES:Allgemein
ATTACH;FMTTYPE=image/jpeg:https://xn--knigstein-erleben-zzb.de/wp-content/uploads/2024/09/DSC_0036-scaled.jpg
GEO:50.1909337;8.4647221
X-APPLE-STRUCTURED-LOCATION;VALUE=URI;X-ADDRESS=Friedhof Königstein Limburger Straße 46-48 Königstein 61462;X-APPLE-RADIUS=500;X-TITLE=Limburger Straße 46-48:geo:8.4647221,50.1909337
END:VEVENT
BEGIN:VEVENT
DTSTART;TZID=Europe/Berlin:20240901T143000
DTEND;TZID=Europe/Berlin:20240901T143000
DTSTAMP:20260424T084424
CREATED:20240118T103050Z
LAST-MODIFIED:20240118T103052Z
UID:10000149-1725201000-1725201000@xn--knigstein-erleben-zzb.de
SUMMARY:Hospiz Arche Noah  lädt herzlich ein ... Vortrag von Prof. Traugott Roser "Sexualität in Zeiten der Trauer"
DESCRIPTION:
URL:https://xn--knigstein-erleben-zzb.de/event/hospiz-arche-noah-laedt-herzlich-ein-vortrag-von-prof-traugott-roser-sexualitaet-in-zeiten-der-trauer/
LOCATION:Gemeindehaus\, Georg-Pingler-Straße\, Königstein im Taunus\, Hessen\, 61462\, Germany
GEO:50.1854835;8.4686031
X-APPLE-STRUCTURED-LOCATION;VALUE=URI;X-ADDRESS=Gemeindehaus Georg-Pingler-Straße Königstein im Taunus Hessen 61462 Germany;X-APPLE-RADIUS=500;X-TITLE=Georg-Pingler-Straße:geo:8.4686031,50.1854835
END:VEVENT
BEGIN:VEVENT
DTSTART;TZID=Europe/Berlin:20240601T180000
DTEND;TZID=Europe/Berlin:20240601T200000
DTSTAMP:20260424T084424
CREATED:20240516T122606Z
LAST-MODIFIED:20240523T154728Z
UID:10000742-1717264800-1717272000@xn--knigstein-erleben-zzb.de
SUMMARY:Benefizkonzert & Kunstausstellung
DESCRIPTION:Herzliche Einladung der Hospizgemeinschaft Arche Noah Hochtaunus zu einem Benefizkonzert\, das mit einer Kunstausstellung kombiniert ist. Es tritt auf das Duo Bravo. Mit Robert Varady (Geige)\, der als Teufelsgeiger bereits als zwölfjähriger international gefeiert wurde und als Konzertmeister und Solokünstler an der Philharmonier Budapest bekannt ist mit seiner Ehefrau Iryna\, die schon früh als Pianistin Karriere machte. Beide spielen Werke  aus Klassik\, Film\, Operetten\, Oper und Musicals bis hin zur Moderne. \nParalell stellt der überregionale Künstler Peter Seharsch seine Landschaftsbilder\, Blumenmotive und Porträts aus. Seit 2021 ist Seharsch Künstler\, Galerist und Dozent Träger der hessischen Ehrenurkunde für Kunst und Kultur. \nZwei der Kunstwerke im Gesamtwert von 3.000\,00 Euro werden an dem Abend verlost. \nDer Eintritt zur Veranstaltung ist frei\, eine Spende für die Hospizarbeit wird erbeten.
URL:https://xn--knigstein-erleben-zzb.de/event/benefizkonzert-kunstausstellung/
LOCATION:Kath. Gemeindezentrum St. Marien\, Georg-Pingler-Straße 26\, Königstein im Taunus\, Hessen\, 61462\, Germany
CATEGORIES:Allgemein,Konzert,Kultur
ATTACH;FMTTYPE=image/jpeg:https://xn--knigstein-erleben-zzb.de/wp-content/uploads/2024/05/2024-06-01-Benefizk.-Hospiz.jpg
GEO:50.1854835;8.4686031
X-APPLE-STRUCTURED-LOCATION;VALUE=URI;X-ADDRESS=Kath. Gemeindezentrum St. Marien Georg-Pingler-Straße 26 Königstein im Taunus Hessen 61462 Germany;X-APPLE-RADIUS=500;X-TITLE=Georg-Pingler-Straße 26:geo:8.4686031,50.1854835
END:VEVENT
BEGIN:VEVENT
DTSTART;TZID=Europe/Berlin:20240425T173000
DTEND;TZID=Europe/Berlin:20240425T173000
DTSTAMP:20260424T084424
CREATED:20240118T102928Z
LAST-MODIFIED:20240118T102929Z
UID:10000148-1714066200-1714066200@xn--knigstein-erleben-zzb.de
SUMMARY:Hospiz Arche Noah  lädt herzlich ein ... Diskussionsrunde mit Ullrich Paul "Palliativmedizin im Jahr 2024"
DESCRIPTION:
URL:https://xn--knigstein-erleben-zzb.de/event/hospiz-arche-noah-laedt-herzlich-ein-diskussionsrunde-mit-ullrich-paul-palliativmedizin-im-jahr-2024/
LOCATION:Gemeindehaus\, Georg-Pingler-Straße\, Königstein im Taunus\, Hessen\, 61462\, Germany
GEO:50.1854835;8.4686031
X-APPLE-STRUCTURED-LOCATION;VALUE=URI;X-ADDRESS=Gemeindehaus Georg-Pingler-Straße Königstein im Taunus Hessen 61462 Germany;X-APPLE-RADIUS=500;X-TITLE=Georg-Pingler-Straße:geo:8.4686031,50.1854835
END:VEVENT
BEGIN:VEVENT
DTSTART;TZID=Europe/Berlin:20240316T143000
DTEND;TZID=Europe/Berlin:20240316T143000
DTSTAMP:20260424T084424
CREATED:20240118T102757Z
LAST-MODIFIED:20240118T102800Z
UID:10000147-1710599400-1710599400@xn--knigstein-erleben-zzb.de
SUMMARY:Hospiz Arche Noah  lädt herzlich ein ... Vortrag Prof. Armin Gissel "Trauerarbeit für Menschen mit geistiger Behinderung"
DESCRIPTION:
URL:https://xn--knigstein-erleben-zzb.de/event/hospiz-arche-noah-laedt-herzlich-ein-vortrag-prof-armin-gissel-trauerarbeit-fuer-menschen-mit-geistiger-behinderung/
LOCATION:Gemeindehaus\, Georg-Pingler-Straße\, Königstein im Taunus\, Hessen\, 61462\, Germany
GEO:50.1854835;8.4686031
X-APPLE-STRUCTURED-LOCATION;VALUE=URI;X-ADDRESS=Gemeindehaus Georg-Pingler-Straße Königstein im Taunus Hessen 61462 Germany;X-APPLE-RADIUS=500;X-TITLE=Georg-Pingler-Straße:geo:8.4686031,50.1854835
END:VEVENT
BEGIN:VEVENT
DTSTART;TZID=Europe/Berlin:20240204T143000
DTEND;TZID=Europe/Berlin:20240204T143000
DTSTAMP:20260424T084424
CREATED:20240118T102558Z
LAST-MODIFIED:20240118T102559Z
UID:10000146-1707057000-1707057000@xn--knigstein-erleben-zzb.de
SUMMARY:Hospiz Arche Noah  lädt herzlich ein ... Lesung mit Jochen Jülicher "Solange ihr mich liebt"
DESCRIPTION:
URL:https://xn--knigstein-erleben-zzb.de/event/hospiz-arche-noah-laedt-herzlich-ein-lesung-mit-jochen-juelicher-solange-ihr-mich-liebt/
LOCATION:Gemeindehaus\, Georg-Pingler-Straße\, Königstein im Taunus\, Hessen\, 61462\, Germany
GEO:50.1854835;8.4686031
X-APPLE-STRUCTURED-LOCATION;VALUE=URI;X-ADDRESS=Gemeindehaus Georg-Pingler-Straße Königstein im Taunus Hessen 61462 Germany;X-APPLE-RADIUS=500;X-TITLE=Georg-Pingler-Straße:geo:8.4686031,50.1854835
END:VEVENT
END:VCALENDAR