BEGIN:VCALENDAR
VERSION:2.0
PRODID:-//Königstein - Erleben - ECPv6.15.19//NONSGML v1.0//EN
CALSCALE:GREGORIAN
METHOD:PUBLISH
X-WR-CALNAME:Königstein - Erleben
X-ORIGINAL-URL:https://xn--knigstein-erleben-zzb.de
X-WR-CALDESC:Veranstaltungen für Königstein - Erleben
REFRESH-INTERVAL;VALUE=DURATION:PT1H
X-Robots-Tag:noindex
X-PUBLISHED-TTL:PT1H
BEGIN:VTIMEZONE
TZID:Europe/Berlin
BEGIN:DAYLIGHT
TZOFFSETFROM:+0100
TZOFFSETTO:+0200
TZNAME:CEST
DTSTART:20230326T010000
END:DAYLIGHT
BEGIN:STANDARD
TZOFFSETFROM:+0200
TZOFFSETTO:+0100
TZNAME:CET
DTSTART:20231029T010000
END:STANDARD
BEGIN:DAYLIGHT
TZOFFSETFROM:+0100
TZOFFSETTO:+0200
TZNAME:CEST
DTSTART:20240331T010000
END:DAYLIGHT
BEGIN:STANDARD
TZOFFSETFROM:+0200
TZOFFSETTO:+0100
TZNAME:CET
DTSTART:20241027T010000
END:STANDARD
BEGIN:DAYLIGHT
TZOFFSETFROM:+0100
TZOFFSETTO:+0200
TZNAME:CEST
DTSTART:20250330T010000
END:DAYLIGHT
BEGIN:STANDARD
TZOFFSETFROM:+0200
TZOFFSETTO:+0100
TZNAME:CET
DTSTART:20251026T010000
END:STANDARD
BEGIN:DAYLIGHT
TZOFFSETFROM:+0100
TZOFFSETTO:+0200
TZNAME:CEST
DTSTART:20260329T010000
END:DAYLIGHT
BEGIN:STANDARD
TZOFFSETFROM:+0200
TZOFFSETTO:+0100
TZNAME:CET
DTSTART:20261025T010000
END:STANDARD
BEGIN:DAYLIGHT
TZOFFSETFROM:+0100
TZOFFSETTO:+0200
TZNAME:CEST
DTSTART:20270328T010000
END:DAYLIGHT
BEGIN:STANDARD
TZOFFSETFROM:+0200
TZOFFSETTO:+0100
TZNAME:CET
DTSTART:20271031T010000
END:STANDARD
END:VTIMEZONE
BEGIN:VEVENT
DTSTART;TZID=Europe/Berlin:20260410T140000
DTEND;TZID=Europe/Berlin:20260410T140000
DTSTAMP:20260419T222725
CREATED:20260318T125211Z
LAST-MODIFIED:20260318T141033Z
UID:10021843-1775829600-1775829600@xn--knigstein-erleben-zzb.de
SUMMARY:Osterferienprogramm 2026 der Jugendarbeit Königstein
DESCRIPTION:Das JuZ-Team lädt zum Fußballturnier ein\, mit selbstgemachten Sportgetränken\, gesunden Snacks und spektakulären Toren.\nTurnierbeginn 14.00 Uhr. \nKostenlos – Anmeldung vor Ort ab 13.45 Uhr (die Anmeldung dient nur zur Erfassung für die Mannschaften – wer spielt in welcher Mannschaft und wie viele Mannschaften gibt es überhaupt). Für Jugendliche zwischen 12 und 21 Jahren \nZu Ende ist es sobald es zu Ende ist ! \nMehr Infos gibt es hier… \n \nPlakat: JUZ Königstein
URL:https://xn--knigstein-erleben-zzb.de/event/osterferienprogramm-2026-der-jugendarbeit-koenigstein-fussballturnier/
LOCATION:Bolzplatz Schneidhain\, Zum Braubachtal\, Königstein-Schneidhain\, 61462
CATEGORIES:Gesundheit,Jugend,Sport,Verköstigung
ATTACH;FMTTYPE=application/pdf:https://xn--knigstein-erleben-zzb.de/wp-content/uploads/2026/03/JUZ_2026-034-klein_Oserferienprogramm-2026-1.pdf
ORGANIZER;CN="JuZ K%C3%B6nigstein":MAILTO:jugendarbeit@koenigstein.de
GEO:50.1711355;8.4527687
X-APPLE-STRUCTURED-LOCATION;VALUE=URI;X-ADDRESS=Bolzplatz Schneidhain Zum Braubachtal Königstein-Schneidhain 61462;X-APPLE-RADIUS=500;X-TITLE=Zum Braubachtal:geo:8.4527687,50.1711355
END:VEVENT
BEGIN:VEVENT
DTSTART;TZID=Europe/Berlin:20260408T100000
DTEND;TZID=Europe/Berlin:20260408T170000
DTSTAMP:20260419T222725
CREATED:20260318T121306Z
LAST-MODIFIED:20260318T140900Z
UID:10021833-1775642400-1775667600@xn--knigstein-erleben-zzb.de
SUMMARY:Osterferienprogramm 2026 der Jugendarbeit Königstein
DESCRIPTION:Osterferienprogramm der Jugendarbeit Königstein\nAusflug mit dem JUZ-Team in das „Erlebnisbad Miramar“ – genießt einen Tag voller Wellen\, Rutschen und unvergesslicher Momente. Für Jugendliche zwischen 12 und 21 Jahren \nTreffpunkt & Abfahrt: Jugendhaus Königstein \nKosten: 15\,00 Euro pro Person –  eine Anmeldung ist erforderlich! \nAnmeldung und Fragen über diesen Link…  \n  \n \nPlakat: Jugendarbeit Königstein
URL:https://xn--knigstein-erleben-zzb.de/event/osterferienprogramm-jugendarbeit-koenigstein-erlebnisbad-miramar/
LOCATION:Treffpunkt & Abfahrt: Jugendhaus Königstein\, Schneidhainer Straße 2\, Königstein im Taunus\, Hessen\, 61462\, Germany
CATEGORIES:Ausflug,Jugend,Sport
ATTACH;FMTTYPE=application/pdf:https://xn--knigstein-erleben-zzb.de/wp-content/uploads/2026/03/JUZ_2026-034-klein_Oserferienprogramm-2026.pdf
ORGANIZER;CN="JuZ K%C3%B6nigstein":MAILTO:jugendarbeit@koenigstein.de
GEO:50.178767;8.4663305
X-APPLE-STRUCTURED-LOCATION;VALUE=URI;X-ADDRESS=Treffpunkt & Abfahrt: Jugendhaus Königstein Schneidhainer Straße 2 Königstein im Taunus Hessen 61462 Germany;X-APPLE-RADIUS=500;X-TITLE=Schneidhainer Straße 2:geo:8.4663305,50.178767
END:VEVENT
BEGIN:VEVENT
DTSTART;TZID=Europe/Berlin:20260402T180000
DTEND;TZID=Europe/Berlin:20260402T220000
DTSTAMP:20260419T222725
CREATED:20260318T133249Z
LAST-MODIFIED:20260318T140417Z
UID:10021837-1775152800-1775167200@xn--knigstein-erleben-zzb.de
SUMMARY:Osterferienprogramm 2026 der Jugendarbeit Königstein
DESCRIPTION:Das JuZ-Team lädt in den Osterferien zur Lightpainting & Schwarzlichtkunst ein.\nIm dunkeln Bilder mit Licht malen und mit ganz besonderem Licht – dem Schwarzlicht – kreative Werke gestalten (in Zusammenarbeit mit der VHS Hochtunus). \nAnmeldung erforderlich!  \nDie Veranstaltung besteht aus vier Terminen.\nMontag\, 30. März 2026 – 9.00 bis 13.00 Uhr\nDienstag\, 31. März 2026 – 9.00 bis 13.00 Uhr\nMittwoch\, 01. April 2026 – 9.00 bis 13.00 Uhr\nDonnerstag\, 02. April 2026 – 18.00 bis 22.00 Uhr \nFür Jugendliche zwischen 12 und 21 Jahren \n \nPlakat: JuZ Königstein \n 
URL:https://xn--knigstein-erleben-zzb.de/event/lightpainting-schwarzlichkunst/2026-04-02/
LOCATION:Jugendhaus Königstein\, Schneidhainer Straße 2\, Königstein\, 61462\, Deutschland
CATEGORIES:Allgemein,Jugend,Kunst
ATTACH;FMTTYPE=application/pdf:https://xn--knigstein-erleben-zzb.de/wp-content/uploads/2026/03/JUZ_2026-034-klein_Oserferienprogramm-2026-4.pdf
ORGANIZER;CN="JuZ K%C3%B6nigstein":MAILTO:jugendarbeit@koenigstein.de
GEO:50.178767;8.4663305
X-APPLE-STRUCTURED-LOCATION;VALUE=URI;X-ADDRESS=Jugendhaus Königstein Schneidhainer Straße 2 Königstein 61462 Deutschland;X-APPLE-RADIUS=500;X-TITLE=Schneidhainer Straße 2:geo:8.4663305,50.178767
END:VEVENT
BEGIN:VEVENT
DTSTART;TZID=Europe/Berlin:20260401T090000
DTEND;TZID=Europe/Berlin:20260401T130000
DTSTAMP:20260419T222725
CREATED:20260318T133249Z
LAST-MODIFIED:20260318T140417Z
UID:10021835-1775034000-1775048400@xn--knigstein-erleben-zzb.de
SUMMARY:Osterferienprogramm 2026 der Jugendarbeit Königstein
DESCRIPTION:Das JuZ-Team lädt in den Osterferien zur Lightpainting & Schwarzlichtkunst ein.\nIm dunkeln Bilder mit Licht malen und mit ganz besonderem Licht – dem Schwarzlicht – kreative Werke gestalten (in Zusammenarbeit mit der VHS Hochtunus). \nAnmeldung erforderlich!  \nDie Veranstaltung besteht aus vier Terminen.\nMontag\, 30. März 2026 – 9.00 bis 13.00 Uhr\nDienstag\, 31. März 2026 – 9.00 bis 13.00 Uhr\nMittwoch\, 01. April 2026 – 9.00 bis 13.00 Uhr\nDonnerstag\, 02. April 2026 – 18.00 bis 22.00 Uhr \nFür Jugendliche zwischen 12 und 21 Jahren \n \nPlakat: JuZ Königstein \n 
URL:https://xn--knigstein-erleben-zzb.de/event/lightpainting-schwarzlichkunst/2026-04-01/
LOCATION:Jugendhaus Königstein\, Schneidhainer Straße 2\, Königstein\, 61462\, Deutschland
CATEGORIES:Allgemein,Jugend,Kunst
ATTACH;FMTTYPE=application/pdf:https://xn--knigstein-erleben-zzb.de/wp-content/uploads/2026/03/JUZ_2026-034-klein_Oserferienprogramm-2026-4.pdf
ORGANIZER;CN="JuZ K%C3%B6nigstein":MAILTO:jugendarbeit@koenigstein.de
GEO:50.178767;8.4663305
X-APPLE-STRUCTURED-LOCATION;VALUE=URI;X-ADDRESS=Jugendhaus Königstein Schneidhainer Straße 2 Königstein 61462 Deutschland;X-APPLE-RADIUS=500;X-TITLE=Schneidhainer Straße 2:geo:8.4663305,50.178767
END:VEVENT
BEGIN:VEVENT
DTSTART;TZID=Europe/Berlin:20260331T150000
DTEND;TZID=Europe/Berlin:20260331T200000
DTSTAMP:20260419T222725
CREATED:20260318T131924Z
LAST-MODIFIED:20260318T140749Z
UID:10021830-1774969200-1774987200@xn--knigstein-erleben-zzb.de
SUMMARY:Osterferienprogramm 2026 der Jugendarbeit Königstein
DESCRIPTION:Einladung des JUZ-Team zum leckeren Grillen in allen Geschmacksrichtungen\nKostenlos und ohne Anmeldung! Für Jugendliche zwischen 12 und 21 Jahren \n \nPlakat: Jugendarbeit Königstein
URL:https://xn--knigstein-erleben-zzb.de/event/osterferienprogramm-2026-der-jugendarbeit-koenigstein/
LOCATION:Jugendhaus Königstein\, Schneidhainer Straße 2\, Königstein\, 61462\, Deutschland
CATEGORIES:Genuss,Jugend,Kultur,Verköstigung
ATTACH;FMTTYPE=application/pdf:https://xn--knigstein-erleben-zzb.de/wp-content/uploads/2026/03/JUZ_2026-034-klein_Oserferienprogramm-2026-3.pdf
ORGANIZER;CN="JuZ K%C3%B6nigstein":MAILTO:jugendarbeit@koenigstein.de
GEO:50.178767;8.4663305
X-APPLE-STRUCTURED-LOCATION;VALUE=URI;X-ADDRESS=Jugendhaus Königstein Schneidhainer Straße 2 Königstein 61462 Deutschland;X-APPLE-RADIUS=500;X-TITLE=Schneidhainer Straße 2:geo:8.4663305,50.178767
END:VEVENT
BEGIN:VEVENT
DTSTART;TZID=Europe/Berlin:20260331T090000
DTEND;TZID=Europe/Berlin:20260331T130000
DTSTAMP:20260419T222725
CREATED:20260318T133249Z
LAST-MODIFIED:20260318T140417Z
UID:10021834-1774947600-1774962000@xn--knigstein-erleben-zzb.de
SUMMARY:Osterferienprogramm 2026 der Jugendarbeit Königstein
DESCRIPTION:Das JuZ-Team lädt in den Osterferien zur Lightpainting & Schwarzlichtkunst ein.\nIm dunkeln Bilder mit Licht malen und mit ganz besonderem Licht – dem Schwarzlicht – kreative Werke gestalten (in Zusammenarbeit mit der VHS Hochtunus). \nAnmeldung erforderlich!  \nDie Veranstaltung besteht aus vier Terminen.\nMontag\, 30. März 2026 – 9.00 bis 13.00 Uhr\nDienstag\, 31. März 2026 – 9.00 bis 13.00 Uhr\nMittwoch\, 01. April 2026 – 9.00 bis 13.00 Uhr\nDonnerstag\, 02. April 2026 – 18.00 bis 22.00 Uhr \nFür Jugendliche zwischen 12 und 21 Jahren \n \nPlakat: JuZ Königstein \n 
URL:https://xn--knigstein-erleben-zzb.de/event/lightpainting-schwarzlichkunst/2026-03-31/
LOCATION:Jugendhaus Königstein\, Schneidhainer Straße 2\, Königstein\, 61462\, Deutschland
CATEGORIES:Allgemein,Jugend,Kunst
ATTACH;FMTTYPE=application/pdf:https://xn--knigstein-erleben-zzb.de/wp-content/uploads/2026/03/JUZ_2026-034-klein_Oserferienprogramm-2026-4.pdf
ORGANIZER;CN="JuZ K%C3%B6nigstein":MAILTO:jugendarbeit@koenigstein.de
GEO:50.178767;8.4663305
X-APPLE-STRUCTURED-LOCATION;VALUE=URI;X-ADDRESS=Jugendhaus Königstein Schneidhainer Straße 2 Königstein 61462 Deutschland;X-APPLE-RADIUS=500;X-TITLE=Schneidhainer Straße 2:geo:8.4663305,50.178767
END:VEVENT
BEGIN:VEVENT
DTSTART;TZID=Europe/Berlin:20260330T090000
DTEND;TZID=Europe/Berlin:20260330T130000
DTSTAMP:20260419T222725
CREATED:20260318T133249Z
LAST-MODIFIED:20260318T140417Z
UID:10021829-1774861200-1774875600@xn--knigstein-erleben-zzb.de
SUMMARY:Osterferienprogramm 2026 der Jugendarbeit Königstein
DESCRIPTION:Das JuZ-Team lädt in den Osterferien zur Lightpainting & Schwarzlichtkunst ein.\nIm dunkeln Bilder mit Licht malen und mit ganz besonderem Licht – dem Schwarzlicht – kreative Werke gestalten (in Zusammenarbeit mit der VHS Hochtunus). \nAnmeldung erforderlich!  \nDie Veranstaltung besteht aus vier Terminen.\nMontag\, 30. März 2026 – 9.00 bis 13.00 Uhr\nDienstag\, 31. März 2026 – 9.00 bis 13.00 Uhr\nMittwoch\, 01. April 2026 – 9.00 bis 13.00 Uhr\nDonnerstag\, 02. April 2026 – 18.00 bis 22.00 Uhr \nFür Jugendliche zwischen 12 und 21 Jahren \n \nPlakat: JuZ Königstein \n 
URL:https://xn--knigstein-erleben-zzb.de/event/lightpainting-schwarzlichkunst/2026-03-30/
LOCATION:Jugendhaus Königstein\, Schneidhainer Straße 2\, Königstein\, 61462\, Deutschland
CATEGORIES:Allgemein,Jugend,Kunst
ATTACH;FMTTYPE=application/pdf:https://xn--knigstein-erleben-zzb.de/wp-content/uploads/2026/03/JUZ_2026-034-klein_Oserferienprogramm-2026-4.pdf
ORGANIZER;CN="JuZ K%C3%B6nigstein":MAILTO:jugendarbeit@koenigstein.de
GEO:50.178767;8.4663305
X-APPLE-STRUCTURED-LOCATION;VALUE=URI;X-ADDRESS=Jugendhaus Königstein Schneidhainer Straße 2 Königstein 61462 Deutschland;X-APPLE-RADIUS=500;X-TITLE=Schneidhainer Straße 2:geo:8.4663305,50.178767
END:VEVENT
BEGIN:VEVENT
DTSTART;TZID=Europe/Berlin:20251031T170000
DTEND;TZID=Europe/Berlin:20251031T230000
DTSTAMP:20260419T222725
CREATED:20250926T151120Z
LAST-MODIFIED:20250926T151154Z
UID:10017410-1761930000-1761951600@xn--knigstein-erleben-zzb.de
SUMMARY:Halloweenparty im Jugendhaus Königstein
DESCRIPTION:Halloweenparty im Jugendhaus\nWer verkleidet kommt\, bekommt ein Freigetränk! Für gruselige Snacks ist gesorgt! Ohne Anmeldung und kostenlos. \n \nPlakat: Jugendarbeit der Stadt Königstein im Taunus
URL:https://xn--knigstein-erleben-zzb.de/event/halloweenparty-im-jugendhaus-koenigstein/
LOCATION:Jugendhaus Königstein\, Schneidhainer Straße 2\, Königstein\, 61462\, Deutschland
CATEGORIES:Allgemein,Jugend,Unterhaltung
ATTACH;FMTTYPE=application/pdf:https://xn--knigstein-erleben-zzb.de/wp-content/uploads/2025/09/FREMD_-Jugendhaus-Herbstprogramm-Flyer-12-4.pdf
ORGANIZER;CN="JuZ K%C3%B6nigstein":MAILTO:jugendarbeit@koenigstein.de
GEO:50.178767;8.4663305
X-APPLE-STRUCTURED-LOCATION;VALUE=URI;X-ADDRESS=Jugendhaus Königstein Schneidhainer Straße 2 Königstein 61462 Deutschland;X-APPLE-RADIUS=500;X-TITLE=Schneidhainer Straße 2:geo:8.4663305,50.178767
END:VEVENT
BEGIN:VEVENT
DTSTART;TZID=Europe/Berlin:20251016T160000
DTEND;TZID=Europe/Berlin:20251016T200000
DTSTAMP:20260419T222725
CREATED:20250926T150609Z
LAST-MODIFIED:20250926T150648Z
UID:10017409-1760630400-1760644800@xn--knigstein-erleben-zzb.de
SUMMARY:Herbstprogramm Jugendarbeit - Kreativtag
DESCRIPTION:Gestalte deine Herbstleinwand oder DIY – Herbstlaterne!\n  \n \nPlakat: Jugendarbeit der Stadt Königstein im Taunus
URL:https://xn--knigstein-erleben-zzb.de/event/herbstprogramm-jugendarbeit-kreativtag/
LOCATION:Jugendhaus Königstein\, Schneidhainer Straße 2\, Königstein\, 61462\, Deutschland
CATEGORIES:Allgemein,Jugend,Unterhaltung
ATTACH;FMTTYPE=application/pdf:https://xn--knigstein-erleben-zzb.de/wp-content/uploads/2025/09/FREMD_-Jugendhaus-Herbstprogramm-Flyer-12-3.pdf
ORGANIZER;CN="JuZ K%C3%B6nigstein":MAILTO:jugendarbeit@koenigstein.de
GEO:50.178767;8.4663305
X-APPLE-STRUCTURED-LOCATION;VALUE=URI;X-ADDRESS=Jugendhaus Königstein Schneidhainer Straße 2 Königstein 61462 Deutschland;X-APPLE-RADIUS=500;X-TITLE=Schneidhainer Straße 2:geo:8.4663305,50.178767
END:VEVENT
BEGIN:VEVENT
DTSTART;TZID=Europe/Berlin:20251015T143000
DTEND;TZID=Europe/Berlin:20251015T190000
DTSTAMP:20260419T222725
CREATED:20250926T150351Z
LAST-MODIFIED:20251012T140256Z
UID:10017408-1760538600-1760554800@xn--knigstein-erleben-zzb.de
SUMMARY:Herbstprogramm Jugendarbeit - Pixelzone Frankfurt
DESCRIPTION:Volles Actionprogramm mit interaktiven Spielen!\n  \n \nPlakat: Jugendarbeit der Stadt Königstein im Taunus
URL:https://xn--knigstein-erleben-zzb.de/event/herbstprogramm-jugendarbeit-pixelzone-frankfurt/
LOCATION:Jugendhaus Königstein\, Schneidhainer Straße 2\, Königstein\, 61462\, Deutschland
CATEGORIES:Allgemein,Ausflug,Jugend,Sport,Unterhaltung
ATTACH;FMTTYPE=application/pdf:https://xn--knigstein-erleben-zzb.de/wp-content/uploads/2025/09/FREMD_-Jugendhaus-Herbstprogramm-Flyer-12-2.pdf
ORGANIZER;CN="JuZ K%C3%B6nigstein":MAILTO:jugendarbeit@koenigstein.de
GEO:50.178767;8.4663305
X-APPLE-STRUCTURED-LOCATION;VALUE=URI;X-ADDRESS=Jugendhaus Königstein Schneidhainer Straße 2 Königstein 61462 Deutschland;X-APPLE-RADIUS=500;X-TITLE=Schneidhainer Straße 2:geo:8.4663305,50.178767
END:VEVENT
BEGIN:VEVENT
DTSTART;TZID=Europe/Berlin:20251010T170000
DTEND;TZID=Europe/Berlin:20251010T200000
DTSTAMP:20260419T222725
CREATED:20250926T145813Z
LAST-MODIFIED:20250926T150154Z
UID:10017407-1760115600-1760126400@xn--knigstein-erleben-zzb.de
SUMMARY:Herbstprogramm Jugendarbeit - Werwolfabend
DESCRIPTION:Mach dich bereit für einen Abend voller Bluff\, Trug und Taktik!\n \nPlakat: Jugendarbeit der Stadt Königstein im Taunus
URL:https://xn--knigstein-erleben-zzb.de/event/herbstprogramm-jugendarbeit-werwolfabend/
LOCATION:Jugendhaus Königstein\, Schneidhainer Straße 2\, Königstein\, 61462\, Deutschland
CATEGORIES:Allgemein,Jugend,Unterhaltung
ATTACH;FMTTYPE=application/pdf:https://xn--knigstein-erleben-zzb.de/wp-content/uploads/2025/09/FREMD_-Jugendhaus-Herbstprogramm-Flyer-12.pdf
ORGANIZER;CN="JuZ K%C3%B6nigstein":MAILTO:jugendarbeit@koenigstein.de
GEO:50.178767;8.4663305
X-APPLE-STRUCTURED-LOCATION;VALUE=URI;X-ADDRESS=Jugendhaus Königstein Schneidhainer Straße 2 Königstein 61462 Deutschland;X-APPLE-RADIUS=500;X-TITLE=Schneidhainer Straße 2:geo:8.4663305,50.178767
END:VEVENT
BEGIN:VEVENT
DTSTART;TZID=Europe/Berlin:20240719T140000
DTEND;TZID=Europe/Berlin:20240719T183000
DTSTAMP:20260419T222725
CREATED:20240716T102802Z
LAST-MODIFIED:20240716T102802Z
UID:10001138-1721397600-1721413800@xn--knigstein-erleben-zzb.de
SUMMARY:Ninja Parcours Kelkheim
DESCRIPTION:Wir treffen uns am Jugendhaus in der Schneidhainerstraße 2\, 61462 Königstein im Taunus. Von dort aus fahren wir zum Ninja Parcours in Kelkheim. Dort können sich die Jugendlichen dann nach Herzenslust austoben.
URL:https://xn--knigstein-erleben-zzb.de/event/ninja-parcours-kelkheim/
LOCATION:Treffpunkt Jugendhaus\, danach Kelkheim\, Schneidhainer Straße 2\, Königstein im Taunus\, 61462
CATEGORIES:Allgemein
ATTACH;FMTTYPE=image/jpeg:https://xn--knigstein-erleben-zzb.de/wp-content/uploads/2024/07/2024-SoFe.jpg
ORGANIZER;CN="Magistrat der Stadt K%C3%B6nigstein im Taunus":MAILTO:ferienspiele@koenigstein.de
GEO:50.178767;8.4663305
X-APPLE-STRUCTURED-LOCATION;VALUE=URI;X-ADDRESS=Treffpunkt Jugendhaus danach Kelkheim Schneidhainer Straße 2 Königstein im Taunus 61462;X-APPLE-RADIUS=500;X-TITLE=Schneidhainer Straße 2:geo:8.4663305,50.178767
END:VEVENT
END:VCALENDAR