BEGIN:VCALENDAR
VERSION:2.0
PRODID:-//Königstein - Erleben - ECPv6.15.19//NONSGML v1.0//EN
CALSCALE:GREGORIAN
METHOD:PUBLISH
X-ORIGINAL-URL:https://xn--knigstein-erleben-zzb.de
X-WR-CALDESC:Veranstaltungen für Königstein - Erleben
REFRESH-INTERVAL;VALUE=DURATION:PT1H
X-Robots-Tag:noindex
X-PUBLISHED-TTL:PT1H
BEGIN:VTIMEZONE
TZID:Europe/Berlin
BEGIN:DAYLIGHT
TZOFFSETFROM:+0100
TZOFFSETTO:+0200
TZNAME:CEST
DTSTART:20240331T010000
END:DAYLIGHT
BEGIN:STANDARD
TZOFFSETFROM:+0200
TZOFFSETTO:+0100
TZNAME:CET
DTSTART:20241027T010000
END:STANDARD
BEGIN:DAYLIGHT
TZOFFSETFROM:+0100
TZOFFSETTO:+0200
TZNAME:CEST
DTSTART:20250330T010000
END:DAYLIGHT
BEGIN:STANDARD
TZOFFSETFROM:+0200
TZOFFSETTO:+0100
TZNAME:CET
DTSTART:20251026T010000
END:STANDARD
BEGIN:DAYLIGHT
TZOFFSETFROM:+0100
TZOFFSETTO:+0200
TZNAME:CEST
DTSTART:20260329T010000
END:DAYLIGHT
BEGIN:STANDARD
TZOFFSETFROM:+0200
TZOFFSETTO:+0100
TZNAME:CET
DTSTART:20261025T010000
END:STANDARD
END:VTIMEZONE
BEGIN:VEVENT
DTSTART;TZID=Europe/Berlin:20250520T173000
DTEND;TZID=Europe/Berlin:20250520T200000
DTSTAMP:20260426T001136
CREATED:20250516T115136Z
LAST-MODIFIED:20250516T115245Z
UID:10012192-1747762200-1747771200@xn--knigstein-erleben-zzb.de
SUMMARY:Informationsabend: „Privater Immobilienverkauf & Haftungsrisiken im Kaufvertrag" 
DESCRIPTION:Sind Sie Immobilienbesitzer und möchten mehr über den aktuellen Markt erfahren? Dann laden wir Sie herzlich zu unseren Infoveranstaltungen für private Immobilienbesitzer ein! \nInformationsabend:\n„Privater Immobilienverkauf & Haftungsrisiken im Kaufvertrag“\n\nEgal\, ob Sie verkaufen\, vermieten oder einfach den Markt besser verstehen möchten –\nhier erhalten Sie wertvolle Einblicke und praxisnahe Tipps. \n  \n \nAnmeldung erforderlich*\ninfo@langimmobilien.de / 069 – 92 00 25 0\nEintritt kostenfrei | Einlass: 17:00 Uhr \nInfos & Anmeldung:\n\n  \nSichern Sie sich jetzt Ihren Platz – wir freuen uns auf Sie!\n#Immobilien #Immobilienbesitzer #Verkauf #Vermietung #Immobilienmarkt #Infoveranstaltung \n* Die Teilnehmerzahl ist begrenzt
URL:https://xn--knigstein-erleben-zzb.de/event/informationsabend-privater-immobilienverkauf-haftungsrisiken-im-kaufvertrag/
LOCATION:Haus der Begegnung\, Bischof-Kaller-Straße 3\, Königstein im Taunus\, 61462\, Germany
CATEGORIES:Allgemein,HdB,Informationsveranstaltung
ATTACH;FMTTYPE=image/jpeg:https://xn--knigstein-erleben-zzb.de/wp-content/uploads/2025/05/2025-05-20-HdB.jpg
ORGANIZER;CN="Lang Immobilien Frankfurt m Main":MAILTO:info@langimmobilien.de
GEO:50.1784427;8.4734345
X-APPLE-STRUCTURED-LOCATION;VALUE=URI;X-ADDRESS=Haus der Begegnung Bischof-Kaller-Straße 3 Königstein im Taunus 61462 Germany;X-APPLE-RADIUS=500;X-TITLE=Bischof-Kaller-Straße 3:geo:8.4734345,50.1784427
END:VEVENT
END:VCALENDAR