BEGIN:VCALENDAR
VERSION:2.0
PRODID:-//Königstein - Erleben - ECPv6.15.19//NONSGML v1.0//EN
CALSCALE:GREGORIAN
METHOD:PUBLISH
X-ORIGINAL-URL:https://xn--knigstein-erleben-zzb.de
X-WR-CALDESC:Veranstaltungen für Königstein - Erleben
REFRESH-INTERVAL;VALUE=DURATION:PT1H
X-Robots-Tag:noindex
X-PUBLISHED-TTL:PT1H
BEGIN:VTIMEZONE
TZID:Europe/Berlin
BEGIN:DAYLIGHT
TZOFFSETFROM:+0100
TZOFFSETTO:+0200
TZNAME:CEST
DTSTART:20240331T010000
END:DAYLIGHT
BEGIN:STANDARD
TZOFFSETFROM:+0200
TZOFFSETTO:+0100
TZNAME:CET
DTSTART:20241027T010000
END:STANDARD
BEGIN:DAYLIGHT
TZOFFSETFROM:+0100
TZOFFSETTO:+0200
TZNAME:CEST
DTSTART:20250330T010000
END:DAYLIGHT
BEGIN:STANDARD
TZOFFSETFROM:+0200
TZOFFSETTO:+0100
TZNAME:CET
DTSTART:20251026T010000
END:STANDARD
BEGIN:DAYLIGHT
TZOFFSETFROM:+0100
TZOFFSETTO:+0200
TZNAME:CEST
DTSTART:20260329T010000
END:DAYLIGHT
BEGIN:STANDARD
TZOFFSETFROM:+0200
TZOFFSETTO:+0100
TZNAME:CET
DTSTART:20261025T010000
END:STANDARD
END:VTIMEZONE
BEGIN:VEVENT
DTSTART;TZID=Europe/Berlin:20250816T193000
DTEND;TZID=Europe/Berlin:20250816T193000
DTSTAMP:20260424T230104
CREATED:20250502T163209Z
LAST-MODIFIED:20250728T140853Z
UID:10008467-1755372600-1755372600@xn--knigstein-erleben-zzb.de
SUMMARY:Konzert mit dem Pan Symphonie Orchester (PSO)
DESCRIPTION:Konzert mit dem Pan Symphonie Orchester (PSO)\nFür das erste von zwei Konzerten seiner diesjährigen Arbeitsphase gastiert das Pan Symphonie Orchester (PSO) erstmals in Königstein. Im Anschluss an die zweiwöchige Probenphase in Oberreifenberg freuen sich die jungen Musiker:innen einer Mischung aus Profis und Amateuren\, dem Publikum im Haus der Begegnung ein farbenfrohes und hochromantisches Programm präsentieren zu dürfen: Nach der Uraufführung in großer Besetzung der Cinematic Suite von Levent Altuntas\, der selbst Violinist im PSO ist und jüngst mit diesem Stück den 1. Preis der 2025 ScoreLive Main Title Competition erreichen konnte\, erklingt Felix Mendelssohns schillerndes Violinkonzert e-Moll\, das wie kaum ein Zweites virtuose Technik mit lyrischer Schönheit vereint. Nach einer Pause wird Gustav Mahlers monumentale und wegweisende erste Sinfonie zu erleben sein; ein tiefgründiges Werk voller Emotionen\, das dem epischen Sinfonieschaffen des berühmten österreichischen Komponisten zugrunde liegt. Als Solistin fungiert die Konzertmeisterin des Orchesters\, Léna Vannson\, Dirigent ist Kiril Stankow (Staatstheater Kassel). \nEinlass: ab 19.00 Uhr\nDauer: ca. 2 Stunden inkl. Pause \nProgramm:\nFelix Mendelssohn Bartholdy: Violinkonzert e-Moll op. 64\n– PAUSE –\nGustav Mahler: Sinfonie Nr. 1 D-Dur \nPan Symphonie Orchester\nSolistin: Léna Vannson Dirigent: Kiril Stankow \nKartenvorverkauf über EVENTFROG \nFreie Platzwahl 25\,80 Euro\nFreie Platzwahl\, Kinder\, Schüler:/innen\, Studierende/Azubi\, Behinderung GdB 80 10\,00 Euro \n    \nFotos und Logo: Pan Symphonie Orchester (PSO) mit Probenimpressionen \nInformationen zum Orchester:\nDas Pan Symphonie Orchester (PSO)\, vor inzwischen sechs Jahren gegründet\, besteht aus einem Pool von 80-100 musikbegeisterten Instrumentalist:innen aus ganz Deutschland sowie dem angrenzenden europäischen Ausland. Seinen Ursprung hat das ehrenamtlich geführte sinfonische Orchester maßgeblich in (Nord-) Hessen\, wo die Mitglieder nach teilweise mehr als einem Jahrzehnt gemeinsamen Musizierens diversen Jugend- und Studierendenorchestern entwachsen sind (zu nennen sind insbesondere das Jugendsinfonieorchester Kassel sowie das Landesjugendsinfonieorchester Hessen). Einige von ihnen haben inzwischen ein Musikstudium aufgenommen oder bereits erfolgreich abgeschlossen und sind an renommierten Häusern wie etwa der Staatsoper Hannover\, dem Philharmonischen Staatsorchester Hamburg oder dem WDR-Funkhausorchester fest angestellt. Andere betreiben ihr Instrument weiterhin ambitioniert als Hobby im Amateurbereich\, doch sie alle eint der Wunsch\, in konkurrenzlosem und freundschaftlichem Miteinander Musik zu machen und die großen Werke der Musikgeschichte zu erarbeiten sowie final auf die Bühne zu bringen. So stehen Spaß\, Energie\, Freude und familiäres Gemeinschaftsgefühl im Vordergrund\, wenn sich das Orchester meist einmal im Jahr zu einem großen Projekt zusammenfindet. \nDie Solist:innen stammen – eine Besonderheit des Orchesters – in der Regel aus den eigenen Reihen\, es konnte allerdings mit Christian Elsner auch schon ein Star-Tenor für die Partie des Siegmund in Auszügen aus Wagners Oper „Die Walküre“ gewonnen werden (2023). Essenzieller Teil der Zusammenkunft ist bereits seit Anbeginn Dirigent Kiril Stankow\, der nach Stationen unter anderem an der Oper Leipzig\, dem Staatstheater am Gärtnerplatz in München oder am Theater Vorpommern aktuell als erster koordinierter Kapellmeister am Staatstheater Kassel tätig ist. Er begleitete viele der Mitglieder lange Jahre auf ihrem musikalischen Weg und ist dem Orchester in enger Freundschaft verbunden. \nAls Hauptwerke standen in den vergangenen Jahren Bruckners 8. Sinfonie (2024)\, Mahlers 5. Sinfonie (2023)\, Tschaikowskys 6. Sinfonie (2022) sowie Beethovens 8. Sinfonie (2021\, in Kooperation mit dem JSO Kassel) auf dem Programm; bereits zuvor konnten noch unter dem Label JSO Kassel Berlioz‘ Symphonie fantastique (2018) oder in einem Jubiläumsprojekt Mahlers 3. Sinfonie (2019) gemeinsam aufgeführt werden.\nDer Entschluss zur Gründung des PSO wurde im Rahmen dieser Jubiläumsphase gefasst\, woraus die Idee zur Namensgebung entsprang: Der Musik\, Tanz und Fröhlichkeit liebende Hirtengott Pan ist Teil der Konzeption dieser damals gespielten Mahler-Sinfonie und fortan Identifikationsfigur des PSO. Diese findet sich auch im Logo mit den markanten Gesichtszügen und typisch geschwungenen Hörnern Pans (halb Mensch\, halb Widder) wieder. Gleichzeitig bilden Hals und Hörner eine stilisierte Schnecke eines Streichinstruments sowie den Buchstaben P.
URL:https://xn--knigstein-erleben-zzb.de/event/konzert-mit-dem-pan-symphonie-orchester-pso/
LOCATION:Haus der Begegnung\, Bischof-Kaller-Straße 3\, Königstein im Taunus\, 61462\, Germany
CATEGORIES:Allgemein,HdB,Konzert,Musik
ATTACH;FMTTYPE=image/jpeg:https://xn--knigstein-erleben-zzb.de/wp-content/uploads/2025/05/Foto-Pan-Symphonie-Orchester-e.-V.-2024_16-9.jpg
GEO:50.1784427;8.4734345
X-APPLE-STRUCTURED-LOCATION;VALUE=URI;X-ADDRESS=Haus der Begegnung Bischof-Kaller-Straße 3 Königstein im Taunus 61462 Germany;X-APPLE-RADIUS=500;X-TITLE=Bischof-Kaller-Straße 3:geo:8.4734345,50.1784427
END:VEVENT
END:VCALENDAR