BEGIN:VCALENDAR
VERSION:2.0
PRODID:-//Königstein - Erleben - ECPv6.15.19//NONSGML v1.0//EN
CALSCALE:GREGORIAN
METHOD:PUBLISH
X-WR-CALNAME:Königstein - Erleben
X-ORIGINAL-URL:https://xn--knigstein-erleben-zzb.de
X-WR-CALDESC:Veranstaltungen für Königstein - Erleben
REFRESH-INTERVAL;VALUE=DURATION:PT1H
X-Robots-Tag:noindex
X-PUBLISHED-TTL:PT1H
BEGIN:VTIMEZONE
TZID:Europe/Berlin
BEGIN:DAYLIGHT
TZOFFSETFROM:+0100
TZOFFSETTO:+0200
TZNAME:CEST
DTSTART:20250330T010000
END:DAYLIGHT
BEGIN:STANDARD
TZOFFSETFROM:+0200
TZOFFSETTO:+0100
TZNAME:CET
DTSTART:20251026T010000
END:STANDARD
BEGIN:DAYLIGHT
TZOFFSETFROM:+0100
TZOFFSETTO:+0200
TZNAME:CEST
DTSTART:20260329T010000
END:DAYLIGHT
BEGIN:STANDARD
TZOFFSETFROM:+0200
TZOFFSETTO:+0100
TZNAME:CET
DTSTART:20261025T010000
END:STANDARD
BEGIN:DAYLIGHT
TZOFFSETFROM:+0100
TZOFFSETTO:+0200
TZNAME:CEST
DTSTART:20270328T010000
END:DAYLIGHT
BEGIN:STANDARD
TZOFFSETFROM:+0200
TZOFFSETTO:+0100
TZNAME:CET
DTSTART:20271031T010000
END:STANDARD
END:VTIMEZONE
BEGIN:VEVENT
DTSTART;TZID=Europe/Berlin:20260221T110000
DTEND;TZID=Europe/Berlin:20260221T130000
DTSTAMP:20260424T144308
CREATED:20260123T075952Z
LAST-MODIFIED:20260123T075952Z
UID:10019352-1771671600-1771678800@xn--knigstein-erleben-zzb.de
SUMMARY:Mädchenflohmarkt der St. Angela-Schule
DESCRIPTION:Viele bunte Stände\, gute Stimmung\, coole Musik – der Mädchenflohmarkt der St. Angela-Schule ist wieder am Start! \nDieses Jahr findet bereits zum 6. Mal in Folge der Mädchenflohmarkt unter dem Motto „100% for the planet“ am Samstag\, den 21.02.2026 von 11.00 – 13.00 Uhr statt. \nDie Schülerinnen der St. Angela-Schule verkaufen gebrauchte und guterhaltene Markenkleidung\, Spielsachen\, Bücher\, Taschen\, Schmuck und vieles mehr. \nDen Anfang nahm dieses Projekt im Geographie-Unterricht: Wussten Sie\, dass die Herstellung einer neuen Jeans ca. 10-30kg CO2 hervorbringt? Dagegen wollten wir etwas unternehmen – und gut erhaltenen Dingen ein längeres Leben schenken wie gleichzeitig CO2 einsparen. \nZusätzlich bereiten zwei Klassen einen leckeren Kuchenverkauf vor und sorgen für chillige Musik. \nAls Umweltschule möchten wir einen Beitrag zum Klimaschutz leisten: Daher werden alle Standgebühren an ein regionales Klimaschutzprojekt gespendet. Die Einnahmen des Kuchen-Verkaufes fließen in die Klassenkassen. \nDer Verkauf ist ausschließlich Schülerinnen der SAS gestattet! \nAlle Käufer und Käuferinnen sind sehr herzlich eingeladen\, zu stöbern\, zu feilschen und den Klimaschutz in unserem schönen Taunus zu unterstützen. \nUnsere Mädchen & der Klimaschutz freuen sich\, wenn Sie kommen! \n \nFoto: St. Angela-Schule
URL:https://xn--knigstein-erleben-zzb.de/event/maedchenflohmarkt-der-st-angela-schule-3/
LOCATION:St. Angela Schule\, Gerichtstraße 19\, Königstein im Taunus\, Hessen\, 61462\, Germany
CATEGORIES:Allgemein,Bazar,Jugend,Kinder,Klimaschutz,Verköstigung
ATTACH;FMTTYPE=image/png:https://xn--knigstein-erleben-zzb.de/wp-content/uploads/2026/01/Maedchenflohmarkt-2026.png
ORGANIZER;CN="St. Angela-Schule":MAILTO:sekretariat@st-angela-schule.de
GEO:50.1847358;8.4656588
X-APPLE-STRUCTURED-LOCATION;VALUE=URI;X-ADDRESS=St. Angela Schule Gerichtstraße 19 Königstein im Taunus Hessen 61462 Germany;X-APPLE-RADIUS=500;X-TITLE=Gerichtstraße 19:geo:8.4656588,50.1847358
END:VEVENT
END:VCALENDAR