BEGIN:VCALENDAR
VERSION:2.0
PRODID:-//Königstein - Erleben - ECPv6.15.19//NONSGML v1.0//EN
CALSCALE:GREGORIAN
METHOD:PUBLISH
X-WR-CALNAME:Königstein - Erleben
X-ORIGINAL-URL:https://xn--knigstein-erleben-zzb.de
X-WR-CALDESC:Veranstaltungen für Königstein - Erleben
REFRESH-INTERVAL;VALUE=DURATION:PT1H
X-Robots-Tag:noindex
X-PUBLISHED-TTL:PT1H
BEGIN:VTIMEZONE
TZID:Europe/Berlin
BEGIN:DAYLIGHT
TZOFFSETFROM:+0100
TZOFFSETTO:+0200
TZNAME:CEST
DTSTART:20230326T010000
END:DAYLIGHT
BEGIN:STANDARD
TZOFFSETFROM:+0200
TZOFFSETTO:+0100
TZNAME:CET
DTSTART:20231029T010000
END:STANDARD
BEGIN:DAYLIGHT
TZOFFSETFROM:+0100
TZOFFSETTO:+0200
TZNAME:CEST
DTSTART:20240331T010000
END:DAYLIGHT
BEGIN:STANDARD
TZOFFSETFROM:+0200
TZOFFSETTO:+0100
TZNAME:CET
DTSTART:20241027T010000
END:STANDARD
BEGIN:DAYLIGHT
TZOFFSETFROM:+0100
TZOFFSETTO:+0200
TZNAME:CEST
DTSTART:20250330T010000
END:DAYLIGHT
BEGIN:STANDARD
TZOFFSETFROM:+0200
TZOFFSETTO:+0100
TZNAME:CET
DTSTART:20251026T010000
END:STANDARD
BEGIN:DAYLIGHT
TZOFFSETFROM:+0100
TZOFFSETTO:+0200
TZNAME:CEST
DTSTART:20260329T010000
END:DAYLIGHT
BEGIN:STANDARD
TZOFFSETFROM:+0200
TZOFFSETTO:+0100
TZNAME:CET
DTSTART:20261025T010000
END:STANDARD
BEGIN:DAYLIGHT
TZOFFSETFROM:+0100
TZOFFSETTO:+0200
TZNAME:CEST
DTSTART:20270328T010000
END:DAYLIGHT
BEGIN:STANDARD
TZOFFSETFROM:+0200
TZOFFSETTO:+0100
TZNAME:CET
DTSTART:20271031T010000
END:STANDARD
END:VTIMEZONE
BEGIN:VEVENT
DTSTART;TZID=Europe/Berlin:20260215T110000
DTEND;TZID=Europe/Berlin:20260215T130000
DTSTAMP:20260421T170227
CREATED:20260212T085729Z
LAST-MODIFIED:20260212T091023Z
UID:10019432-1771153200-1771160400@xn--knigstein-erleben-zzb.de
SUMMARY:Orientierungslauf – Taunus Cup
DESCRIPTION:Orientierungslauf – Taunus Cup des SC Königstein\nOrientierungslauf (kurz OL) ist eine Outdoor-Sportart\, bei der du mit Karte und Kompass verschiedene Kontrollpunkte in einem Gelände finden musst – und zwar in der kürzesten Zeit und auf einer selbst gewählten Route. Es ist eine Mischung aus Laufen\, Navigation und Abenteuer. \n\nKommt vorbei und probiert unseren Sport aus! \nAm Sonntag den 15.02.2025 treffen wir unszwischen 11:oo und 12:00 auf dem Parkplatz vom EDEKA Nolte \nEgal ob jung oder alt – jeder kann mitmachen. Ihr könnt alleine oder gemeinsam mit Freundinnen oder eurer Familie laufen\, gehen oder wandern. Macht es einfach so\, wie es euch am meisten Spaß macht. \nWir freuen uns auf euch! \n  \n \n  \nPlakat wurde vom SC Königstein e.V. zur Verfügung gestellt.
URL:https://xn--knigstein-erleben-zzb.de/event/orientierungslauf-taunus-cup/
LOCATION:EDEKA Nolte Königstein\, Limburger Straße 48\, Königstein im Taunus\, Hessen\, 61462\, Germany
CATEGORIES:Allgemein,Ausflug,Gesundheit,Jugend,Kinder,Natur & Tiere,Sport,Wandern
ATTACH;FMTTYPE=application/pdf:https://xn--knigstein-erleben-zzb.de/wp-content/uploads/2026/02/FREMD-2026-15-SCK-Orientierungslauf.pdf
GEO:50.1909337;8.4647221
X-APPLE-STRUCTURED-LOCATION;VALUE=URI;X-ADDRESS=EDEKA Nolte Königstein Limburger Straße 48 Königstein im Taunus Hessen 61462 Germany;X-APPLE-RADIUS=500;X-TITLE=Limburger Straße 48:geo:8.4647221,50.1909337
END:VEVENT
BEGIN:VEVENT
DTSTART;TZID=Europe/Berlin:20241006T130000
DTEND;TZID=Europe/Berlin:20241006T170000
DTSTAMP:20260421T170227
CREATED:20240516T094942Z
LAST-MODIFIED:20240930T094658Z
UID:10000740-1728219600-1728234000@xn--knigstein-erleben-zzb.de
SUMMARY:6. Sport- und Familienfest STARKE KINDER – 2024
DESCRIPTION:Foto: Carls Stiftung Königstein | \n\nDie Carls Stiftung Königstein möchte Kinder mit ihren Familien und Freunden motivieren\, zusammen aktiv zu sein. Das stärkt das Gemeinschaftsgefühl und schafft unvergessliche Momente. Gerade im heutigen digitalen Zeitalter sollten Sport und Bewegung sowie Aktivitäten in der Gemeinschaft nicht vergessen werden. \nEin kleiner Vorgeschmack auf die Aktionen\, die Sie erwarten:\nKinderturnen\, Spieleparcours\, Kunst-Wurf-Olympiade\, Rollenrutschen\, Fitnessübungen\, Tanzworkshops und vieles mehr. \nJeder ist WILLKOMMEN – jeder kann mitmachen. Für die Kinder gibt es den „Aktivitäten-Laufzettel“\, auf dem sie bärenstarke Klebepunkte sammeln können\, um damit an der Tombola teilzunehmen. \n  \nMehr Infos unter www.carlsstiftung.de \n  \n 
URL:https://xn--knigstein-erleben-zzb.de/event/6-sport-und-familienfest-starke-kinder-2024/
LOCATION:EDEKA Nolte Königstein\, Limburger Straße 48\, Königstein im Taunus\, Hessen\, 61462\, Germany
CATEGORIES:Allgemein,Familienfest,Sport
ATTACH;FMTTYPE=image/jpeg:https://xn--knigstein-erleben-zzb.de/wp-content/uploads/2024/05/Sportfest-Starke-Kinder-scaled.jpg
ORGANIZER;CN="Carls Stiftung K%C3%B6nigstein":MAILTO:info@carlsstiftung.de
GEO:50.1909337;8.4647221
X-APPLE-STRUCTURED-LOCATION;VALUE=URI;X-ADDRESS=EDEKA Nolte Königstein Limburger Straße 48 Königstein im Taunus Hessen 61462 Germany;X-APPLE-RADIUS=500;X-TITLE=Limburger Straße 48:geo:8.4647221,50.1909337
END:VEVENT
END:VCALENDAR