BEGIN:VCALENDAR
VERSION:2.0
PRODID:-//Königstein - Erleben - ECPv6.15.19//NONSGML v1.0//EN
CALSCALE:GREGORIAN
METHOD:PUBLISH
X-WR-CALNAME:Königstein - Erleben
X-ORIGINAL-URL:https://xn--knigstein-erleben-zzb.de
X-WR-CALDESC:Veranstaltungen für Königstein - Erleben
REFRESH-INTERVAL;VALUE=DURATION:PT1H
X-Robots-Tag:noindex
X-PUBLISHED-TTL:PT1H
BEGIN:VTIMEZONE
TZID:Europe/Berlin
BEGIN:DAYLIGHT
TZOFFSETFROM:+0100
TZOFFSETTO:+0200
TZNAME:CEST
DTSTART:20230326T010000
END:DAYLIGHT
BEGIN:STANDARD
TZOFFSETFROM:+0200
TZOFFSETTO:+0100
TZNAME:CET
DTSTART:20231029T010000
END:STANDARD
BEGIN:DAYLIGHT
TZOFFSETFROM:+0100
TZOFFSETTO:+0200
TZNAME:CEST
DTSTART:20240331T010000
END:DAYLIGHT
BEGIN:STANDARD
TZOFFSETFROM:+0200
TZOFFSETTO:+0100
TZNAME:CET
DTSTART:20241027T010000
END:STANDARD
BEGIN:DAYLIGHT
TZOFFSETFROM:+0100
TZOFFSETTO:+0200
TZNAME:CEST
DTSTART:20250330T010000
END:DAYLIGHT
BEGIN:STANDARD
TZOFFSETFROM:+0200
TZOFFSETTO:+0100
TZNAME:CET
DTSTART:20251026T010000
END:STANDARD
END:VTIMEZONE
BEGIN:VEVENT
DTSTART;TZID=Europe/Berlin:20241013T100000
DTEND;TZID=Europe/Berlin:20241013T180000
DTSTAMP:20260425T212943
CREATED:20240816T131232Z
LAST-MODIFIED:20241010T123951Z
UID:10001684-1728813600-1728842400@xn--knigstein-erleben-zzb.de
SUMMARY:Lebensfreude Messe in Königstein im Taunus 2024
DESCRIPTION:Plakat: Lebensfreude Messen und Events UG (haftungsbeschränkt) | \n\nDeine Lebensfreude Messe 2024 in dem Haus der Begegnung – Königstein steht ganz im Zeichen von Entspannung\, Wohlfühlen und Mitmachen. \nErlebe deine ganz persönliche Auszeit bei der Lebensfreude Messe 2024 im Haus der Begegnung in Königstein! Diese Messe steht für dich unter dem Motto: Entspannung\, Wohlfühlen und Mitmachen. Tauche ein in eine Welt voller Inspirationen für ein gesundes\, glückliches und nachhaltiges Leben. Bei über 60 Ausstellern kannst du zahlreiche Tipps und Produkte entdecken – und vieles gleich vor Ort ausprobieren! Im Yoga Space erwartet dich eine bunte Vielfalt an Yoga-Stilen und geführten Meditationen\, die dir helfen\, Stress abzubauen und innere Ruhe zu finden. Und für das leibliche Wohl sorgt köstliches vegetarisches Catering. Ob in den inspirierenden Fachvorträgen oder den mitreißenden Erlebnisworkshops – hier erfährst du\, wie du im Alltag fitter\, gesünder und belastbarer wirst.  Diese Messe ist deine Chance\, etwas Neues auszuprobieren und die Lebensfreude in vollen Zügen zu genießen. Sei dabei und gestalte deinen Weg zu mehr Wohlbefinden und Lebensfreude! Wir freuen uns auf dich! \nNeben zahlreichen Tipps und Produkten für ein gesundes\, glückliches und nachhaltiges Leben\, kannst du manches direkt am Stand ausprobieren und vielerlei erleben.\nIm Yoga Space kannst du verschiedene Yoga-Stile entdecken und bei geführten Meditationen mal so richtig entspannen. Genussvoll wird es mit dem vegetarischen Catering. \nBei über 60 Ausstellern und in 60 Fachvorträgen und Erlebnisworkshops erfährst du\, wie du in deinem Alltag fitter und belastbarer wirst. \nTickets:\nsind 6 Wochen vor der Veranstaltung verfügbar. \nÖffnungszeiten:\n Samstag: 10.00 – 18.00 Uhr\nSonntag: 10:00 – 18.00 Uhr \nEintrittspreise:\nTageskarte: 16\,- Euro\nErmäßigt:  online 11\,- Euro\nKinder unter 14 Jahre freier Eintritt in Begleitung Erwachsener! \nMehr Infos finden Sie unter: koenigstein-lebensfreude.de
URL:https://xn--knigstein-erleben-zzb.de/event/lebensfreude-messe-in-koenigstein-im-taunus-2024/2024-10-13/
LOCATION:Haus der Begegnung\, Bischof-Kaller-Straße 3\, Königstein im Taunus\, 61462\, Germany
CATEGORIES:Allgemein,Beratung,HdB,Informationsveranstaltung
ATTACH;FMTTYPE=image/jpeg:https://xn--knigstein-erleben-zzb.de/wp-content/uploads/2024/08/2024-10-12-Lebensfreude-Messen-Banner-Koenigstein-169-09.24.jpg
GEO:50.1784427;8.4734345
X-APPLE-STRUCTURED-LOCATION;VALUE=URI;X-ADDRESS=Haus der Begegnung Bischof-Kaller-Straße 3 Königstein im Taunus 61462 Germany;X-APPLE-RADIUS=500;X-TITLE=Bischof-Kaller-Straße 3:geo:8.4734345,50.1784427
END:VEVENT
BEGIN:VEVENT
DTSTART;TZID=Europe/Berlin:20241012T100000
DTEND;TZID=Europe/Berlin:20241012T180000
DTSTAMP:20260425T212943
CREATED:20240816T131232Z
LAST-MODIFIED:20241010T123951Z
UID:10001683-1728727200-1728756000@xn--knigstein-erleben-zzb.de
SUMMARY:Lebensfreude Messe in Königstein im Taunus 2024
DESCRIPTION:Plakat: Lebensfreude Messen und Events UG (haftungsbeschränkt) | \n\nDeine Lebensfreude Messe 2024 in dem Haus der Begegnung – Königstein steht ganz im Zeichen von Entspannung\, Wohlfühlen und Mitmachen. \nErlebe deine ganz persönliche Auszeit bei der Lebensfreude Messe 2024 im Haus der Begegnung in Königstein! Diese Messe steht für dich unter dem Motto: Entspannung\, Wohlfühlen und Mitmachen. Tauche ein in eine Welt voller Inspirationen für ein gesundes\, glückliches und nachhaltiges Leben. Bei über 60 Ausstellern kannst du zahlreiche Tipps und Produkte entdecken – und vieles gleich vor Ort ausprobieren! Im Yoga Space erwartet dich eine bunte Vielfalt an Yoga-Stilen und geführten Meditationen\, die dir helfen\, Stress abzubauen und innere Ruhe zu finden. Und für das leibliche Wohl sorgt köstliches vegetarisches Catering. Ob in den inspirierenden Fachvorträgen oder den mitreißenden Erlebnisworkshops – hier erfährst du\, wie du im Alltag fitter\, gesünder und belastbarer wirst.  Diese Messe ist deine Chance\, etwas Neues auszuprobieren und die Lebensfreude in vollen Zügen zu genießen. Sei dabei und gestalte deinen Weg zu mehr Wohlbefinden und Lebensfreude! Wir freuen uns auf dich! \nNeben zahlreichen Tipps und Produkten für ein gesundes\, glückliches und nachhaltiges Leben\, kannst du manches direkt am Stand ausprobieren und vielerlei erleben.\nIm Yoga Space kannst du verschiedene Yoga-Stile entdecken und bei geführten Meditationen mal so richtig entspannen. Genussvoll wird es mit dem vegetarischen Catering. \nBei über 60 Ausstellern und in 60 Fachvorträgen und Erlebnisworkshops erfährst du\, wie du in deinem Alltag fitter und belastbarer wirst. \nTickets:\nsind 6 Wochen vor der Veranstaltung verfügbar. \nÖffnungszeiten:\n Samstag: 10.00 – 18.00 Uhr\nSonntag: 10:00 – 18.00 Uhr \nEintrittspreise:\nTageskarte: 16\,- Euro\nErmäßigt:  online 11\,- Euro\nKinder unter 14 Jahre freier Eintritt in Begleitung Erwachsener! \nMehr Infos finden Sie unter: koenigstein-lebensfreude.de
URL:https://xn--knigstein-erleben-zzb.de/event/lebensfreude-messe-in-koenigstein-im-taunus-2024/2024-10-12/
LOCATION:Haus der Begegnung\, Bischof-Kaller-Straße 3\, Königstein im Taunus\, 61462\, Germany
CATEGORIES:Allgemein,Beratung,HdB,Informationsveranstaltung
ATTACH;FMTTYPE=image/jpeg:https://xn--knigstein-erleben-zzb.de/wp-content/uploads/2024/08/2024-10-12-Lebensfreude-Messen-Banner-Koenigstein-169-09.24.jpg
GEO:50.1784427;8.4734345
X-APPLE-STRUCTURED-LOCATION;VALUE=URI;X-ADDRESS=Haus der Begegnung Bischof-Kaller-Straße 3 Königstein im Taunus 61462 Germany;X-APPLE-RADIUS=500;X-TITLE=Bischof-Kaller-Straße 3:geo:8.4734345,50.1784427
END:VEVENT
BEGIN:VEVENT
DTSTART;TZID=Europe/Berlin:20240712T180000
DTEND;TZID=Europe/Berlin:20240712T213000
DTSTAMP:20260425T212943
CREATED:20240702T084743Z
LAST-MODIFIED:20240702T084743Z
UID:10001094-1720807200-1720819800@xn--knigstein-erleben-zzb.de
SUMMARY:Königsteiner Salon mit Bettina Stark-Watzinger
DESCRIPTION:Bildungsgerechtigkeit – Unsere Verantwortung für die nächste Generation.\nJedes Kind hat ein Grundrecht auf gute Bildung. So steht es in Artikel 28 der UN-Kinderrechtskonvention. Alle Länder der Erde haben ihren Kindern dort eine kostenlose gute Grundbildung versprochen. Und es ist erwiesen: Gute Bildung ist die Grundlage für Wohlstand\, Gesundheit und verantwortliches Handeln in der Gesellschaft. \nDoch immer noch gehen mehr als 250 Millionen Kinder nicht zur Schule. Ein Viertel der Grundschüler in Deutschland lernt nicht richtig lesen und rechnen. Und in Südasien erwirbt nur eines von fünf Kindern auch bei regelmäßigem Schulbesuch diese Grundfertigkeiten. \nDie Digitalisierung eröffnet neue Chancen. Sie bringt aber gleichzeitig auch neue Herausforderungen. Bundesbildungsministerin Frau Stark-Watzinger wird mit uns darüber reflektieren\, welche Maßnahmen ergriffen werden müssen\, um gute Bildung für alle zugänglich zu machen – in Deutschland und weltweit. \nWir laden Sie herzlich ein\, an diesem wichtigen Dialog teilzunehmen und gemeinsam mit uns über die Verantwortung für die nächste Generation nachzudenken. \nBitte melden Sie sich über unsere Website an\, damit wir planen können: https://www.childaid.net/veranstaltung/koenigsteiner-salon-mit-bettina-stark-watzinger
URL:https://xn--knigstein-erleben-zzb.de/event/koenigsteiner-salon-mit-bettina-stark-watzinger/
LOCATION:Haus der Begegnung\, Bischof-Kaller-Straße 3\, Königstein im Taunus\, 61462\, Germany
CATEGORIES:Allgemein,HdB,Kultur
ATTACH;FMTTYPE=image/jpeg:https://xn--knigstein-erleben-zzb.de/wp-content/uploads/2024/07/Bild-fuer-Web.jpg
ORGANIZER;CN="Childaid Network":MAILTO:info@childaid.net
GEO:50.1784427;8.4734345
X-APPLE-STRUCTURED-LOCATION;VALUE=URI;X-ADDRESS=Haus der Begegnung Bischof-Kaller-Straße 3 Königstein im Taunus 61462 Germany;X-APPLE-RADIUS=500;X-TITLE=Bischof-Kaller-Straße 3:geo:8.4734345,50.1784427
END:VEVENT
BEGIN:VEVENT
DTSTART;TZID=Europe/Berlin:20240627T190000
DTEND;TZID=Europe/Berlin:20240627T203000
DTSTAMP:20260425T212943
CREATED:20240604T143133Z
LAST-MODIFIED:20240604T144706Z
UID:10001046-1719514800-1719520200@xn--knigstein-erleben-zzb.de
SUMMARY:Königstein informiert
DESCRIPTION:Foto: Stadt Königstein im Taunus | \n\n\nGefahrenzone Smartphone\nDie digitale Welt eröffnet Kindern und Jugendlichen eine fast grenzenlose Möglichkeit der Kommunikation und Information. Heutzutage möchten sie sich in den sozialen Netzwerken beweisen. \nDie Motivatoren sind Anerkennung durch Gleichaltrige\, Beliebtheit in den sozialen Netzwerken oder einfach das Erleben eines Erfolgsgefühls. Viele Jugendliche und Eltern werden einerseits von dem Gedanken geleitet\, dass die digitale Welt ein rechtsfreier Raum sei und sind sich nicht über die Tragweite des Handelns bewusst.Besorgniserregend ist die Tatsache\, wie leicht junge Menschen zu Opfern oder Tätern der Internetkriminalität werden und wie sorglos sie selbst darüber denken. \nDas sind gute Gründe\, um dieses Thema mit der erforderlichen Ernsthaftigkeit anzupacken. Jugendliche brauchen Informationen von zuverlässigen Ansprechpartnern\, die sie auf die Tücken und Gefahren des Internets hinweisen und mit deren Verhaltens- sowie Handlungsstrategien entwickeln können.Jugendkoordinator Thomas Leopold-Klemm von der Polizeidirektion Hochtaunus und Günter Steppich\, IT Fachberater für Jugendmedienschutz am Staatlichen Schulamt Wiesbaden\, werden an diesem Abend\, insbesondere Eltern über die Themen Cybermobbing\, Cybergrooming und den richtigen Umgang mit sozialen Medien aufklären. \nWie sich Jugendliche im Netz strafbar machen können und wie sie sich vor Betrug im Netz schützen können\, wird ebenfalls erläutert. \n  \n\n\n\n\nKönigstein ist KOMPASS-Kommune!\nZiel von KOMPASS (KOMmunalProgrAmmSicherheitsSiegel). ist es\, die Sicherheit in den Kommunen zu erhöhen. Und damit ist nicht nur die objektive Sicherheit gemeint\, die sich in unseren Statistiken\, z.B. der polizeilichen Kriminalstatistik (PKS) widerspiegeln\, sondern insbesondere auch das subjektive Sicherheitsgefühl der Bürgerinnen und Bürger. \nDieses geht nicht immer mit der objektiven Sicherheitslage konform\, sondern unterscheidet sich zum Teil maßgeblich. Es gibt „dunkle Ecken“ in Parkanlagen\, in denen es noch nie zu einer Straftat gekommen ist und dennoch meiden Bürgerinnen und Bürger diese Örtlichkeit in den Abendstunden bzw. fühlen sich unsicher oder haben gar Angst. Das Unsicherheitsgefühl bedingt nicht Opfer einer Straftat zu werden\, aber ein derartiges Gefühl kann die Lebensqualität maßgeblich beeinträchtigen und genau hier setzt KOMPASS an. \nBürgerinnen und Bürger sollen sich sicher fühlen und unbefangen in der Stadt bewegen können\, mit Vergnügen spazieren gehen und die Schönheit der Stadt mit Parkanlagen und historischen Stätten genießen können. Die Initiative zielt auf eine nachhaltig ausgerichtete und noch engere Zusammenarbeit zwischen Bürgerinnen und Bürgern\, Polizei und Kommune ab.
URL:https://xn--knigstein-erleben-zzb.de/event/koenigstein-informiert-2/
LOCATION:Haus der Begegnung\, Bischof-Kaller-Straße 3\, Königstein im Taunus\, 61462\, Germany
CATEGORIES:Allgemein
ATTACH;FMTTYPE=application/pdf:https://xn--knigstein-erleben-zzb.de/wp-content/uploads/2024/06/OA_2024-24.27.-KompassVA-Koenigstein-informiert-im-HdBpdf-1.pdf
GEO:50.1784427;8.4734345
X-APPLE-STRUCTURED-LOCATION;VALUE=URI;X-ADDRESS=Haus der Begegnung Bischof-Kaller-Straße 3 Königstein im Taunus 61462 Germany;X-APPLE-RADIUS=500;X-TITLE=Bischof-Kaller-Straße 3:geo:8.4734345,50.1784427
END:VEVENT
BEGIN:VEVENT
DTSTART;TZID=Europe/Berlin:20240624T183000
DTEND;TZID=Europe/Berlin:20240624T200000
DTSTAMP:20260425T212943
CREATED:20240604T142711Z
LAST-MODIFIED:20240604T144137Z
UID:10001045-1719253800-1719259200@xn--knigstein-erleben-zzb.de
SUMMARY:Königstein informiert
DESCRIPTION:Foto: Stadt Königstein im Taunus | \n\nStraftaten zum Nachteil älterer Menschen (SäM)\nÄltere Menschen werden häufiger Opfer von Trickbetrügern. Schon der Titel macht deutlich\, auf wen es die Täterinnen und Täter hauptsächlich abgesehen haben. \nEs sind die älteren Menschen unserer Gesellschaft\, die im Bereich einiger Deliktsphänomene zur Zielscheibe geworden sind\, in der Regel sind die Geschädigten über 60 Jahre alt.Täterinnen und Täter suchen sich gezielt diese Altersgruppe aus\, um für sich einen größtmöglichen Gewinn zu erzielen. \nSkrupellos verunsichern sie ältere Menschen\, setzen sie unter enormen Zeitdruck und nutzen das Vertrauen aus. Die Opfer leben nicht selten alleine und haben einen geringen sozialen Austausch\, so dass die Täterinnen und Täter wenig Widerstand erwarten. Neben dem Vermögensschaden hinterlässt dieses Vorgehen auch hohe Traumatisierungen bis hin zu totalen Verlust des Vertrauens. In vielen Fällen vertrauen sich die Geschädigten erst Wochen oder Monate nach der eigentlichen Tat einem Familienangehörigen\, Bekannten an. \n\n\n\n\nKönigstein ist KOMPASS-Kommune!\nZiel von KOMPASS (KOMmunalProgrAmmSicherheitsSiegel). ist es\, die Sicherheit in den Kommunen zu erhöhen. Und damit ist nicht nur die objektive Sicherheit gemeint\, die sich in unseren Statistiken\, z.B. der polizeilichen Kriminalstatistik (PKS) widerspiegeln\, sondern insbesondere auch das subjektive Sicherheitsgefühl der Bürgerinnen und Bürger. \nDieses geht nicht immer mit der objektiven Sicherheitslage konform\, sondern unterscheidet sich zum Teil maßgeblich. Es gibt „dunkle Ecken“ in Parkanlagen\, in denen es noch nie zu einer Straftat gekommen ist und dennoch meiden Bürgerinnen und Bürger diese Örtlichkeit in den Abendstunden bzw. fühlen sich unsicher oder haben gar Angst. Das Unsicherheitsgefühl bedingt nicht Opfer einer Straftat zu werden\, aber ein derartiges Gefühl kann die Lebensqualität maßgeblich beeinträchtigen und genau hier setzt KOMPASS an. \nBürgerinnen und Bürger sollen sich sicher fühlen und unbefangen in der Stadt bewegen können\, mit Vergnügen spazieren gehen und die Schönheit der Stadt mit Parkanlagen und historischen Stätten genießen können. Die Initiative zielt auf eine nachhaltig ausgerichtete und noch engere Zusammenarbeit zwischen Bürgerinnen und Bürgern\, Polizei und Kommune ab.
URL:https://xn--knigstein-erleben-zzb.de/event/koenigstein-informiert/
LOCATION:Haus der Begegnung\, Bischof-Kaller-Straße 3\, Königstein im Taunus\, 61462\, Germany
CATEGORIES:Allgemein
ATTACH;FMTTYPE=application/pdf:https://xn--knigstein-erleben-zzb.de/wp-content/uploads/2024/06/OA_2024-24.27.-KompassVA-Koenigstein-informiert-im-HdBpdf.pdf
GEO:50.1784427;8.4734345
X-APPLE-STRUCTURED-LOCATION;VALUE=URI;X-ADDRESS=Haus der Begegnung Bischof-Kaller-Straße 3 Königstein im Taunus 61462 Germany;X-APPLE-RADIUS=500;X-TITLE=Bischof-Kaller-Straße 3:geo:8.4734345,50.1784427
END:VEVENT
END:VCALENDAR