BEGIN:VCALENDAR
VERSION:2.0
PRODID:-//Königstein - Erleben - ECPv6.15.19//NONSGML v1.0//EN
CALSCALE:GREGORIAN
METHOD:PUBLISH
X-ORIGINAL-URL:https://xn--knigstein-erleben-zzb.de
X-WR-CALDESC:Veranstaltungen für Königstein - Erleben
REFRESH-INTERVAL;VALUE=DURATION:PT1H
X-Robots-Tag:noindex
X-PUBLISHED-TTL:PT1H
BEGIN:VTIMEZONE
TZID:Europe/Berlin
BEGIN:DAYLIGHT
TZOFFSETFROM:+0100
TZOFFSETTO:+0200
TZNAME:CEST
DTSTART:20250330T010000
END:DAYLIGHT
BEGIN:STANDARD
TZOFFSETFROM:+0200
TZOFFSETTO:+0100
TZNAME:CET
DTSTART:20251026T010000
END:STANDARD
BEGIN:DAYLIGHT
TZOFFSETFROM:+0100
TZOFFSETTO:+0200
TZNAME:CEST
DTSTART:20260329T010000
END:DAYLIGHT
BEGIN:STANDARD
TZOFFSETFROM:+0200
TZOFFSETTO:+0100
TZNAME:CET
DTSTART:20261025T010000
END:STANDARD
BEGIN:DAYLIGHT
TZOFFSETFROM:+0100
TZOFFSETTO:+0200
TZNAME:CEST
DTSTART:20270328T010000
END:DAYLIGHT
BEGIN:STANDARD
TZOFFSETFROM:+0200
TZOFFSETTO:+0100
TZNAME:CET
DTSTART:20271031T010000
END:STANDARD
END:VTIMEZONE
BEGIN:VEVENT
DTSTART;TZID=Europe/Berlin:20260816T170000
DTEND;TZID=Europe/Berlin:20260816T183000
DTSTAMP:20260425T154737
CREATED:20260423T081702Z
LAST-MODIFIED:20260423T081846Z
UID:10021980-1786899600-1786905000@xn--knigstein-erleben-zzb.de
SUMMARY:Gospelkonzert „Greatest Love“
DESCRIPTION:Sommerserenade – Gospelkonzert „Greatest Love“\nGespielt werden Werke von Joakim Arenius\, Tore W. Aas und Traditionels \nGospel-Ensemble Soli 7 aus Darmstadt-Eberstadt \nStefan Mann (Leitung) \nEintritt frei. \n  \n \nBildnachweis: Stefan Mann
URL:https://xn--knigstein-erleben-zzb.de/event/gospelkonzert-greatest-love/
LOCATION:Ev. Immanuelkirche\, Hintere Schloßgasse 10\, Königstein im Taunus\, Hessen\, 61462\, Germany
CATEGORIES:Allgemein,Kirche,Konzert,Kultur
ATTACH;FMTTYPE=image/jpeg:https://xn--knigstein-erleben-zzb.de/wp-content/uploads/2026/04/Soli-7-scaled.jpg
GEO:50.1824949;8.4628546
X-APPLE-STRUCTURED-LOCATION;VALUE=URI;X-ADDRESS=Ev. Immanuelkirche Hintere Schloßgasse 10 Königstein im Taunus Hessen 61462 Germany;X-APPLE-RADIUS=500;X-TITLE=Hintere Schloßgasse 10:geo:8.4628546,50.1824949
END:VEVENT
END:VCALENDAR