BEGIN:VCALENDAR
VERSION:2.0
PRODID:-//Königstein - Erleben - ECPv6.15.19//NONSGML v1.0//EN
CALSCALE:GREGORIAN
METHOD:PUBLISH
X-WR-CALNAME:Königstein - Erleben
X-ORIGINAL-URL:https://xn--knigstein-erleben-zzb.de
X-WR-CALDESC:Veranstaltungen für Königstein - Erleben
REFRESH-INTERVAL;VALUE=DURATION:PT1H
X-Robots-Tag:noindex
X-PUBLISHED-TTL:PT1H
BEGIN:VTIMEZONE
TZID:Europe/Berlin
BEGIN:DAYLIGHT
TZOFFSETFROM:+0100
TZOFFSETTO:+0200
TZNAME:CEST
DTSTART:20230326T010000
END:DAYLIGHT
BEGIN:STANDARD
TZOFFSETFROM:+0200
TZOFFSETTO:+0100
TZNAME:CET
DTSTART:20231029T010000
END:STANDARD
BEGIN:DAYLIGHT
TZOFFSETFROM:+0100
TZOFFSETTO:+0200
TZNAME:CEST
DTSTART:20240331T010000
END:DAYLIGHT
BEGIN:STANDARD
TZOFFSETFROM:+0200
TZOFFSETTO:+0100
TZNAME:CET
DTSTART:20241027T010000
END:STANDARD
BEGIN:DAYLIGHT
TZOFFSETFROM:+0100
TZOFFSETTO:+0200
TZNAME:CEST
DTSTART:20250330T010000
END:DAYLIGHT
BEGIN:STANDARD
TZOFFSETFROM:+0200
TZOFFSETTO:+0100
TZNAME:CET
DTSTART:20251026T010000
END:STANDARD
END:VTIMEZONE
BEGIN:VEVENT
DTSTART;TZID=Europe/Berlin:20240331T100000
DTEND;TZID=Europe/Berlin:20240331T100000
DTSTAMP:20260425T171310
CREATED:20240219T152923Z
LAST-MODIFIED:20240330T095159Z
UID:10000272-1711879200-1711879200@xn--knigstein-erleben-zzb.de
SUMMARY:AUSGEBUCHT! Königsteiner Gesundheitswanderung: In Balance auf dem Hardtberg
DESCRIPTION:Foto: „Pexels“ auf Pixabay \n\nDie Gesundheitswanderung ist leider schon ausgebucht! \nWandern mit Übungen und Motto\ngeleitet von Gesundheitswanderführerin Kathrin Schäfer \nAuf dieser Gesundheitswanderung dreht sich alles um das Gleichgewicht. Die etwa 2-stündige Rundwanderung führt über den Hardtberg hinter der Klinik Königstein der KVB. Unterwegs werden kleine Pausen mit Übungen zur Förderung und Forderung des Gleichgewichts eingelegt und gemeinsam überlegt\, wie ein Alltag im Gleichgewicht gestaltet werden kann. \n  \n\n 
URL:https://xn--knigstein-erleben-zzb.de/event/koenigsteiner-gesundheitswanderung-in-balance-auf-dem-hardtberg/
LOCATION:Leider schon ausgebucht
CATEGORIES:Wandern
ATTACH;FMTTYPE=image/jpeg:https://xn--knigstein-erleben-zzb.de/wp-content/uploads/2024/02/Gesundheitswanderung-Hauptfoto-walking-gc5c6ea972_1920-Pexels-auf-Pixabay.jpg
ORGANIZER;CN="Kur- und Stadtinformation K%C3%B6nigstein":MAILTO:info@koenigstein.de
END:VEVENT
END:VCALENDAR