BEGIN:VCALENDAR
VERSION:2.0
PRODID:-//Königstein - Erleben - ECPv6.15.19//NONSGML v1.0//EN
CALSCALE:GREGORIAN
METHOD:PUBLISH
X-ORIGINAL-URL:https://xn--knigstein-erleben-zzb.de
X-WR-CALDESC:Veranstaltungen für Königstein - Erleben
REFRESH-INTERVAL;VALUE=DURATION:PT1H
X-Robots-Tag:noindex
X-PUBLISHED-TTL:PT1H
BEGIN:VTIMEZONE
TZID:Europe/Berlin
BEGIN:DAYLIGHT
TZOFFSETFROM:+0100
TZOFFSETTO:+0200
TZNAME:CEST
DTSTART:20250330T010000
END:DAYLIGHT
BEGIN:STANDARD
TZOFFSETFROM:+0200
TZOFFSETTO:+0100
TZNAME:CET
DTSTART:20251026T010000
END:STANDARD
BEGIN:DAYLIGHT
TZOFFSETFROM:+0100
TZOFFSETTO:+0200
TZNAME:CEST
DTSTART:20260329T010000
END:DAYLIGHT
BEGIN:STANDARD
TZOFFSETFROM:+0200
TZOFFSETTO:+0100
TZNAME:CET
DTSTART:20261025T010000
END:STANDARD
BEGIN:DAYLIGHT
TZOFFSETFROM:+0100
TZOFFSETTO:+0200
TZNAME:CEST
DTSTART:20270328T010000
END:DAYLIGHT
BEGIN:STANDARD
TZOFFSETFROM:+0200
TZOFFSETTO:+0100
TZNAME:CET
DTSTART:20271031T010000
END:STANDARD
END:VTIMEZONE
BEGIN:VEVENT
DTSTART;TZID=Europe/Berlin:20260501T120000
DTEND;TZID=Europe/Berlin:20260501T170000
DTSTAMP:20260420T013732
CREATED:20251229T133936Z
LAST-MODIFIED:20251229T134155Z
UID:10019240-1777636800-1777654800@xn--knigstein-erleben-zzb.de
SUMMARY:Geheimnisvoller Fuchsstein
DESCRIPTION:Naturwanderung um den Fuchstanz-Pass\nAuf und abseits ausgetretener Pfade entdecken wir den Fuchsstein (662 m)\, eine mystisch gelegene Felsengruppe im Wald und lauschen der Legende vom Fuchstanz.\nNach einer gemütlichen Rast an den Fuchstanz-Gaststätten führt uns der Weg über den Franzenskopf hinab ins urige Tal des Naturschutzgebiets Reichenbach bis zum idyllischen Reichenbachweiher. Ein Erlebnis für alle\, die Natur\, Legenden und stille Waldmomente lieben! \nAnmeldung über diesen Link... \n  \n \nFoto: Jutta Hufler (Naturparkführerin)
URL:https://xn--knigstein-erleben-zzb.de/event/geheimnisvoller-fuchsstein-naturwanderung-um-den-fuchstanz-pass/
LOCATION:Parkplatz Tillmannsweg\, Tillmannsweg\, Königstein im Taunus\, 61462
CATEGORIES:Allgemein,Wandern
ATTACH;FMTTYPE=image/jpeg:https://xn--knigstein-erleben-zzb.de/wp-content/uploads/2025/12/20251005_112903-scaled.jpg
ORGANIZER;CN="Naturpark Taunus":MAILTO:info@naturpark-taunus.de
GEO:50.200029;8.4645698
X-APPLE-STRUCTURED-LOCATION;VALUE=URI;X-ADDRESS=Parkplatz Tillmannsweg Tillmannsweg Königstein im Taunus 61462;X-APPLE-RADIUS=500;X-TITLE=Tillmannsweg:geo:8.4645698,50.200029
END:VEVENT
END:VCALENDAR