BEGIN:VCALENDAR
VERSION:2.0
PRODID:-//Königstein - Erleben - ECPv6.15.19//NONSGML v1.0//EN
CALSCALE:GREGORIAN
METHOD:PUBLISH
X-WR-CALNAME:Königstein - Erleben
X-ORIGINAL-URL:https://xn--knigstein-erleben-zzb.de
X-WR-CALDESC:Veranstaltungen für Königstein - Erleben
REFRESH-INTERVAL;VALUE=DURATION:PT1H
X-Robots-Tag:noindex
X-PUBLISHED-TTL:PT1H
BEGIN:VTIMEZONE
TZID:Europe/Berlin
BEGIN:DAYLIGHT
TZOFFSETFROM:+0100
TZOFFSETTO:+0200
TZNAME:CEST
DTSTART:20240331T010000
END:DAYLIGHT
BEGIN:STANDARD
TZOFFSETFROM:+0200
TZOFFSETTO:+0100
TZNAME:CET
DTSTART:20241027T010000
END:STANDARD
BEGIN:DAYLIGHT
TZOFFSETFROM:+0100
TZOFFSETTO:+0200
TZNAME:CEST
DTSTART:20250330T010000
END:DAYLIGHT
BEGIN:STANDARD
TZOFFSETFROM:+0200
TZOFFSETTO:+0100
TZNAME:CET
DTSTART:20251026T010000
END:STANDARD
BEGIN:DAYLIGHT
TZOFFSETFROM:+0100
TZOFFSETTO:+0200
TZNAME:CEST
DTSTART:20260329T010000
END:DAYLIGHT
BEGIN:STANDARD
TZOFFSETFROM:+0200
TZOFFSETTO:+0100
TZNAME:CET
DTSTART:20261025T010000
END:STANDARD
END:VTIMEZONE
BEGIN:VEVENT
DTSTART;VALUE=DATE:20250515
DTEND;VALUE=DATE:20250516
DTSTAMP:20260420T061402
CREATED:20250507T142407Z
LAST-MODIFIED:20250507T150647Z
UID:10012159-1747267200-1747353599@xn--knigstein-erleben-zzb.de
SUMMARY:Ausstellung "Des Taunus schönste Blume - Friedrich Stoltze und sein Königstein"
DESCRIPTION:Des Taunus schönste Blume – Friedrich Stoltze und sein Königstein\nAusstellung des Stadtarchivs Königstein und des Stoltze-Museums Frankfurt\nFriedrich Stoltze (1816-1891)\, Frankfurter Freiheitsdichter und Satiriker\, und seine enge Verbindung zu Königstein in Text und Bild. \nKönigstein war für den Frankfurter Freiheitsdichter und Satiriker Friedrich Stoltze (1816–1891) sein Rückzugsort. Er kam zur Kur und erholte sich bei Wasserdoktor Pingler . Für den steckbrieflich gesuchten Schriftsteller endete ein Aufenthalt mit seiner „Flucht von Königstein“\, die er literarisch festhielt. Nach Königstein kehrte er immer wieder zurück\, hier begann auch der Erfolg seines satirischen Wochenblattes „Frankfurter Latern“. \n  \nHinweis: Die Ausstellung kann zu den Öffnungszeiten des Rathauses und nach Vereinbarung besichtigt werden. \n   \nBilder: Stoltze Museum Frankfurt \n 
URL:https://xn--knigstein-erleben-zzb.de/event/ausstellung-des-taunus-schoenste-blume-friedrich-stoltze-und-sein-koenigstein/2025-05-15/
LOCATION:Rathaus Königstein
CATEGORIES:Allgemein,Ausstellung,Geschichte
ATTACH;FMTTYPE=image/jpeg:https://xn--knigstein-erleben-zzb.de/wp-content/uploads/2025/03/Stoltze-Foto_Stoltze-Museum-Frankfurt.jpg
ORGANIZER;CN="Stadtarchiv K%C3%B6nigstein und Stoltze Museum Frankfurt":MAILTO:alexandra.koenig@koenigstein.de
GEO:50.1819615;8.4646567
END:VEVENT
BEGIN:VEVENT
DTSTART;VALUE=DATE:20250513
DTEND;VALUE=DATE:20250514
DTSTAMP:20260420T061402
CREATED:20250507T142407Z
LAST-MODIFIED:20250507T150647Z
UID:10012158-1747094400-1747180799@xn--knigstein-erleben-zzb.de
SUMMARY:Ausstellung "Des Taunus schönste Blume - Friedrich Stoltze und sein Königstein"
DESCRIPTION:Des Taunus schönste Blume – Friedrich Stoltze und sein Königstein\nAusstellung des Stadtarchivs Königstein und des Stoltze-Museums Frankfurt\nFriedrich Stoltze (1816-1891)\, Frankfurter Freiheitsdichter und Satiriker\, und seine enge Verbindung zu Königstein in Text und Bild. \nKönigstein war für den Frankfurter Freiheitsdichter und Satiriker Friedrich Stoltze (1816–1891) sein Rückzugsort. Er kam zur Kur und erholte sich bei Wasserdoktor Pingler . Für den steckbrieflich gesuchten Schriftsteller endete ein Aufenthalt mit seiner „Flucht von Königstein“\, die er literarisch festhielt. Nach Königstein kehrte er immer wieder zurück\, hier begann auch der Erfolg seines satirischen Wochenblattes „Frankfurter Latern“. \n  \nHinweis: Die Ausstellung kann zu den Öffnungszeiten des Rathauses und nach Vereinbarung besichtigt werden. \n   \nBilder: Stoltze Museum Frankfurt \n 
URL:https://xn--knigstein-erleben-zzb.de/event/ausstellung-des-taunus-schoenste-blume-friedrich-stoltze-und-sein-koenigstein/2025-05-13/
LOCATION:Rathaus Königstein
CATEGORIES:Allgemein,Ausstellung,Geschichte
ATTACH;FMTTYPE=image/jpeg:https://xn--knigstein-erleben-zzb.de/wp-content/uploads/2025/03/Stoltze-Foto_Stoltze-Museum-Frankfurt.jpg
ORGANIZER;CN="Stadtarchiv K%C3%B6nigstein und Stoltze Museum Frankfurt":MAILTO:alexandra.koenig@koenigstein.de
GEO:50.1819615;8.4646567
END:VEVENT
BEGIN:VEVENT
DTSTART;TZID=Europe/Berlin:20250512T143000
DTEND;TZID=Europe/Berlin:20250512T173000
DTSTAMP:20260420T061402
CREATED:20250506T132014Z
LAST-MODIFIED:20250506T133438Z
UID:10008477-1747060200-1747071000@xn--knigstein-erleben-zzb.de
SUMMARY:Solarstrom für Wärmepumpen "Energiespartipp" der Verbraucherzentrale Hessen
DESCRIPTION:Solarstrom für Wärmepumpen\nHaushalte können unabhängiger vom Stromversorger werden und gleichzeitig zum Klimaschutz beitragen\, indem sie Solarstrom für ihre Wärmepumpe nutzen. In Einfamilienhäusern kann eine Photovoltaikanlage (PV-Anlage) ohne Batteriespeicher etwa 20 bis 30 Prozent des Jahresstrombedarfs für Haushalts- und Wärmepumpenstrom erzeugen. Mit einem Batteriespeicher ist es möglich\, die Eigenversorgung auf 40 Prozent zu erhöhen. \nUm diese Investitionen auch wirtschaftlich interessant zu machen\, müssen die Komponenten in der passenden Größe gewählt werden. Bei Fragen zur richtigen Dimensionierung von Wärmepumpen\, PV-Anlagen oder Energiespeichern hilft die Energieberatung der Verbraucherzentrale Hessen mit ihrem Beratungsangebot weiter. \nKompetent und anbieterunabhängig zu allen Fragen des privaten Energieverbrauchs:\nDie Energieberatung der Verbraucherzentrale Hessen \nPeter Preisendörfer bietet die persönliche Energieberatung der Verbraucherzentrale Hessen von 14:30 bis 17:30 Uhr im Rathaus Königstein an. Die Energieberatung dauert ca. 45 Minuten und ist kostenfrei. \nTermine können unter 061462 202-328 vereinbart werden.\nFalls erforderlich kommt ein Energieexperte auch zu Ihnen nach Hause (Eigenbeteiligung 40 Euro).\nWeitere Informationen zur Energieberatung und Terminvereinbarung unter www.verbraucherzentrale-energieberatung.de oder 0800 – 809 802 400. \nDie Energieberatung der Verbraucherzentrale wird gefördert vom Bundesministerium für Wirtschaft und Klimaschutz. \n  \n \nEnergieertrag_(c)LEA Hessen_ Foto Markus Feger
URL:https://xn--knigstein-erleben-zzb.de/event/solarstrom-fuer-waermepumpen-energiespartipp-der-verbraucherzentrale-hessen/
LOCATION:Rathaus Königstein
CATEGORIES:Allgemein,Beratung,Informationsveranstaltung
ATTACH;FMTTYPE=image/jpeg:https://xn--knigstein-erleben-zzb.de/wp-content/uploads/2025/05/2025-Energieberatung-Hessen-1-scaled.jpg
GEO:50.1819615;8.4646567
END:VEVENT
BEGIN:VEVENT
DTSTART;VALUE=DATE:20250512
DTEND;VALUE=DATE:20250513
DTSTAMP:20260420T061402
CREATED:20250507T142407Z
LAST-MODIFIED:20250507T150647Z
UID:10012157-1747008000-1747094399@xn--knigstein-erleben-zzb.de
SUMMARY:Ausstellung "Des Taunus schönste Blume - Friedrich Stoltze und sein Königstein"
DESCRIPTION:Des Taunus schönste Blume – Friedrich Stoltze und sein Königstein\nAusstellung des Stadtarchivs Königstein und des Stoltze-Museums Frankfurt\nFriedrich Stoltze (1816-1891)\, Frankfurter Freiheitsdichter und Satiriker\, und seine enge Verbindung zu Königstein in Text und Bild. \nKönigstein war für den Frankfurter Freiheitsdichter und Satiriker Friedrich Stoltze (1816–1891) sein Rückzugsort. Er kam zur Kur und erholte sich bei Wasserdoktor Pingler . Für den steckbrieflich gesuchten Schriftsteller endete ein Aufenthalt mit seiner „Flucht von Königstein“\, die er literarisch festhielt. Nach Königstein kehrte er immer wieder zurück\, hier begann auch der Erfolg seines satirischen Wochenblattes „Frankfurter Latern“. \n  \nHinweis: Die Ausstellung kann zu den Öffnungszeiten des Rathauses und nach Vereinbarung besichtigt werden. \n   \nBilder: Stoltze Museum Frankfurt \n 
URL:https://xn--knigstein-erleben-zzb.de/event/ausstellung-des-taunus-schoenste-blume-friedrich-stoltze-und-sein-koenigstein/2025-05-12/
LOCATION:Rathaus Königstein
CATEGORIES:Allgemein,Ausstellung,Geschichte
ATTACH;FMTTYPE=image/jpeg:https://xn--knigstein-erleben-zzb.de/wp-content/uploads/2025/03/Stoltze-Foto_Stoltze-Museum-Frankfurt.jpg
ORGANIZER;CN="Stadtarchiv K%C3%B6nigstein und Stoltze Museum Frankfurt":MAILTO:alexandra.koenig@koenigstein.de
GEO:50.1819615;8.4646567
END:VEVENT
BEGIN:VEVENT
DTSTART;VALUE=DATE:20250509
DTEND;VALUE=DATE:20250510
DTSTAMP:20260420T061402
CREATED:20250507T142407Z
LAST-MODIFIED:20250507T150647Z
UID:10012156-1746748800-1746835199@xn--knigstein-erleben-zzb.de
SUMMARY:Ausstellung "Des Taunus schönste Blume - Friedrich Stoltze und sein Königstein"
DESCRIPTION:Des Taunus schönste Blume – Friedrich Stoltze und sein Königstein\nAusstellung des Stadtarchivs Königstein und des Stoltze-Museums Frankfurt\nFriedrich Stoltze (1816-1891)\, Frankfurter Freiheitsdichter und Satiriker\, und seine enge Verbindung zu Königstein in Text und Bild. \nKönigstein war für den Frankfurter Freiheitsdichter und Satiriker Friedrich Stoltze (1816–1891) sein Rückzugsort. Er kam zur Kur und erholte sich bei Wasserdoktor Pingler . Für den steckbrieflich gesuchten Schriftsteller endete ein Aufenthalt mit seiner „Flucht von Königstein“\, die er literarisch festhielt. Nach Königstein kehrte er immer wieder zurück\, hier begann auch der Erfolg seines satirischen Wochenblattes „Frankfurter Latern“. \n  \nHinweis: Die Ausstellung kann zu den Öffnungszeiten des Rathauses und nach Vereinbarung besichtigt werden. \n   \nBilder: Stoltze Museum Frankfurt \n 
URL:https://xn--knigstein-erleben-zzb.de/event/ausstellung-des-taunus-schoenste-blume-friedrich-stoltze-und-sein-koenigstein/2025-05-09/
LOCATION:Rathaus Königstein
CATEGORIES:Allgemein,Ausstellung,Geschichte
ATTACH;FMTTYPE=image/jpeg:https://xn--knigstein-erleben-zzb.de/wp-content/uploads/2025/03/Stoltze-Foto_Stoltze-Museum-Frankfurt.jpg
ORGANIZER;CN="Stadtarchiv K%C3%B6nigstein und Stoltze Museum Frankfurt":MAILTO:alexandra.koenig@koenigstein.de
GEO:50.1819615;8.4646567
END:VEVENT
BEGIN:VEVENT
DTSTART;VALUE=DATE:20250508
DTEND;VALUE=DATE:20250509
DTSTAMP:20260420T061402
CREATED:20250507T142407Z
LAST-MODIFIED:20250507T150647Z
UID:10012155-1746662400-1746748799@xn--knigstein-erleben-zzb.de
SUMMARY:Ausstellung "Des Taunus schönste Blume - Friedrich Stoltze und sein Königstein"
DESCRIPTION:Des Taunus schönste Blume – Friedrich Stoltze und sein Königstein\nAusstellung des Stadtarchivs Königstein und des Stoltze-Museums Frankfurt\nFriedrich Stoltze (1816-1891)\, Frankfurter Freiheitsdichter und Satiriker\, und seine enge Verbindung zu Königstein in Text und Bild. \nKönigstein war für den Frankfurter Freiheitsdichter und Satiriker Friedrich Stoltze (1816–1891) sein Rückzugsort. Er kam zur Kur und erholte sich bei Wasserdoktor Pingler . Für den steckbrieflich gesuchten Schriftsteller endete ein Aufenthalt mit seiner „Flucht von Königstein“\, die er literarisch festhielt. Nach Königstein kehrte er immer wieder zurück\, hier begann auch der Erfolg seines satirischen Wochenblattes „Frankfurter Latern“. \n  \nHinweis: Die Ausstellung kann zu den Öffnungszeiten des Rathauses und nach Vereinbarung besichtigt werden. \n   \nBilder: Stoltze Museum Frankfurt \n 
URL:https://xn--knigstein-erleben-zzb.de/event/ausstellung-des-taunus-schoenste-blume-friedrich-stoltze-und-sein-koenigstein/2025-05-08/
LOCATION:Rathaus Königstein
CATEGORIES:Allgemein,Ausstellung,Geschichte
ATTACH;FMTTYPE=image/jpeg:https://xn--knigstein-erleben-zzb.de/wp-content/uploads/2025/03/Stoltze-Foto_Stoltze-Museum-Frankfurt.jpg
ORGANIZER;CN="Stadtarchiv K%C3%B6nigstein und Stoltze Museum Frankfurt":MAILTO:alexandra.koenig@koenigstein.de
GEO:50.1819615;8.4646567
END:VEVENT
BEGIN:VEVENT
DTSTART;VALUE=DATE:20250506
DTEND;VALUE=DATE:20250507
DTSTAMP:20260420T061402
CREATED:20250507T142407Z
LAST-MODIFIED:20250507T150647Z
UID:10012154-1746489600-1746575999@xn--knigstein-erleben-zzb.de
SUMMARY:Ausstellung "Des Taunus schönste Blume - Friedrich Stoltze und sein Königstein"
DESCRIPTION:Des Taunus schönste Blume – Friedrich Stoltze und sein Königstein\nAusstellung des Stadtarchivs Königstein und des Stoltze-Museums Frankfurt\nFriedrich Stoltze (1816-1891)\, Frankfurter Freiheitsdichter und Satiriker\, und seine enge Verbindung zu Königstein in Text und Bild. \nKönigstein war für den Frankfurter Freiheitsdichter und Satiriker Friedrich Stoltze (1816–1891) sein Rückzugsort. Er kam zur Kur und erholte sich bei Wasserdoktor Pingler . Für den steckbrieflich gesuchten Schriftsteller endete ein Aufenthalt mit seiner „Flucht von Königstein“\, die er literarisch festhielt. Nach Königstein kehrte er immer wieder zurück\, hier begann auch der Erfolg seines satirischen Wochenblattes „Frankfurter Latern“. \n  \nHinweis: Die Ausstellung kann zu den Öffnungszeiten des Rathauses und nach Vereinbarung besichtigt werden. \n   \nBilder: Stoltze Museum Frankfurt \n 
URL:https://xn--knigstein-erleben-zzb.de/event/ausstellung-des-taunus-schoenste-blume-friedrich-stoltze-und-sein-koenigstein/2025-05-06/
LOCATION:Rathaus Königstein
CATEGORIES:Allgemein,Ausstellung,Geschichte
ATTACH;FMTTYPE=image/jpeg:https://xn--knigstein-erleben-zzb.de/wp-content/uploads/2025/03/Stoltze-Foto_Stoltze-Museum-Frankfurt.jpg
ORGANIZER;CN="Stadtarchiv K%C3%B6nigstein und Stoltze Museum Frankfurt":MAILTO:alexandra.koenig@koenigstein.de
GEO:50.1819615;8.4646567
END:VEVENT
BEGIN:VEVENT
DTSTART;VALUE=DATE:20250505
DTEND;VALUE=DATE:20250506
DTSTAMP:20260420T061402
CREATED:20250507T142407Z
LAST-MODIFIED:20250507T150647Z
UID:10012153-1746403200-1746489599@xn--knigstein-erleben-zzb.de
SUMMARY:Ausstellung "Des Taunus schönste Blume - Friedrich Stoltze und sein Königstein"
DESCRIPTION:Des Taunus schönste Blume – Friedrich Stoltze und sein Königstein\nAusstellung des Stadtarchivs Königstein und des Stoltze-Museums Frankfurt\nFriedrich Stoltze (1816-1891)\, Frankfurter Freiheitsdichter und Satiriker\, und seine enge Verbindung zu Königstein in Text und Bild. \nKönigstein war für den Frankfurter Freiheitsdichter und Satiriker Friedrich Stoltze (1816–1891) sein Rückzugsort. Er kam zur Kur und erholte sich bei Wasserdoktor Pingler . Für den steckbrieflich gesuchten Schriftsteller endete ein Aufenthalt mit seiner „Flucht von Königstein“\, die er literarisch festhielt. Nach Königstein kehrte er immer wieder zurück\, hier begann auch der Erfolg seines satirischen Wochenblattes „Frankfurter Latern“. \n  \nHinweis: Die Ausstellung kann zu den Öffnungszeiten des Rathauses und nach Vereinbarung besichtigt werden. \n   \nBilder: Stoltze Museum Frankfurt \n 
URL:https://xn--knigstein-erleben-zzb.de/event/ausstellung-des-taunus-schoenste-blume-friedrich-stoltze-und-sein-koenigstein/2025-05-05/
LOCATION:Rathaus Königstein
CATEGORIES:Allgemein,Ausstellung,Geschichte
ATTACH;FMTTYPE=image/jpeg:https://xn--knigstein-erleben-zzb.de/wp-content/uploads/2025/03/Stoltze-Foto_Stoltze-Museum-Frankfurt.jpg
ORGANIZER;CN="Stadtarchiv K%C3%B6nigstein und Stoltze Museum Frankfurt":MAILTO:alexandra.koenig@koenigstein.de
GEO:50.1819615;8.4646567
END:VEVENT
BEGIN:VEVENT
DTSTART;VALUE=DATE:20250502
DTEND;VALUE=DATE:20250503
DTSTAMP:20260420T061402
CREATED:20250507T142407Z
LAST-MODIFIED:20250507T150647Z
UID:10012152-1746144000-1746230399@xn--knigstein-erleben-zzb.de
SUMMARY:Ausstellung "Des Taunus schönste Blume - Friedrich Stoltze und sein Königstein"
DESCRIPTION:Des Taunus schönste Blume – Friedrich Stoltze und sein Königstein\nAusstellung des Stadtarchivs Königstein und des Stoltze-Museums Frankfurt\nFriedrich Stoltze (1816-1891)\, Frankfurter Freiheitsdichter und Satiriker\, und seine enge Verbindung zu Königstein in Text und Bild. \nKönigstein war für den Frankfurter Freiheitsdichter und Satiriker Friedrich Stoltze (1816–1891) sein Rückzugsort. Er kam zur Kur und erholte sich bei Wasserdoktor Pingler . Für den steckbrieflich gesuchten Schriftsteller endete ein Aufenthalt mit seiner „Flucht von Königstein“\, die er literarisch festhielt. Nach Königstein kehrte er immer wieder zurück\, hier begann auch der Erfolg seines satirischen Wochenblattes „Frankfurter Latern“. \n  \nHinweis: Die Ausstellung kann zu den Öffnungszeiten des Rathauses und nach Vereinbarung besichtigt werden. \n   \nBilder: Stoltze Museum Frankfurt \n 
URL:https://xn--knigstein-erleben-zzb.de/event/ausstellung-des-taunus-schoenste-blume-friedrich-stoltze-und-sein-koenigstein/2025-05-02/
LOCATION:Rathaus Königstein
CATEGORIES:Allgemein,Ausstellung,Geschichte
ATTACH;FMTTYPE=image/jpeg:https://xn--knigstein-erleben-zzb.de/wp-content/uploads/2025/03/Stoltze-Foto_Stoltze-Museum-Frankfurt.jpg
ORGANIZER;CN="Stadtarchiv K%C3%B6nigstein und Stoltze Museum Frankfurt":MAILTO:alexandra.koenig@koenigstein.de
GEO:50.1819615;8.4646567
END:VEVENT
BEGIN:VEVENT
DTSTART;VALUE=DATE:20250501
DTEND;VALUE=DATE:20250502
DTSTAMP:20260420T061402
CREATED:20250507T142407Z
LAST-MODIFIED:20250507T150647Z
UID:10012151-1746057600-1746143999@xn--knigstein-erleben-zzb.de
SUMMARY:Ausstellung "Des Taunus schönste Blume - Friedrich Stoltze und sein Königstein"
DESCRIPTION:Des Taunus schönste Blume – Friedrich Stoltze und sein Königstein\nAusstellung des Stadtarchivs Königstein und des Stoltze-Museums Frankfurt\nFriedrich Stoltze (1816-1891)\, Frankfurter Freiheitsdichter und Satiriker\, und seine enge Verbindung zu Königstein in Text und Bild. \nKönigstein war für den Frankfurter Freiheitsdichter und Satiriker Friedrich Stoltze (1816–1891) sein Rückzugsort. Er kam zur Kur und erholte sich bei Wasserdoktor Pingler . Für den steckbrieflich gesuchten Schriftsteller endete ein Aufenthalt mit seiner „Flucht von Königstein“\, die er literarisch festhielt. Nach Königstein kehrte er immer wieder zurück\, hier begann auch der Erfolg seines satirischen Wochenblattes „Frankfurter Latern“. \n  \nHinweis: Die Ausstellung kann zu den Öffnungszeiten des Rathauses und nach Vereinbarung besichtigt werden. \n   \nBilder: Stoltze Museum Frankfurt \n 
URL:https://xn--knigstein-erleben-zzb.de/event/ausstellung-des-taunus-schoenste-blume-friedrich-stoltze-und-sein-koenigstein/2025-05-01/
LOCATION:Rathaus Königstein
CATEGORIES:Allgemein,Ausstellung,Geschichte
ATTACH;FMTTYPE=image/jpeg:https://xn--knigstein-erleben-zzb.de/wp-content/uploads/2025/03/Stoltze-Foto_Stoltze-Museum-Frankfurt.jpg
ORGANIZER;CN="Stadtarchiv K%C3%B6nigstein und Stoltze Museum Frankfurt":MAILTO:alexandra.koenig@koenigstein.de
GEO:50.1819615;8.4646567
END:VEVENT
BEGIN:VEVENT
DTSTART;VALUE=DATE:20250429
DTEND;VALUE=DATE:20250430
DTSTAMP:20260420T061402
CREATED:20250507T142407Z
LAST-MODIFIED:20250507T150647Z
UID:10012150-1745884800-1745971199@xn--knigstein-erleben-zzb.de
SUMMARY:Ausstellung "Des Taunus schönste Blume - Friedrich Stoltze und sein Königstein"
DESCRIPTION:Des Taunus schönste Blume – Friedrich Stoltze und sein Königstein\nAusstellung des Stadtarchivs Königstein und des Stoltze-Museums Frankfurt\nFriedrich Stoltze (1816-1891)\, Frankfurter Freiheitsdichter und Satiriker\, und seine enge Verbindung zu Königstein in Text und Bild. \nKönigstein war für den Frankfurter Freiheitsdichter und Satiriker Friedrich Stoltze (1816–1891) sein Rückzugsort. Er kam zur Kur und erholte sich bei Wasserdoktor Pingler . Für den steckbrieflich gesuchten Schriftsteller endete ein Aufenthalt mit seiner „Flucht von Königstein“\, die er literarisch festhielt. Nach Königstein kehrte er immer wieder zurück\, hier begann auch der Erfolg seines satirischen Wochenblattes „Frankfurter Latern“. \n  \nHinweis: Die Ausstellung kann zu den Öffnungszeiten des Rathauses und nach Vereinbarung besichtigt werden. \n   \nBilder: Stoltze Museum Frankfurt \n 
URL:https://xn--knigstein-erleben-zzb.de/event/ausstellung-des-taunus-schoenste-blume-friedrich-stoltze-und-sein-koenigstein/2025-04-29/
LOCATION:Rathaus Königstein
CATEGORIES:Allgemein,Ausstellung,Geschichte
ATTACH;FMTTYPE=image/jpeg:https://xn--knigstein-erleben-zzb.de/wp-content/uploads/2025/03/Stoltze-Foto_Stoltze-Museum-Frankfurt.jpg
ORGANIZER;CN="Stadtarchiv K%C3%B6nigstein und Stoltze Museum Frankfurt":MAILTO:alexandra.koenig@koenigstein.de
GEO:50.1819615;8.4646567
END:VEVENT
BEGIN:VEVENT
DTSTART;VALUE=DATE:20250428
DTEND;VALUE=DATE:20250429
DTSTAMP:20260420T061402
CREATED:20250507T142407Z
LAST-MODIFIED:20250507T150647Z
UID:10012149-1745798400-1745884799@xn--knigstein-erleben-zzb.de
SUMMARY:Ausstellung "Des Taunus schönste Blume - Friedrich Stoltze und sein Königstein"
DESCRIPTION:Des Taunus schönste Blume – Friedrich Stoltze und sein Königstein\nAusstellung des Stadtarchivs Königstein und des Stoltze-Museums Frankfurt\nFriedrich Stoltze (1816-1891)\, Frankfurter Freiheitsdichter und Satiriker\, und seine enge Verbindung zu Königstein in Text und Bild. \nKönigstein war für den Frankfurter Freiheitsdichter und Satiriker Friedrich Stoltze (1816–1891) sein Rückzugsort. Er kam zur Kur und erholte sich bei Wasserdoktor Pingler . Für den steckbrieflich gesuchten Schriftsteller endete ein Aufenthalt mit seiner „Flucht von Königstein“\, die er literarisch festhielt. Nach Königstein kehrte er immer wieder zurück\, hier begann auch der Erfolg seines satirischen Wochenblattes „Frankfurter Latern“. \n  \nHinweis: Die Ausstellung kann zu den Öffnungszeiten des Rathauses und nach Vereinbarung besichtigt werden. \n   \nBilder: Stoltze Museum Frankfurt \n 
URL:https://xn--knigstein-erleben-zzb.de/event/ausstellung-des-taunus-schoenste-blume-friedrich-stoltze-und-sein-koenigstein/2025-04-28/
LOCATION:Rathaus Königstein
CATEGORIES:Allgemein,Ausstellung,Geschichte
ATTACH;FMTTYPE=image/jpeg:https://xn--knigstein-erleben-zzb.de/wp-content/uploads/2025/03/Stoltze-Foto_Stoltze-Museum-Frankfurt.jpg
ORGANIZER;CN="Stadtarchiv K%C3%B6nigstein und Stoltze Museum Frankfurt":MAILTO:alexandra.koenig@koenigstein.de
GEO:50.1819615;8.4646567
END:VEVENT
BEGIN:VEVENT
DTSTART;VALUE=DATE:20250425
DTEND;VALUE=DATE:20250426
DTSTAMP:20260420T061402
CREATED:20250507T142407Z
LAST-MODIFIED:20250507T150647Z
UID:10008481-1745539200-1745625599@xn--knigstein-erleben-zzb.de
SUMMARY:Ausstellung "Des Taunus schönste Blume - Friedrich Stoltze und sein Königstein"
DESCRIPTION:Des Taunus schönste Blume – Friedrich Stoltze und sein Königstein\nAusstellung des Stadtarchivs Königstein und des Stoltze-Museums Frankfurt\nFriedrich Stoltze (1816-1891)\, Frankfurter Freiheitsdichter und Satiriker\, und seine enge Verbindung zu Königstein in Text und Bild. \nKönigstein war für den Frankfurter Freiheitsdichter und Satiriker Friedrich Stoltze (1816–1891) sein Rückzugsort. Er kam zur Kur und erholte sich bei Wasserdoktor Pingler . Für den steckbrieflich gesuchten Schriftsteller endete ein Aufenthalt mit seiner „Flucht von Königstein“\, die er literarisch festhielt. Nach Königstein kehrte er immer wieder zurück\, hier begann auch der Erfolg seines satirischen Wochenblattes „Frankfurter Latern“. \n  \nHinweis: Die Ausstellung kann zu den Öffnungszeiten des Rathauses und nach Vereinbarung besichtigt werden. \n   \nBilder: Stoltze Museum Frankfurt \n 
URL:https://xn--knigstein-erleben-zzb.de/event/ausstellung-des-taunus-schoenste-blume-friedrich-stoltze-und-sein-koenigstein/2025-04-25/
LOCATION:Rathaus Königstein
CATEGORIES:Allgemein,Ausstellung,Geschichte
ATTACH;FMTTYPE=image/jpeg:https://xn--knigstein-erleben-zzb.de/wp-content/uploads/2025/03/Stoltze-Foto_Stoltze-Museum-Frankfurt.jpg
ORGANIZER;CN="Stadtarchiv K%C3%B6nigstein und Stoltze Museum Frankfurt":MAILTO:alexandra.koenig@koenigstein.de
GEO:50.1819615;8.4646567
END:VEVENT
BEGIN:VEVENT
DTSTART;TZID=Europe/Berlin:20250424T190000
DTEND;TZID=Europe/Berlin:20250424T200000
DTSTAMP:20260420T061402
CREATED:20250320T155813Z
LAST-MODIFIED:20250417T152917Z
UID:10006002-1745521200-1745524800@xn--knigstein-erleben-zzb.de
SUMMARY:Ausstellungseröffnung: Des Taunus schönste Blume - Friedrich Stoltze und sein Königstein
DESCRIPTION:Des Taunus schönste Blume – Friedrich Stoltze und sein Königstein\nKönigstein war für den Frankfurter Freiheitsdichter und Satiriker Friedrich Stoltze (1816–1891) sein Rückzugsort. Er kam zur Kur und erholte sich bei Wasserdoktor Pingler . \nFür den steckbrieflich gesuchten Schriftsteller endete ein Aufenthalt mit seiner „Flucht von Königstein“\, die er literarisch festhielt. Nach Königstein kehrte er immer wieder zurück\, hier begann auch der Erfolg seines satirischen Wochenblattes „Frankfurter Latern“. \n  \n \nFoto: Stoltze Museum Frankfurt
URL:https://xn--knigstein-erleben-zzb.de/event/ausstellungseroeffnung-des-taunus-schoenste-blume-friedrich-stoltze-und-sein-koenigstein/
LOCATION:Rathaus Königstein
CATEGORIES:Allgemein,Ausstellung,Vortrag
ATTACH;FMTTYPE=image/jpeg:https://xn--knigstein-erleben-zzb.de/wp-content/uploads/2025/03/Stoltze-Foto_Stoltze-Museum-Frankfurt.jpg
ORGANIZER;CN="Stadtarchiv K%C3%B6nigstein und Stoltze Museum Frankfurt":MAILTO:alexandra.koenig@koenigstein.de
GEO:50.1819615;8.4646567
END:VEVENT
BEGIN:VEVENT
DTSTART;TZID=Europe/Berlin:20250328T170000
DTEND;TZID=Europe/Berlin:20250328T180000
DTSTAMP:20260420T061402
CREATED:20250325T080840Z
LAST-MODIFIED:20250325T165403Z
UID:10006319-1743181200-1743184800@xn--knigstein-erleben-zzb.de
SUMMARY:Pinsel und Pizza - Vernissage
DESCRIPTION:Ausstellung Pinsel und Pizza\nMit Arbeiten von Königsteiner Kindern und Jugendlichen\, entstanden in einem Workshop der Künstler Nicole Falkus und Albrecht Behmel.\nZu sehen sind Acryl-Arbeiten nach freien Motiven der jungen Talente: Vom gemalten Traumland über Stillleben bis hin zu expressiven Abstraktionen. \n  \n \nFoto: Nicole Falkus und Albrecht Behmel
URL:https://xn--knigstein-erleben-zzb.de/event/pinsel-und-pizza-vernissage/
LOCATION:Rathaus Königstein
CATEGORIES:Allgemein,Ausstellung
ATTACH;FMTTYPE=image/jpeg:https://xn--knigstein-erleben-zzb.de/wp-content/uploads/2025/03/Vernissage-Pinsel-und-Pizza-scaled.jpg
GEO:50.1819615;8.4646567
END:VEVENT
END:VCALENDAR