BEGIN:VCALENDAR
VERSION:2.0
PRODID:-//Königstein - Erleben - ECPv6.15.19//NONSGML v1.0//EN
CALSCALE:GREGORIAN
METHOD:PUBLISH
X-WR-CALNAME:Königstein - Erleben
X-ORIGINAL-URL:https://xn--knigstein-erleben-zzb.de
X-WR-CALDESC:Veranstaltungen für Königstein - Erleben
REFRESH-INTERVAL;VALUE=DURATION:PT1H
X-Robots-Tag:noindex
X-PUBLISHED-TTL:PT1H
BEGIN:VTIMEZONE
TZID:Europe/Berlin
BEGIN:DAYLIGHT
TZOFFSETFROM:+0100
TZOFFSETTO:+0200
TZNAME:CEST
DTSTART:20250330T010000
END:DAYLIGHT
BEGIN:STANDARD
TZOFFSETFROM:+0200
TZOFFSETTO:+0100
TZNAME:CET
DTSTART:20251026T010000
END:STANDARD
BEGIN:DAYLIGHT
TZOFFSETFROM:+0100
TZOFFSETTO:+0200
TZNAME:CEST
DTSTART:20260329T010000
END:DAYLIGHT
BEGIN:STANDARD
TZOFFSETFROM:+0200
TZOFFSETTO:+0100
TZNAME:CET
DTSTART:20261025T010000
END:STANDARD
BEGIN:DAYLIGHT
TZOFFSETFROM:+0100
TZOFFSETTO:+0200
TZNAME:CEST
DTSTART:20270328T010000
END:DAYLIGHT
BEGIN:STANDARD
TZOFFSETFROM:+0200
TZOFFSETTO:+0100
TZNAME:CET
DTSTART:20271031T010000
END:STANDARD
END:VTIMEZONE
BEGIN:VEVENT
DTSTART;TZID=Europe/Berlin:20260321T173000
DTEND;TZID=Europe/Berlin:20260321T200000
DTSTAMP:20260425T050420
CREATED:20260305T092956Z
LAST-MODIFIED:20260305T115115Z
UID:10019874-1774114200-1774123200@xn--knigstein-erleben-zzb.de
SUMMARY:True Colors - Welcome to the Shadowworld
DESCRIPTION:Willkommen in der Schattenwelt!\nAm heutigen Samstag ist der TV Schloßborn offizieller Ausrichter des Show-Events „True Colors – Welcome to the Shadowworld“ in der Sporthalle des Taunusgymnasiums Königstein. \nDie Veranstaltung ist ein professionell inszeniertes Showtheater von „kjo choreographies“\, das Bewegung\, Musik und Ausdruck zu einer starken Gesamtinszenierung verbindet. In Kooperation mit dem TV 1894 Schloßborn e.V. entsteht eine überregional ausgerichtete eindrucksvolle Show\, die sportliche Elemente und künstlerische Gestaltung auf hohem Niveau vereint. \nDie Turnerinnen des TVs sowie Gardegruppen des KV 1910 Schloßborn e.V. sind vollständig in das Showkonzept integriert und tragen aktiv zur abwechslungsreichen und hochwertigen Gestaltung des Programms bei. Darüber hinaus werden auch weitere Show- und Athletikgruppen aus Hessen auftreten. So entsteht eine Veranstaltung\, die sowohl sportlich als auch künstlerisch überzeugt und ein breites Publikum anspricht. Für den Turnverein ist es das erste Event dieser Art und der Vorstandfreut sich sehr auf die Premiere und viele Zuschauer. \n„Normalerweise würden wir dieses Event in Schloßborn stattfinden lassen\, aber die Sanierung der Mehrzweckhalle ist noch nicht abgeschlossen und so freuen wir uns\, dass wir in Königstein zu Gast sein dürfen“\, so der Vorstand des Turnvereins. \nEinlass ist um 17.00 Uhr\, Showbeginn um 17.30 Uhr. \nDie Karten gibt es im Vorverkauf in der Schatzinsel Schloßborn zum Preis von 22 € pro Ticket.  \n \nFoto: ©️ Marion Meyer 2026 | Design: kjo choreographies
URL:https://xn--knigstein-erleben-zzb.de/event/true-colors-welcome-to-the-shadowworld/
LOCATION:Sporthalle des Taunusgymnasiums Königstein\, Falkensteiner Straße\, 61462\, Königstein
CATEGORIES:Allgemein,Musik,Unterhaltung
ATTACH;FMTTYPE=image/jpeg:https://xn--knigstein-erleben-zzb.de/wp-content/uploads/2026/03/IMG_6569.jpeg
ORGANIZER;CN="Turnverein 1894 Schlossborn e.V.":MAILTO:info@tv-schlossborn.de
GEO:50.1844742;8.4774907
X-APPLE-STRUCTURED-LOCATION;VALUE=URI;X-ADDRESS=Sporthalle des Taunusgymnasiums Königstein Falkensteiner Straße 61462 Königstein;X-APPLE-RADIUS=500;X-TITLE=Falkensteiner Straße:geo:8.4774907,50.1844742
END:VEVENT
END:VCALENDAR